Workbook

Sheet Rekapitulácia
A2: Rekapitulácia rozpočtu | F2: Sadzby DPH
F3: A | G3: B
A4: Stavba Oprava komunikácií a chodníkov na území mesta Vranov nad Topľou | F4: 0.2 | G4: 0
A6: Názov objektu | B6: ZRN | C6: VRN | D6: HZS | E6: Kompl.čin. | F6: Ost. náklady | G6: Cena
A7: Vranov n. T. - Úprava plochy na ul. Prešovskej - SO 01 - Úprava plochy | K7: ='SO 11652'!K98 -> 0 | Q7: 30.126
A8: Vranov n. T. - Úprava plochy na ul. Prešovskej - SO 02 - Povrchové odvodnenie | K8: ='SO 11812'!K85 -> 0 | Q8: 30.126
A9: 2 - Oprava chodníka na Sídl. II (pred ZŠ II) | K9: ='SO 11841'!K50 -> 0 | Q9: 30.126
A10: 3 - Oprava komunikácie na Dubníku | K10: ='SO 11843'!K55 -> 0 | Q10: 30.126
A11: 4- Oprava chodníka od ul. Mlynská po ul. Dobrianskeho | K11: ='SO 11845'!K50 -> 0 | Q11: 30.126
A12: 5 - Oprava chodníka pri BD G | K12: ='SO 11847'!K46 -> 0 | Q12: 30.126
A13: 6 - Oprava chodníka na ul. M. R. Štefánika | K13: ='SO 11849'!K48 -> 0 | Q13: 30.126
A14: 7 - Oprava chodníka na ul. Dr. C. Daxnera | K14: ='SO 11851'!K56 -> 0 | Q14: 30.126
A15: 8 - Oprava chodníka pri RD 857 smerom k ZŠ Juh | K15: ='SO 11853'!K58 -> 0 | Q15: 30.126
A16: 9 - Oprava chodníka na ul. Viničná | K16: ='SO 11855'!K46 -> 0 | Q16: 30.126
A17: 10 - Oprava chodníka na ul. Gen. Svobodu | K17: ='SO 11857'!K46 -> 0 | Q17: 30.126
A18: 11 - Oprava komunikácie na ul. Slnečná | K18: ='SO 11859'!K46 -> 0 | Q18: 30.126
A19: 12 - Oprava chodníka pri SOU, ul. Bernolákova | K19: ='SO 11892'!K46 -> 0 | Q19: 30.126
A20: Celkom bez DPH
A21: DPH 20% z
A22: DPH 0% z
A23: Celkom

Sheet Krycí list stavby
F1: Krycí list stavby | W1: 30.126
B2: Stavba Oprava komunikácií a chodníkov na území mesta Vranov nad Topľou | G2: Miesto:
G3: Ks:
B5: Zákazka: | F5: Spracoval: Ing. Ján Halgaš | I5: Dňa | J5: 26.04.2017
B6: Odberateľ: Mesto Vranov nad Topľou | G6: IČO:
G7: DIČ:
B8: Dodávateľ: | G8: IČO:
G9: DIČ:
B10: Projektant: | G10: IČO:
G11: DIČ:
B15: A | C15: ZRN | D15: Montáž | E15: Materiál | F15: ZRN spolu | G15: B | H15: Ďalšie náklady
B16: 1 | C16: HSV | D16: ='Kryci_list 11652'!D16+'Kryci_list 11812'!D16+'Kryci_list 11841'!D16+'Kryci_list 11843'!D16+'Kryci_list 11845'!D16+'Kryci_list 11847'!D16+'Kryci_list 11849'!D16+'Kryci_list 11851'!D16+'Kryci_list 11853'!D16+'Kryci_list 11855'!D16+'Kryci_list 11857'!D16+'Kryci_list 11859'!D16+'Kryci_list 11892'!D16 -> 0 | E16: ='Kryci_list 11652'!E16+'Kryci_list 11812'!E16+'Kryci_list 11841'!E16+'Kryci_list 11843'!E16+'Kryci_list 11845'!E16+'Kryci_list 11847'!E16+'Kryci_list 11849'!E16+'Kryci_list 11851'!E16+'Kryci_list 11853'!E16+'Kryci_list 11855'!E16+'Kryci_list 11857'!E16+'Kryci_list 11859'!E16+'Kryci_list 11892'!E16 -> 0 | F16: ='Kryci_list 11652'!F16+'Kryci_list 11812'!F16+'Kryci_list 11841'!F16+'Kryci_list 11843'!F16+'Kryci_list 11845'!F16+'Kryci_list 11847'!F16+'Kryci_list 11849'!F16+'Kryci_list 11851'!F16+'Kryci_list 11853'!F16+'Kryci_list 11855'!F16+'Kryci_list 11857'!F16+'Kryci_list 11859'!F16+'Kryci_list 11892'!F16 -> 0 | G16: 6 | H16: Ostatné náklady | J16: =Rekapitulácia!F20 -> 0
B17: 2 | C17: PSV | D17: ='Kryci_list 11652'!D17+'Kryci_list 11812'!D17+'Kryci_list 11841'!D17+'Kryci_list 11843'!D17+'Kryci_list 11845'!D17+'Kryci_list 11847'!D17+'Kryci_list 11849'!D17+'Kryci_list 11851'!D17+'Kryci_list 11853'!D17+'Kryci_list 11855'!D17+'Kryci_list 11857'!D17+'Kryci_list 11859'!D17+'Kryci_list 11892'!D17 -> 0 | E17: ='Kryci_list 11652'!E17+'Kryci_list 11812'!E17+'Kryci_list 11841'!E17+'Kryci_list 11843'!E17+'Kryci_list 11845'!E17+'Kryci_list 11847'!E17+'Kryci_list 11849'!E17+'Kryci_list 11851'!E17+'Kryci_list 11853'!E17+'Kryci_list 11855'!E17+'Kryci_list 11857'!E17+'Kryci_list 11859'!E17+'Kryci_list 11892'!E17 -> 0 | F17: ='Kryci_list 11652'!F17+'Kryci_list 11812'!F17+'Kryci_list 11841'!F17+'Kryci_list 11843'!F17+'Kryci_list 11845'!F17+'Kryci_list 11847'!F17+'Kryci_list 11849'!F17+'Kryci_list 11851'!F17+'Kryci_list 11853'!F17+'Kryci_list 11855'!F17+'Kryci_list 11857'!F17+'Kryci_list 11859'!F17+'Kryci_list 11892'!F17 -> 0 | G17: 7 | H17: Kompletačná činnosť | J17: =Rekapitulácia!E20 -> 0
B18: 3 | C18: MONT | D18: ='Kryci_list 11652'!D18+'Kryci_list 11812'!D18+'Kryci_list 11841'!D18+'Kryci_list 11843'!D18+'Kryci_list 11845'!D18+'Kryci_list 11847'!D18+'Kryci_list 11849'!D18+'Kryci_list 11851'!D18+'Kryci_list 11853'!D18+'Kryci_list 11855'!D18+'Kryci_list 11857'!D18+'Kryci_list 11859'!D18+'Kryci_list 11892'!D18 -> 0 | E18: ='Kryci_list 11652'!E18+'Kryci_list 11812'!E18+'Kryci_list 11841'!E18+'Kryci_list 11843'!E18+'Kryci_list 11845'!E18+'Kryci_list 11847'!E18+'Kryci_list 11849'!E18+'Kryci_list 11851'!E18+'Kryci_list 11853'!E18+'Kryci_list 11855'!E18+'Kryci_list 11857'!E18+'Kryci_list 11859'!E18+'Kryci_list 11892'!E18 -> 0 | F18: ='Kryci_list 11652'!F18+'Kryci_list 11812'!F18+'Kryci_list 11841'!F18+'Kryci_list 11843'!F18+'Kryci_list 11845'!F18+'Kryci_list 11847'!F18+'Kryci_list 11849'!F18+'Kryci_list 11851'!F18+'Kryci_list 11853'!F18+'Kryci_list 11855'!F18+'Kryci_list 11857'!F18+'Kryci_list 11859'!F18+'Kryci_list 11892'!F18 -> 0 | G18: 8 | H18: HZS | J18: =Rekapitulácia!D20 -> 0
B19: 4 | G19: 9
B20: 5 | C20: Spolu | F20: =SUM(F16:F19) -> 0 | G20: 10 | H20: Spolu | J20: =SUM(J16:J19) -> 0
B21: C | C21: VRN | G21: D | H21: VRN
B22: 11 | C22: Zariadenie staveniska | F22: ='Kryci_list 11652'!F22+'Kryci_list 11812'!F22+'Kryci_list 11841'!F22+'Kryci_list 11843'!F22+'Kryci_list 11845'!F22+'Kryci_list 11847'!F22+'Kryci_list 11849'!F22+'Kryci_list 11851'!F22+'Kryci_list 11853'!F22+'Kryci_list 11855'!F22+'Kryci_list 11857'!F22+'Kryci_list 11859'!F22+'Kryci_list 11892'!F22 -> 0 | G22: 16 | H22: Mimoriadne sťaž.podmienky | J22: ='Kryci_list 11652'!J22+'Kryci_list 11812'!J22+'Kryci_list 11841'!J22+'Kryci_list 11843'!J22+'Kryci_list 11845'!J22+'Kryci_list 11847'!J22+'Kryci_list 11849'!J22+'Kryci_list 11851'!J22+'Kryci_list 11853'!J22+'Kryci_list 11855'!J22+'Kryci_list 11857'!J22+'Kryci_list 11859'!J22+'Kryci_list 11892'!J22 -> 0
B23: 12 | C23: Územie so sťaž. podmienk. | F23: ='Kryci_list 11652'!F23+'Kryci_list 11812'!F23+'Kryci_list 11841'!F23+'Kryci_list 11843'!F23+'Kryci_list 11845'!F23+'Kryci_list 11847'!F23+'Kryci_list 11849'!F23+'Kryci_list 11851'!F23+'Kryci_list 11853'!F23+'Kryci_list 11855'!F23+'Kryci_list 11857'!F23+'Kryci_list 11859'!F23+'Kryci_list 11892'!F23 -> 0 | G23: 17 | H23: Horské oblasti | J23: ='Kryci_list 11652'!J23+'Kryci_list 11812'!J23+'Kryci_list 11841'!J23+'Kryci_list 11843'!J23+'Kryci_list 11845'!J23+'Kryci_list 11847'!J23+'Kryci_list 11849'!J23+'Kryci_list 11851'!J23+'Kryci_list 11853'!J23+'Kryci_list 11855'!J23+'Kryci_list 11857'!J23+'Kryci_list 11859'!J23+'Kryci_list 11892'!J23 -> 0
B24: 13 | C24: Prevádzkové vplyvy | F24: ='Kryci_list 11652'!F24+'Kryci_list 11812'!F24+'Kryci_list 11841'!F24+'Kryci_list 11843'!F24+'Kryci_list 11845'!F24+'Kryci_list 11847'!F24+'Kryci_list 11849'!F24+'Kryci_list 11851'!F24+'Kryci_list 11853'!F24+'Kryci_list 11855'!F24+'Kryci_list 11857'!F24+'Kryci_list 11859'!F24+'Kryci_list 11892'!F24 -> 0 | G24: 18 | H24: Mimostavenisková doprava | J24: ='Kryci_list 11652'!J24+'Kryci_list 11812'!J24+'Kryci_list 11841'!J24+'Kryci_list 11843'!J24+'Kryci_list 11845'!J24+'Kryci_list 11847'!J24+'Kryci_list 11849'!J24+'Kryci_list 11851'!J24+'Kryci_list 11853'!J24+'Kryci_list 11855'!J24+'Kryci_list 11857'!J24+'Kryci_list 11859'!J24+'Kryci_list 11892'!J24 -> 0
B25: 14 | G25: 19
B26: 15 | G26: 20 | H26: Spolu | J26: =SUM(J22:J25)+SUM(F22:F25) -> 0
C27: Projektant,rozpočtár | G27: E | H27: Celkové náklady
G28: 21 | H28: Súčet riadkov 5,10,15,20 | J28: =F20+J20+F26+J26 -> 0
G29: 22 | H29: DPH 20% z | I29: =Rekapitulácia!B21 -> 0 | J29: =ROUND(((ROUND(I29,2)*20)/100),2)*1 -> 0
G30: 23 | H30: DPH 0% z | I30: =Rekapitulácia!B22 -> 0 | J30: =ROUND(((ROUND(I30,2)*0)/100),2) -> 0
G31: 24 | H31: Spolu | J31: =SUM(J28:J30) -> 0
G32: F
D33: Odberateľ | H33: Dodávateľ

Sheet Kryci_list 11652
F1: Krycí list rozpočtu | W1: 30.126
B2: Stavba Oprava komunikácií a chodníkov na území mesta Vranov nad Topľou | G2: Miesto:
B3: Objekt Vranov n. T. - Úprava plochy na ul. Prešovskej - SO 01 - Úprava plochy
I4: Ks:
B5: Zákazka: | F5: Spracoval: Ing. Ján Halgaš | I5: Dňa | J5: 26.04.2017
B6: Odberateľ: Mesto Vranov nad Topľou | G6: IČO:
G7: DIČ:
B8: Dodávateľ: | G8: IČO:
G9: DIČ:
B10: Projektant: | G10: IČO:
G11: DIČ:
B15: A | C15: ZRN | D15: Montáž | E15: Materiál | F15: ZRN spolu | G15: B | H15: Ďalšie náklady
B16: 1 | C16: HSV | D16: ='Rekap 11652'!B18 -> 0 | E16: ='Rekap 11652'!C18 -> 0 | F16: ='Rekap 11652'!D18 -> 0 | G16: 6 | H16: Ostatné náklady | J16: 0
B17: 2 | C17: PSV | G17: 7 | H17: Kompletačná činnosť | J17: ='SO 11652'!Z98 -> 0
B18: 3 | C18: MONT | G18: 8 | H18: HZS | J18: 0
B19: 4 | G19: 9
B20: 5 | C20: Spolu | F20: =SUM(F16:F19) -> 0 | G20: 10 | H20: Spolu | J20: =SUM(J16:J19) -> 0
B21: C | C21: VRN | G21: D | H21: VRN
B22: 11 | C22: Zariadenie staveniska | E22: 0% z [H+P+M] | F22: =((F16*U22*0)+(F17*V22*0)+(F18*W22*0))/100 -> 0 | G22: 16 | H22: Mimoriadne sťaž.podmienky | I22: 0% z [H+P+M] | J22: =((F16*X22*0)+(F17*Y22*0)+(F18*Z22*0))/100 -> 0 | U22: 1 | V22: 1 | W22: 1 | X22: 1 | Y22: 1 | Z22: 1
B23: 12 | C23: Územie so sťaž. podmienk. | E23: 0% z [H+P] | F23: =((F16*U23*0)+(F17*V23*0)+(F18*W23*0))/100 -> 0 | G23: 17 | H23: Horské oblasti | I23: 0% z [H+P+M] | J23: =((F16*X23*0)+(F17*Y23*0)+(F18*Z23*0))/100 -> 0 | U23: 1 | V23: 1 | W23: 0 | X23: 1 | Y23: 1 | Z23: 1
B24: 13 | C24: Prevádzkové vplyvy | E24: 0% z [H+P+M] | F24: =((F16*U24*0)+(F17*V24*0)+(F18*W24*0))/100 -> 0 | G24: 18 | H24: Mimostavenisková doprava | I24: 0% z [H+P] | J24: =((F16*X24*0)+(F17*Y24*0)+(F18*Z24*0))/100 -> 0 | U24: 1 | V24: 1 | W24: 1 | X24: 1 | Y24: 1 | Z24: 0
B25: 14 | G25: 19
B26: 15 | G26: 20 | H26: Spolu | J26: =SUM(J22:J25)+SUM(F22:F25) -> 0
C27: Projektant,rozpočtár | G27: E | H27: Celkové náklady
G28: 21 | H28: Súčet riadkov 5,10,15,20 | J28: =F20+J20+F26+J26 -> 0
G29: 22 | H29: DPH 20% z | I29: =J28-SUM('SO 11652'!K9:'SO 11652'!K97) -> 0 | J29: =ROUND(((ROUND(I29,2)*20)*1/100),2) -> 0
G30: 23 | H30: DPH 0% z | I30: =SUM('SO 11652'!K9:'SO 11652'!K97) -> 0 | J30: =ROUND(((ROUND(I30,2)*0)/100),2) -> 0
G31: 24 | H31: Spolu | J31: =SUM(J28:J30) -> 0
G32: F
D33: Odberateľ | G33: 26 | H33: Dodávateľ

Sheet Rekap 11652
A1: Odberateľ: Mesto Vranov nad Topľou | D1: Spracoval: Ing. Ján Halgaš | W1: 30.126
A2: Projektant: | D2: Ks:
A3: Dodávateľ: | D3: Dátum: 26.04.2017
A4: Stavba Oprava komunikácií a chodníkov na území mesta Vranov nad Topľou
A5: Objekt Vranov n. T. - Úprava plochy na ul. Prešovskej - SO 01 - Úprava plochy
A8: Prehľad rozpočtových nákladov
A9: Oddiel | B9: Montáž | C9: Materiál | D9: Spolu | E9: Hmotnosť (T) | F9: Suť (T)
A10: Práce HSV
A11: ZEMNÉ PRÁCE | B11: ='SO 11652'!L31 -> 0 | C11: ='SO 11652'!M31 -> 0 | D11: ='SO 11652'!I31 -> 0 | E11: ='SO 11652'!P31 -> 0 | F11: ='SO 11652'!S31 -> 413.32
A12: ZÁKLADY | B12: ='SO 11652'!L36 -> 0 | C12: ='SO 11652'!M36 -> 0 | D12: ='SO 11652'!I36 -> 0 | E12: ='SO 11652'!P36 -> 15.86 | F12: ='SO 11652'!S36 -> 0
A13: SPEVNENÉ PLOCHY | B13: ='SO 11652'!L57 -> 0 | C13: ='SO 11652'!M57 -> 0 | D13: ='SO 11652'!I57 -> 0 | E13: ='SO 11652'!P57 -> 554.96 | F13: ='SO 11652'!S57 -> 0
A14: POVRCHOVÉ ÚPRAVY | B14: ='SO 11652'!L61 -> 0 | C14: ='SO 11652'!M61 -> 0 | D14: ='SO 11652'!I61 -> 0 | E14: ='SO 11652'!P61 -> 7.35 | F14: ='SO 11652'!S61 -> 0
A15: POTRUBNÉ ROZVODY | B15: ='SO 11652'!L65 -> 0 | C15: ='SO 11652'!M65 -> 0 | D15: ='SO 11652'!I65 -> 0 | E15: ='SO 11652'!P65 -> 1.29 | F15: ='SO 11652'!S65 -> 0
A16: OSTATNÉ PRÁCE | B16: ='SO 11652'!L91 -> 0 | C16: ='SO 11652'!M91 -> 0 | D16: ='SO 11652'!I91 -> 0 | E16: ='SO 11652'!P91 -> 39.14 | F16: ='SO 11652'!S91 -> 0
A17: PRESUNY HMÔT | B17: ='SO 11652'!L95 -> 0 | C17: ='SO 11652'!M95 -> 0 | D17: ='SO 11652'!I95 -> 0 | E17: ='SO 11652'!P95 -> 0 | F17: ='SO 11652'!S95 -> 0
A18: Práce HSV | B18: ='SO 11652'!L97 -> 0 | C18: ='SO 11652'!M97 -> 0 | D18: ='SO 11652'!I97 -> 0 | E18: ='SO 11652'!P97 -> 618.6 | F18: ='SO 11652'!S97 -> 413.32
A20: Celkom | B20: ='SO 11652'!L98 -> 0 | C20: ='SO 11652'!M98 -> 0 | D20: ='SO 11652'!I98 -> 0 | E20: ='SO 11652'!P98 -> 618.6 | F20: ='SO 11652'!S98 -> 413.32

Sheet SO 11652
B1: Odberateľ: Mesto Vranov nad Topľou | E1: Spracoval: Ing. Ján Halgaš | W1: 30.126
B2: Projektant: | E2: Ks:
B3: Dodávateľ: | E3: Dátum: 26.04.2017
B4: Stavba Oprava komunikácií a chodníkov na území mesta Vranov nad Topľou
B5: Objekt Vranov n. T. - Úprava plochy na ul. Prešovskej - SO 01 - Úprava plochy
B7: Prehľad rozpočtových nákladov
A8: Por.č. | B8: Cenník | C8: Kód položky | D8: Názov | E8: Mj | F8: Množstvo | G8: Cena/Mj | H8: Materiál | I8: Cena celkom | P8: Hmotnosť | S8: Suť
D9: Práce HSV
D10: ZEMNÉ PRÁCE
B11: 221/B 1 | C11: 113107111 | D11: Odstránenie podkladu alebo krytu v ploche do 200m2 z kameniva ťaženého, hr. do 100 mm, 0,160 t | E11: m2 | F11: 50 | J11: =ROUND(F11*(N11),2) -> 82 | K11: =ROUND(F11*(O11),2) -> 0 | L11: =ROUND(F11*(G11),2) -> 0 | N11: 1.64 | S11: =ROUND(F11*(X11),3) -> 8 | X11: 0.16 | Z11: 0
B12: 221/B 1 | C12: 113107131 | D12: Odstránenie podkladu alebo krytu do 200 m2 z betónu prostého, hr. vrstvy do 150 mm 0,225 t | E12: m2 | F12: 20 | J12: =ROUND(F12*(N12),2) -> 277.6 | K12: =ROUND(F12*(O12),2) -> 0 | L12: =ROUND(F12*(G12),2) -> 0 | N12: 13.88 | S12: =ROUND(F12*(X12),3) -> 4.5 | X12: 0.225 | Z12: 0
B13: 221/B 1 | C13: 113107225 | D13: Odstránenie krytu v ploche nad 200 m2 z kameniva hrubého drveného, hr. 400 do 500mm, -0,72000t | E13: m2 | F13: 490 | J13: =ROUND(F13*(N13),2) -> 1112.3 | K13: =ROUND(F13*(O13),2) -> 0 | L13: =ROUND(F13*(G13),2) -> 0 | N13: 2.27 | S13: =ROUND(F13*(X13),3) -> 352.8 | X13: 0.72 | Z13: 0
B14: 221/B 1 | C14: 113107241 | D14: Odstránenie podkladu alebo krytu nad 200 m2 asfaltového, hr. vrstvy do 50 mm 0,098 t | E14: m2 | F14: 490 | J14: =ROUND(F14*(N14),2) -> 343 | K14: =ROUND(F14*(O14),2) -> 0 | L14: =ROUND(F14*(G14),2) -> 0 | N14: 0.7 | S14: =ROUND(F14*(X14),3) -> 48.02 | X14: 0.098 | Z14: 0
B15: 221/B 1 | C15: 113204111 | D15: Vytrhanie obrúb, s vybúraním lôžka, záhonových 0,040 t | E15: m | F15: 14 | J15: =ROUND(F15*(N15),2) -> 12.6 | K15: =ROUND(F15*(O15),2) -> 0 | L15: =ROUND(F15*(G15),2) -> 0 | N15: 0.9 | Z15: 0
B16: 1/A 1 | C16: 122101401 | D16: Výkop v zemníku na suchu v horninách 1-2,do 100 m3 | E16: m3 | F16: 9.6 | J16: =ROUND(F16*(N16),2) -> 15.36 | K16: =ROUND(F16*(O16),2) -> 0 | L16: =ROUND(F16*(G16),2) -> 0 | N16: 1.6 | Z16: 0
B17: 1/A 2 | C17: 122202202 | D17: Odkopávka a prekopávka nezapažená pre cesty, v hornine 3 nad 100 do 1000 m3 | E17: m3 | F17: 171.4 | J17: =ROUND(F17*(N17),2) -> 359.94 | K17: =ROUND(F17*(O17),2) -> 0 | L17: =ROUND(F17*(G17),2) -> 0 | N17: 2.1 | Z17: 0
B18: 1/A 2 | C18: 122202209 | D18: Príplatok za lepivosť horniny 3 | E18: m3 | F18: 171.4 | J18: =ROUND(F18*(N18),2) -> 109.7 | K18: =ROUND(F18*(O18),2) -> 0 | L18: =ROUND(F18*(G18),2) -> 0 | N18: 0.64 | Z18: 0
B19: 1/A 1 | C19: 132201101 | D19: Výkop ryhy do šírky 600 mm v horn.3 do 100 m3 | E19: m3 | F19: 11.8 | J19: =ROUND(F19*(N19),2) -> 208.15 | K19: =ROUND(F19*(O19),2) -> 0 | L19: =ROUND(F19*(G19),2) -> 0 | N19: 17.64 | Z19: 0
B20: 1/A 1 | C20: 132201109 | D20: Príplatok k cene za lepivosť horniny 3 | E20: m3 | F20: 11.8 | J20: =ROUND(F20*(N20),2) -> 58.76 | K20: =ROUND(F20*(O20),2) -> 0 | L20: =ROUND(F20*(G20),2) -> 0 | N20: 4.98 | Z20: 0
B21: 1/A 1 | C21: 133201101 | D21: Výkop šachty hornina 3 do 100 m3 | E21: m3 | F21: 4 | J21: =ROUND(F21*(N21),2) -> 107.36 | K21: =ROUND(F21*(O21),2) -> 0 | L21: =ROUND(F21*(G21),2) -> 0 | N21: 26.84 | Z21: 0
B22: 1/A 1 | C22: 133201109 | D22: Príplatok k cenám za lepivosť horniny | E22: m3 | F22: 4 | J22: =ROUND(F22*(N22),2) -> 14.68 | K22: =ROUND(F22*(O22),2) -> 0 | L22: =ROUND(F22*(G22),2) -> 0 | N22: 3.67 | Z22: 0
B23: 1/A 1 | C23: 162601102 | D23: Vodorovné premiestnenie výkopku tr.1-4 do 5000 m | E23: M3 | F23: 196.8 | J23: =ROUND(F23*(N23),2) -> 840.34 | K23: =ROUND(F23*(O23),2) -> 0 | L23: =ROUND(F23*(G23),2) -> 0 | N23: 4.27 | Z23: 0
B24: 1/A 1 | C24: 171201202 | D24: Uloženie sypaniny na skládky nad 100 do 1000 m3 | E24: m3 | F24: 187.2 | J24: =ROUND(F24*(N24),2) -> 106.7 | K24: =ROUND(F24*(O24),2) -> 0 | L24: =ROUND(F24*(G24),2) -> 0 | N24: 0.57 | Z24: 0
B25: 231/A 2 | C25: 180402111 | D25: Založenie trávnika parkového výsevom v rovine alebo na svahu do 1:5 | E25: m2 | F25: 96 | J25: =ROUND(F25*(N25),2) -> 48.96 | K25: =ROUND(F25*(O25),2) -> 0 | L25: =ROUND(F25*(G25),2) -> 0 | N25: 0.51 | Z25: 0
B26: 1/A 1 | C26: 181101101 | D26: Úprava pláne v zárezoch v hornine 1-4 bez zhutnenia | E26: m2 | F26: 96 | J26: =ROUND(F26*(N26),2) -> 17.28 | K26: =ROUND(F26*(O26),2) -> 0 | L26: =ROUND(F26*(G26),2) -> 0 | N26: 0.18 | Z26: 0
... B29: 231/A 2 | C29: 183403153 | D29: Obrobenie pôdy hrabaním v rovine alebo na svahu do 1:5 | E29: m2 | F29: 96 | J29: =ROUND(F29*(N29),2) -> 9.6 | K29: =ROUND(F29*(O29),2) -> 0 | L29: =ROUND(F29*(G29),2) -> 0 | N29: 0.1 | Z29: 0
B30: P/PE | C30: 005724100 | D30: Zmes trávna parková rekreačná | E30: kg | F30: 3.024 | J30: =ROUND(F30*(N30),2) -> 24.13 | K30: =ROUND(F30*(O30),2) -> 0 | M30: =ROUND(F30*(H30),2) -> 0 | N30: 7.98 | Z30: 0
D31: ZEMNÉ PRÁCE | L31: =ROUND((SUM(L10:L30))/1,2) -> 0 | M31: =ROUND((SUM(M10:M30))/1,2) -> 0 | P31: =ROUND((SUM(P10:P30))/1,2) -> 0 | S31: =ROUND((SUM(S10:S30))/1,2) -> 413.32
D33: ZÁKLADY
B34: 271/A 1 | C34: 212752127 | D34: Trativody z flexodrenážnych rúr DN 160 so štrk. lôžkom a obsypom | E34: m | F34: 59 | J34: =ROUND(F34*(N34),2) -> 430.11 | K34: =ROUND(F34*(O34),2) -> 0 | L34: =ROUND(F34*(G34),2) -> 0 | N34: 7.29 | P34: =ROUND(F34*(R34),3) -> 15.816 | R34: 0.26806 | Z34: 0
B35: S/S20 | C35: 2861121650 | D35: Rúrka flexodrenážna PVC D 160 mm | E35: m | F35: 59 | J35: =ROUND(F35*(N35),2) -> 191.75 | K35: =ROUND(F35*(O35),2) -> 0 | M35: =ROUND(F35*(H35),2) -> 0 | N35: 3.25 | P35: =ROUND(F35*(R35),3) -> 0.048 | R35: 0.00082 | Z35: 0
D36: ZÁKLADY | L36: =ROUND((SUM(L33:L35))/1,2) -> 0 | M36: =ROUND((SUM(M33:M35))/1,2) -> 0 | P36: =ROUND((SUM(P33:P35))/1,2) -> 15.86 | S36: =ROUND((SUM(S33:S35))/1,2) -> 0
D38: SPEVNENÉ PLOCHY
B39: 221/A 1 | C39: 564241111 | D39: Podklad zo štrkopiesku hrúbky 120 mm | E39: m2 | F39: 227 | J39: =ROUND(F39*(N39),2) -> 458.54 | K39: =ROUND(F39*(O39),2) -> 0 | L39: =ROUND(F39*(G39),2) -> 0 | N39: 2.02 | P39: =ROUND(F39*(R39),3) -> 55.134 | R39: 0.24288 | Z39: 0
B40: 221/A 1 | C40: 564251112 | D40: Podklad zo štrkopiesku hrúbky 160 mm | E40: m2 | F40: 170.5 | J40: =ROUND(F40*(N40),2) -> 445.01 | K40: =ROUND(F40*(O40),2) -> 0 | L40: =ROUND(F40*(G40),2) -> 0 | N40: 2.61 | P40: =ROUND(F40*(R40),3) -> 55.216 | R40: 0.32385 | Z40: 0
B41: 221/A 1 | C41: 564251115 | D41: Podklad zo štrkopiesku hrúbky 190 mm | E41: m2 | F41: 180 | J41: =ROUND(F41*(N41),2) -> 549 | K41: =ROUND(F41*(O41),2) -> 0 | L41: =ROUND(F41*(G41),2) -> 0 | N41: 3.05 | P41: =ROUND(F41*(R41),3) -> 69.223 | R41: 0.38457 | Z41: 0
B42: 221/A 1 | C42: 564271111 | D42: Podklad alebo podsyp zo štrkopiesku s rozprestretím, vlhčením a zhutnením po zhutnení hr.250 mm | E42: m2 | F42: 78 | J42: =ROUND(F42*(N42),2) -> 305.76 | K42: =ROUND(F42*(O42),2) -> 0 | L42: =ROUND(F42*(G42),2) -> 0 | N42: 3.92 | P42: =ROUND(F42*(R42),3) -> 39.469 | R42: 0.50601 | Z42: 0
B43: 221/A 1 | C43: 564861111 | D43: Podklad zo štrkodrviny s rozprestrením a zhutnením,hr.po zhutnení 200 mm | E43: m2 | F43: 350.5 | J43: =ROUND(F43*(N43),2) -> 1465.09 | K43: =ROUND(F43*(O43),2) -> 0 | L43: =ROUND(F43*(G43),2) -> 0 | N43: 4.18 | P43: =ROUND(F43*(R43),3) -> 129.965 | R43: 0.3708 | Z43: 0
B44: 221/A 1 | C44: 567141114 | D44: Podklad z betónu prostého triedy C25/30 hrúbky 240 mm | E44: m2 | F44: 78 | J44: =ROUND(F44*(N44),2) -> 1315.86 | K44: =ROUND(F44*(O44),2) -> 0 | L44: =ROUND(F44*(G44),2) -> 0 | N44: 16.87 | P44: =ROUND(F44*(R44),3) -> 39.191 | R44: 0.50245 | Z44: 0
B45: 221/A 1 | C45: 573211111 | D45: Postrek asfaltový spojovací bez posypu kamenivom z asfaltu cestného v množstve od 0,50 do 0,70 kg/m2 | E45: m2 | F45: 438 | J45: =ROUND(F45*(N45),2) -> 91.98 | K45: =ROUND(F45*(O45),2) -> 0 | L45: =ROUND(F45*(G45),2) -> 0 | N45: 0.21 | P45: =ROUND(F45*(R45),3) -> 0.267 | R45: 0.00061 | Z45: 0
...

Sheet Kryci_list 11812
F1: Krycí list rozpočtu | W1: 30.126
B2: Stavba Oprava komunikácií a chodníkov na území mesta Vranov nad Topľou | G2: Miesto:
B3: Objekt Vranov n. T. - Úprava plochy na ul. Prešovskej - SO 02 - Povrchové odvodnenie
I4: Ks:
B5: Zákazka: | F5: Spracoval: Ing. Ján Halgaš | I5: Dňa | J5: 26.04.2017
B6: Odberateľ: Mesto Vranov nad Topľou | G6: IČO:
G7: DIČ:
B8: Dodávateľ: | G8: IČO:
G9: DIČ:
B10: Projektant: | G10: IČO:
G11: DIČ:
B15: A | C15: ZRN | D15: Montáž | E15: Materiál | F15: ZRN spolu | G15: B | H15: Ďalšie náklady
B16: 1 | C16: HSV | D16: ='Rekap 11812'!B18 -> 0 | E16: ='Rekap 11812'!C18 -> 0 | F16: ='Rekap 11812'!D18 -> 0 | G16: 6 | H16: Ostatné náklady | J16: 0
B17: 2 | C17: PSV | G17: 7 | H17: Kompletačná činnosť | J17: ='SO 11812'!Z85 -> 0
B18: 3 | C18: MONT | G18: 8 | H18: HZS | J18: 0
B19: 4 | G19: 9
B20: 5 | C20: Spolu | F20: =SUM(F16:F19) -> 0 | G20: 10 | H20: Spolu | J20: =SUM(J16:J19) -> 0
B21: C | C21: VRN | G21: D | H21: VRN
B22: 11 | C22: Zariadenie staveniska | E22: 0% z [H+P+M] | F22: =((F16*U22*0)+(F17*V22*0)+(F18*W22*0))/100 -> 0 | G22: 16 | H22: Mimoriadne sťaž.podmienky | I22: 0% z [H+P+M] | J22: =((F16*X22*0)+(F17*Y22*0)+(F18*Z22*0))/100 -> 0 | U22: 1 | V22: 1 | W22: 1 | X22: 1 | Y22: 1 | Z22: 1
B23: 12 | C23: Územie so sťaž. podmienk. | E23: 0% z [H+P] | F23: =((F16*U23*0)+(F17*V23*0)+(F18*W23*0))/100 -> 0 | G23: 17 | H23: Horské oblasti | I23: 0% z [H+P+M] | J23: =((F16*X23*0)+(F17*Y23*0)+(F18*Z23*0))/100 -> 0 | U23: 1 | V23: 1 | W23: 0 | X23: 1 | Y23: 1 | Z23: 1
B24: 13 | C24: Prevádzkové vplyvy | E24: 0% z [H+P+M] | F24: =((F16*U24*0)+(F17*V24*0)+(F18*W24*0))/100 -> 0 | G24: 18 | H24: Mimostavenisková doprava | I24: 0% z [H+P] | J24: =((F16*X24*0)+(F17*Y24*0)+(F18*Z24*0))/100 -> 0 | U24: 1 | V24: 1 | W24: 1 | X24: 1 | Y24: 1 | Z24: 0
B25: 14 | G25: 19
B26: 15 | G26: 20 | H26: Spolu | J26: =SUM(J22:J25)+SUM(F22:F25) -> 0
C27: Projektant,rozpočtár | G27: E | H27: Celkové náklady
G28: 21 | H28: Súčet riadkov 5,10,15,20 | J28: =F20+J20+F26+J26 -> 0
G29: 22 | H29: DPH 20% z | I29: =J28-SUM('SO 11812'!K9:'SO 11812'!K84) -> 0 | J29: =ROUND(((ROUND(I29,2)*20)*1/100),2) -> 0
G30: 23 | H30: DPH 0% z | I30: =SUM('SO 11812'!K9:'SO 11812'!K84) -> 0 | J30: =ROUND(((ROUND(I30,2)*0)/100),2) -> 0
G31: 24 | H31: Spolu | J31: =SUM(J28:J30) -> 0
G32: F
D33: Odberateľ | G33: 26 | H33: Dodávateľ

Sheet Rekap 11812
A1: Odberateľ: Mesto Vranov nad Topľou | D1: Spracoval: Ing. Ján Halgaš | W1: 30.126
A2: Projektant: | D2: Ks:
A3: Dodávateľ: | D3: Dátum: 26.04.2017
A4: Stavba Oprava komunikácií a chodníkov na území mesta Vranov nad Topľou
A5: Objekt Vranov n. T. - Úprava plochy na ul. Prešovskej - SO 02 - Povrchové odvodnenie
A8: Prehľad rozpočtových nákladov
A9: Oddiel | B9: Montáž | C9: Materiál | D9: Spolu | E9: Hmotnosť (T) | F9: Suť (T)
A10: Práce HSV
A11: ZEMNÉ PRÁCE | B11: ='SO 11812'!L23 -> 0 | C11: ='SO 11812'!M23 -> 0 | D11: ='SO 11812'!I23 -> 0 | E11: ='SO 11812'!P23 -> 1.18 | F11: ='SO 11812'!S23 -> 43.38
A12: VODOROVNÉ KONŠTRUKCIE | B12: ='SO 11812'!L29 -> 0 | C12: ='SO 11812'!M29 -> 0 | D12: ='SO 11812'!I29 -> 0 | E12: ='SO 11812'!P29 -> 67.67 | F12: ='SO 11812'!S29 -> 0
A13: SPEVNENÉ PLOCHY | B13: ='SO 11812'!L34 -> 0 | C13: ='SO 11812'!M34 -> 0 | D13: ='SO 11812'!I34 -> 0 | E13: ='SO 11812'!P34 -> 66.44 | F13: ='SO 11812'!S34 -> 0
A14: POVRCHOVÉ ÚPRAVY | B14: ='SO 11812'!L38 -> 0 | C14: ='SO 11812'!M38 -> 0 | D14: ='SO 11812'!I38 -> 0 | E14: ='SO 11812'!P38 -> 328.58 | F14: ='SO 11812'!S38 -> 0
A15: POTRUBNÉ ROZVODY | B15: ='SO 11812'!L71 -> 0 | C15: ='SO 11812'!M71 -> 0 | D15: ='SO 11812'!I71 -> 0 | E15: ='SO 11812'!P71 -> 15.09 | F15: ='SO 11812'!S71 -> 0
A16: OSTATNÉ PRÁCE | B16: ='SO 11812'!L78 -> 0 | C16: ='SO 11812'!M78 -> 0 | D16: ='SO 11812'!I78 -> 0 | E16: ='SO 11812'!P78 -> 0.01 | F16: ='SO 11812'!S78 -> 0
A17: PRESUNY HMÔT | B17: ='SO 11812'!L82 -> 0 | C17: ='SO 11812'!M82 -> 0 | D17: ='SO 11812'!I82 -> 0 | E17: ='SO 11812'!P82 -> 0 | F17: ='SO 11812'!S82 -> 0
A18: Práce HSV | B18: ='SO 11812'!L84 -> 0 | C18: ='SO 11812'!M84 -> 0 | D18: ='SO 11812'!I84 -> 0 | E18: ='SO 11812'!P84 -> 478.97 | F18: ='SO 11812'!S84 -> 43.38
A20: Celkom | B20: ='SO 11812'!L85 -> 0 | C20: ='SO 11812'!M85 -> 0 | D20: ='SO 11812'!I85 -> 0 | E20: ='SO 11812'!P85 -> 478.97 | F20: ='SO 11812'!S85 -> 43.38

Sheet SO 11812
B1: Odberateľ: Mesto Vranov nad Topľou | E1: Spracoval: Ing. Ján Halgaš | W1: 30.126
B2: Projektant: | E2: Ks:
B3: Dodávateľ: | E3: Dátum: 26.04.2017
B4: Stavba Oprava komunikácií a chodníkov na území mesta Vranov nad Topľou
B5: Objekt Vranov n. T. - Úprava plochy na ul. Prešovskej - SO 02 - Povrchové odvodnenie
B7: Prehľad rozpočtových nákladov
A8: Por.č. | B8: Cenník | C8: Kód položky | D8: Názov | E8: Mj | F8: Množstvo | G8: Cena/Mj | H8: Materiál | I8: Cena celkom | P8: Hmotnosť | S8: Suť
D9: Práce HSV
D10: ZEMNÉ PRÁCE
B11: 221/B 1 | C11: 113107222 | D11: Odstránenie podkladu alebo krytu nad 200 m2 z kameniva hrubého drveného, hr.100 do 200 mm 0,235t | E11: m2 | F11: 119.9 | J11: =ROUND(F11*(N11),2) -> 104.31 | K11: =ROUND(F11*(O11),2) -> 0 | L11: =ROUND(F11*(G11),2) -> 0 | N11: 0.87 | S11: =ROUND(F11*(X11),3) -> 28.177 | X11: 0.235 | Z11: 0
B12: 221/B 1 | C12: 113107241 | D12: Odstránenie podkladu alebo krytu nad 200 m2 asfaltového, hr. vrstvy do 50 mm 0,098 t | E12: m2 | F12: 75.9 | J12: =ROUND(F12*(N12),2) -> 53.13 | K12: =ROUND(F12*(O12),2) -> 0 | L12: =ROUND(F12*(G12),2) -> 0 | N12: 0.7 | S12: =ROUND(F12*(X12),3) -> 7.438 | X12: 0.098 | Z12: 0
B13: 221/B 1 | C13: 113107242 | D13: Odstránenie podkladu alebo krytu asfaltového nad 200 m2,hr.nad 50 do 100 mm 0,181 t | E13: m2 | F13: 42.9 | J13: =ROUND(F13*(N13),2) -> 42.04 | K13: =ROUND(F13*(O13),2) -> 0 | L13: =ROUND(F13*(G13),2) -> 0 | N13: 0.98 | S13: =ROUND(F13*(X13),3) -> 7.765 | X13: 0.181 | Z13: 0
B14: 1/A 1 | C14: 132201202 | D14: Výkop ryhy šírky 600-2000mm horn.3 od 100 do 1000 m3 | E14: m3 | F14: 232.414 | J14: =ROUND(F14*(N14),2) -> 1447.94 | K14: =ROUND(F14*(O14),2) -> 0 | L14: =ROUND(F14*(G14),2) -> 0 | N14: 6.23 | Z14: 0
B15: 1/A 1 | C15: 132201209 | D15: Príplatok k cenám za lepivosť horniny 3 | E15: m3 | F15: 232.841 | J15: =ROUND(F15*(N15),2) -> 144.36 | K15: =ROUND(F15*(O15),2) -> 0 | L15: =ROUND(F15*(G15),2) -> 0 | N15: 0.62 | Z15: 0
B16: 1/A 1 | C16: 141701102 | D16: Pretláčanie rúry v hor. tr. 1-4 vonkajšieho priemeru nad 200 do 500 mm | E16: m | F16: 8 | J16: =ROUND(F16*(N16),2) -> 2469.68 | K16: =ROUND(F16*(O16),2) -> 0 | L16: =ROUND(F16*(G16),2) -> 0 | N16: 308.71 | P16: =ROUND(F16*(R16),3) -> 0.14 | R16: 0.0175 | Z16: 0
B17: S/S10 | C17: 1433313800 | D17: Rúrky oceľové bezošve rozšírované 11353.1 508x10 mm | E17: m | F17: 8 | J17: =ROUND(F17*(N17),2) -> 416.88 | K17: =ROUND(F17*(O17),2) -> 0 | M17: =ROUND(F17*(H17),2) -> 0 | N17: 52.11 | P17: =ROUND(F17*(R17),3) -> 0.84 | R17: 0.105 | Z17: 0
B18: 1/A 1 | C18: 151101101 | D18: Paženie a rozopretie stien rýh pre podzemné vedenie,príložné do 2 m | E18: m2 | F18: 236.082 | J18: =ROUND(F18*(N18),2) -> 618.53 | K18: =ROUND(F18*(O18),2) -> 0 | L18: =ROUND(F18*(G18),2) -> 0 | N18: 2.62 | P18: =ROUND(F18*(R18),3) -> 0.201 | R18: 0.00085 | Z18: 0
B19: 1/A 1 | C19: 151101111 | D19: Odstránenie paženia rýh pre podzemné vedenie,príložné hľbky do 2 m | E19: m2 | F19: 236.082 | J19: =ROUND(F19*(N19),2) -> 358.84 | K19: =ROUND(F19*(O19),2) -> 0 | L19: =ROUND(F19*(G19),2) -> 0 | N19: 1.52 | Z19: 0
B20: 1/A 1 | C20: 162701105 | D20: Vodorovné premiestnenie výkopku tr.1-4 do 10000 m | E20: m3 | F20: 214.617 | J20: =ROUND(F20*(N20),2) -> 1143.91 | K20: =ROUND(F20*(O20),2) -> 0 | L20: =ROUND(F20*(G20),2) -> 0 | N20: 5.33 | Z20: 0
B21: 1/A 1 | C21: 167101102 | D21: Nakladanie neuľahnutého výkopku z hornín tr.1-4 nad 100 do 1000 m3 | E21: m3 | F21: 214.617 | J21: =ROUND(F21*(N21),2) -> 313.34 | K21: =ROUND(F21*(O21),2) -> 0 | L21: =ROUND(F21*(G21),2) -> 0 | N21: 1.46 | Z21: 0
B22: 1/A 1 | C22: 171201201 | D22: Uloženie sypaniny na skládky do 100 m3 | E22: m3 | F22: 214.617 | J22: =ROUND(F22*(N22),2) -> 135.21 | K22: =ROUND(F22*(O22),2) -> 0 | L22: =ROUND(F22*(G22),2) -> 0 | N22: 0.63 | Z22: 0
D23: ZEMNÉ PRÁCE | L23: =ROUND((SUM(L10:L22))/1,2) -> 0 | M23: =ROUND((SUM(M10:M22))/1,2) -> 0 | P23: =ROUND((SUM(P10:P22))/1,2) -> 1.18 | S23: =ROUND((SUM(S10:S22))/1,2) -> 43.38
D25: VODOROVNÉ KONŠTRUKCIE
B26: 271/A 1 | C26: 451572111 | D26: Lôžko pod potrubie, stoky a drobné objekty, v otvorenom výkope z kameniva drobného ťaženého 0-4 mm | E26: m3 | F26: 35.75 | J26: =ROUND(F26*(N26),2) -> 852.64 | K26: =ROUND(F26*(O26),2) -> 0 | L26: =ROUND(F26*(G26),2) -> 0 | N26: 23.85 | P26: =ROUND(F26*(R26),3) -> 67.595 | R26: 1.89077 | Z26: 0
B27: 271/A 1 | C27: 452112111 | D27: Osadenie prstenca alebo rámu pod poklopy a mreže, výšky do 100 mm | E27: kus | F27: 6 | J27: =ROUND(F27*(N27),2) -> 31.44 | K27: =ROUND(F27*(O27),2) -> 0 | L27: =ROUND(F27*(G27),2) -> 0 | N27: 5.24 | P27: =ROUND(F27*(R27),3) -> 0.04 | R27: 0.0066 | Z27: 0
B28: 271/A 1 | C28: 452112121 | D28: Osadenie prstenca alebo rámu pod poklopy a mreže, výšky nad 100 do 200 mm | E28: kus | F28: 5 | J28: =ROUND(F28*(N28),2) -> 38.9 | K28: =ROUND(F28*(O28),2) -> 0 | L28: =ROUND(F28*(G28),2) -> 0 | N28: 7.78 | P28: =ROUND(F28*(R28),3) -> 0.033 | R28: 0.0066 | Z28: 0
D29: VODOROVNÉ KONŠTRUKCIE | L29: =ROUND((SUM(L25:L28))/1,2) -> 0 | M29: =ROUND((SUM(M25:M28))/1,2) -> 0 | P29: =ROUND((SUM(P25:P28))/1,2) -> 67.67 | S29: =ROUND((SUM(S25:S28))/1,2) -> 0
D31: SPEVNENÉ PLOCHY
B32: 221/A 1 | C32: 564861111 | D32: Podklad zo štrkodrviny s rozprestrením a zhutnením,hr.po zhutnení 200 mm | E32: m2 | F32: 118.8 | J32: =ROUND(F32*(N32),2) -> 496.58 | K32: =ROUND(F32*(O32),2) -> 0 | L32: =ROUND(F32*(G32),2) -> 0 | N32: 4.18 | P32: =ROUND(F32*(R32),3) -> 44.051 | R32: 0.3708 | Z32: 0
B33: 221/A 1 | C33: 577141312 | D33: Betón asfaltový po zhutnení III.tr. stred. AC11(ABS), hrub. AC16 (ABH), AC8(ABJ) š. do 3 m hr. 5 cm | E33: m2 | F33: 170.5 | J33: =ROUND(F33*(N33),2) -> 1179.86 | K33: =ROUND(F33*(O33),2) -> 0 | L33: =ROUND(F33*(G33),2) -> 0 | N33: 6.92 | P33: =ROUND(F33*(R33),3) -> 22.393 | R33: 0.13133514 | Z33: 0
D34: SPEVNENÉ PLOCHY | L34: =ROUND((SUM(L31:L33))/1,2) -> 0 | M34: =ROUND((SUM(M31:M33))/1,2) -> 0 | P34: =ROUND((SUM(P31:P33))/1,2) -> 66.44 | S34: =ROUND((SUM(S31:S33))/1,2) -> 0
D36: POVRCHOVÉ ÚPRAVY
B37: 11/A 1 | C37: 631571003 | D37: Násyp zo štrkopiesku 0-32 (pre spevnenie podkladu) | E37: m3 | F37: 178.867 | J37: =ROUND(F37*(N37),2) -> 5201.45 | K37: =ROUND(F37*(O37),2) -> 0 | L37: =ROUND(F37*(G37),2) -> 0 | N37: 29.08 | P37: =ROUND(F37*(R37),3) -> 328.579 | R37: 1.837 | Z37: 0
D38: POVRCHOVÉ ÚPRAVY | L38: =ROUND((SUM(L36:L37))/1,2) -> 0 | M38: =ROUND((SUM(M36:M37))/1,2) -> 0 | P38: =ROUND((SUM(P36:P37))/1,2) -> 328.58 | S38: =ROUND((SUM(S36:S37))/1,2) -> 0
D40: POTRUBNÉ ROZVODY
B41: R/R 0 | C41: 2865A0309 | D41: Rúra kanalizačná hladká hrdlovaná PVC - 200x5,9x6000 mm . SP343600 | E41: kus | F41: 15.302 | J41: =ROUND(F41*(N41),2) -> 611.31 | K41: =ROUND(F41*(O41),2) -> 0 | L41: =ROUND(F41*(G41),2) -> 0 | N41: 39.95 | Z41: 0
B42: S/S20 | C42: 2861104200 | D42: Rúra kanalizačná hladká hrdlovaná PVC - 315x9,2x6000 mm . DP345600 | E42: kus | F42: 25.503 | J42: =ROUND(F42*(N42),2) -> 2970.84 | K42: =ROUND(F42*(O42),2) -> 0 | M42: =ROUND(F42*(H42),2) -> 0 | N42: 116.49 | P42: =ROUND(F42*(R42),3) -> 1.476 | R42: 0.05789 | Z42: 0
B43: 271/A 3 | C43: 871353121 | D43: Montáž potrubia z kanalizačných rúr z tvrdého PVC tesn. gumovým krúžkom v skl. do 20% DN 200 | E43: m | F43: 43 | J43: =ROUND(F43*(N43),2) -> 24.94 | K43: =ROUND(F43*(O43),2) -> 0 | L43: =ROUND(F43*(G43),2) -> 0 | N43: 0.58 | P43: =ROUND(F43*(R43),3) -> 0 | R43: 1e-05 | Z43: 0
B44: 271/A 3 | C44: 871373121 | D44: Montáž potrubia z kanaliz. rúr z tvrdého PVC tesn. gumovým krúžkom v sklone do 20 % DN 300 | E44: m | F44: 140 | J44: =ROUND(F44*(N44),2) -> 161 | K44: =ROUND(F44*(O44),2) -> 0 | L44: =ROUND(F44*(G44),2) -> 0 | N44: 1.15 | P44: =ROUND(F44*(R44),3) -> 0.001 | R44: 1e-05 | Z44: 0
B45: 271/A 3 | C45: 877353122 | D45: Montáž tvaroviek na potrubí z PVC tesnených gumovým krúžkom v otv. výkope presuviek DN 200 | E45: kus | F45: 4 | J45: =ROUND(F45*(N45),2) -> 12.24 | K45: =ROUND(F45*(O45),2) -> 0 | L45: =ROUND(F45*(G45),2) -> 0 | N45: 3.06 | P45: =ROUND(F45*(R45),3) -> 0 | R45: 4e-05 | Z45: 0
...

Sheet Kryci_list 11841
F1: Krycí list rozpočtu | W1: 30.126
B2: Stavba Oprava komunikácií a chodníkov na území mesta Vranov nad Topľou | G2: Miesto:
B3: Objekt 2 - Oprava chodníka na Sídl. II (pred ZŠ II)
I4: Ks:
B5: Zákazka: | F5: Spracoval: Ing. Ján Halgaš | I5: Dňa | J5: 26.04.2017
B6: Odberateľ: Mesto Vranov nad Topľou | G6: IČO:
G7: DIČ:
B8: Dodávateľ: | G8: IČO:
G9: DIČ:
B10: Projektant: | G10: IČO:
G11: DIČ:
B15: A | C15: ZRN | D15: Montáž | E15: Materiál | F15: ZRN spolu | G15: B | H15: Ďalšie náklady
B16: 1 | C16: HSV | D16: ='Rekap 11841'!B16 -> 0 | E16: ='Rekap 11841'!C16 -> 0 | F16: ='Rekap 11841'!D16 -> 0 | G16: 6 | H16: Ostatné náklady | J16: 0
B17: 2 | C17: PSV | G17: 7 | H17: Kompletačná činnosť | J17: ='SO 11841'!Z50 -> 0
B18: 3 | C18: MONT | G18: 8 | H18: HZS | J18: 0
B19: 4 | G19: 9
B20: 5 | C20: Spolu | F20: =SUM(F16:F19) -> 0 | G20: 10 | H20: Spolu | J20: =SUM(J16:J19) -> 0
B21: C | C21: VRN | G21: D | H21: VRN
B22: 11 | C22: Zariadenie staveniska | E22: 0% z [H+P+M] | F22: =((F16*U22*0)+(F17*V22*0)+(F18*W22*0))/100 -> 0 | G22: 16 | H22: Mimoriadne sťaž.podmienky | I22: 0% z [H+P+M] | J22: =((F16*X22*0)+(F17*Y22*0)+(F18*Z22*0))/100 -> 0 | U22: 1 | V22: 1 | W22: 1 | X22: 1 | Y22: 1 | Z22: 1
B23: 12 | C23: Územie so sťaž. podmienk. | E23: 0% z [H+P] | F23: =((F16*U23*0)+(F17*V23*0)+(F18*W23*0))/100 -> 0 | G23: 17 | H23: Horské oblasti | I23: 0% z [H+P+M] | J23: =((F16*X23*0)+(F17*Y23*0)+(F18*Z23*0))/100 -> 0 | U23: 1 | V23: 1 | W23: 0 | X23: 1 | Y23: 1 | Z23: 1
B24: 13 | C24: Prevádzkové vplyvy | E24: 0% z [H+P+M] | F24: =((F16*U24*0)+(F17*V24*0)+(F18*W24*0))/100 -> 0 | G24: 18 | H24: Mimostavenisková doprava | I24: 0% z [H+P] | J24: =((F16*X24*0)+(F17*Y24*0)+(F18*Z24*0))/100 -> 0 | U24: 1 | V24: 1 | W24: 1 | X24: 1 | Y24: 1 | Z24: 0
B25: 14 | G25: 19
B26: 15 | G26: 20 | H26: Spolu | J26: =SUM(J22:J25)+SUM(F22:F25) -> 0
C27: Projektant,rozpočtár | G27: E | H27: Celkové náklady
G28: 21 | H28: Súčet riadkov 5,10,15,20 | J28: =F20+J20+F26+J26 -> 0
G29: 22 | H29: DPH 20% z | I29: =J28-SUM('SO 11841'!K9:'SO 11841'!K49) -> 0 | J29: =ROUND(((ROUND(I29,2)*20)*1/100),2) -> 0
G30: 23 | H30: DPH 0% z | I30: =SUM('SO 11841'!K9:'SO 11841'!K49) -> 0 | J30: =ROUND(((ROUND(I30,2)*0)/100),2) -> 0
G31: 24 | H31: Spolu | J31: =SUM(J28:J30) -> 0
G32: F
D33: Odberateľ | G33: 26 | H33: Dodávateľ

Sheet Rekap 11841
A1: Odberateľ: Mesto Vranov nad Topľou | D1: Spracoval: Ing. Ján Halgaš | W1: 30.126
A2: Projektant: | D2: Ks:
A3: Dodávateľ: | D3: Dátum: 26.04.2017
A4: Stavba Oprava komunikácií a chodníkov na území mesta Vranov nad Topľou
A5: Objekt 2 - Oprava chodníka na Sídl. II (pred ZŠ II)
A8: Prehľad rozpočtových nákladov
A9: Oddiel | B9: Montáž | C9: Materiál | D9: Spolu | E9: Hmotnosť (T) | F9: Suť (T)
A10: Práce HSV
A11: ZEMNÉ PRÁCE | B11: ='SO 11841'!L19 -> 0 | C11: ='SO 11841'!M19 -> 0 | D11: ='SO 11841'!I19 -> 0 | E11: ='SO 11841'!P19 -> 0 | F11: ='SO 11841'!S19 -> 84.8
A12: SPEVNENÉ PLOCHY | B12: ='SO 11841'!L25 -> 0 | C12: ='SO 11841'!M25 -> 0 | D12: ='SO 11841'!I25 -> 0 | E12: ='SO 11841'!P25 -> 40.48 | F12: ='SO 11841'!S25 -> 0
A13: POTRUBNÉ ROZVODY | B13: ='SO 11841'!L29 -> 0 | C13: ='SO 11841'!M29 -> 0 | D13: ='SO 11841'!I29 -> 0 | E13: ='SO 11841'!P29 -> 4.58 | F13: ='SO 11841'!S29 -> 0
A14: OSTATNÉ PRÁCE | B14: ='SO 11841'!L43 -> 0 | C14: ='SO 11841'!M43 -> 0 | D14: ='SO 11841'!I43 -> 0 | E14: ='SO 11841'!P43 -> 44.13 | F14: ='SO 11841'!S43 -> 0
A15: PRESUNY HMÔT | B15: ='SO 11841'!L47 -> 0 | C15: ='SO 11841'!M47 -> 0 | D15: ='SO 11841'!I47 -> 0 | E15: ='SO 11841'!P47 -> 0 | F15: ='SO 11841'!S47 -> 0
A16: Práce HSV | B16: ='SO 11841'!L49 -> 0 | C16: ='SO 11841'!M49 -> 0 | D16: ='SO 11841'!I49 -> 0 | E16: ='SO 11841'!P49 -> 89.19 | F16: ='SO 11841'!S49 -> 84.8
A18: Celkom | B18: ='SO 11841'!L50 -> 0 | C18: ='SO 11841'!M50 -> 0 | D18: ='SO 11841'!I50 -> 0 | E18: ='SO 11841'!P50 -> 89.19 | F18: ='SO 11841'!S50 -> 84.8

Sheet SO 11841
B1: Odberateľ: Mesto Vranov nad Topľou | E1: Spracoval: Ing. Ján Halgaš | W1: 30.126
B2: Projektant: | E2: Ks:
B3: Dodávateľ: | E3: Dátum: 26.04.2017
B4: Stavba Oprava komunikácií a chodníkov na území mesta Vranov nad Topľou
B5: Objekt 2 - Oprava chodníka na Sídl. II (pred ZŠ II)
B7: Prehľad rozpočtových nákladov
A8: Por.č. | B8: Cenník | C8: Kód položky | D8: Názov | E8: Mj | F8: Množstvo | G8: Cena/Mj | H8: Materiál | I8: Cena celkom | P8: Hmotnosť | S8: Suť
D9: Práce HSV
D10: ZEMNÉ PRÁCE
B11: 221/B 1 | C11: 113107242 | D11: Odstránenie podkladu alebo krytu asfaltového nad 200 m2,hr.nad 50 do 100 mm 0,181 t | E11: m2 | F11: 468.5 | J11: =ROUND(F11*(N11),2) -> 459.13 | K11: =ROUND(F11*(O11),2) -> 0 | L11: =ROUND(F11*(G11),2) -> 0 | N11: 0.98 | S11: =ROUND(F11*(X11),3) -> 84.799 | X11: 0.181 | Z11: 0
B12: 221/B 1 | C12: 113204111 | D12: Vytrhanie obrúb, s vybúraním lôžka, záhonových 0,040 t | E12: m | F12: 138 | J12: =ROUND(F12*(N12),2) -> 124.2 | K12: =ROUND(F12*(O12),2) -> 0 | L12: =ROUND(F12*(G12),2) -> 0 | N12: 0.9 | Z12: 0
B13: 1/A 1 | C13: 132301101 | D13: Výkop ryhy do šírky 600 mm v horn.4 do 100 m3 | E13: m3 | F13: 36.12 | J13: =ROUND(F13*(N13),2) -> 1509.82 | K13: =ROUND(F13*(O13),2) -> 0 | L13: =ROUND(F13*(G13),2) -> 0 | N13: 41.8 | Z13: 0
B14: 1/A 1 | C14: 162501102 | D14: Vodorovné premiestnenie výkopku tr.1-4 do 3000 m | E14: m3 | F14: 22.575 | J14: =ROUND(F14*(N14),2) -> 77.43 | K14: =ROUND(F14*(O14),2) -> 0 | L14: =ROUND(F14*(G14),2) -> 0 | N14: 3.43 | Z14: 0
B15: 1/A 1 | C15: 171201101 | D15: Uloženie sypaniny do násypov s rozprestretím sypaniny vo vrstvách a s hrubým urovnaním nezhutnených | E15: m3 | F15: 22.575 | J15: =ROUND(F15*(N15),2) -> 16.93 | K15: =ROUND(F15*(O15),2) -> 0 | L15: =ROUND(F15*(G15),2) -> 0 | N15: 0.75 | Z15: 0
B16: 231/A 2 | C16: 182001123 | D16: Plošná úprava terénu pri nerovnosti do 150 mm na svahu so sklonom do 1:1 | E16: m2 | F16: 27.6 | J16: =ROUND(F16*(N16),2) -> 66.52 | K16: =ROUND(F16*(O16),2) -> 0 | L16: =ROUND(F16*(G16),2) -> 0 | N16: 2.41 | Z16: 0
B17: 1/A 1 | C17: 174101001 | D17: Zásyp sypaninou so zhutnením jám, šachiet, rýh, zárezov alebo okolo objektov do 100 m3 | E17: m3 | F17: 13.545 | J17: =ROUND(F17*(N17),2) -> 34.27 | K17: =ROUND(F17*(O17),2) -> 0 | L17: =ROUND(F17*(G17),2) -> 0 | N17: 2.53 | Z17: 0
B18: 221/B 1 | C18: 113202111 | D18: Vytrhanie obrúb, s vybúraním lôžka, z krajníkov alebo obrubníkov,145 t | E18: m | F18: 163 | J18: =ROUND(F18*(N18),2) -> 246.13 | K18: =ROUND(F18*(O18),2) -> 0 | L18: =ROUND(F18*(G18),2) -> 0 | N18: 1.51 | Z18: 0
D19: ZEMNÉ PRÁCE | L19: =ROUND((SUM(L10:L18))/1,2) -> 0 | M19: =ROUND((SUM(M10:M18))/1,2) -> 0 | P19: =ROUND((SUM(P10:P18))/1,2) -> 0 | S19: =ROUND((SUM(S10:S18))/1,2) -> 84.8
D21: SPEVNENÉ PLOCHY
B22: 221/A 1 | C22: 573231111 | D22: Postrek asfaltový spojovací bez posypu kamenivom z cestnej emulzie v množstve od 0,50 do 0,80 kg/m2 | E22: m2 | F22: 468.5 | J22: =ROUND(F22*(N22),2) -> 103.07 | K22: =ROUND(F22*(O22),2) -> 0 | L22: =ROUND(F22*(G22),2) -> 0 | N22: 0.22 | P22: =ROUND(F22*(R22),3) -> 0.333 | R22: 0.00071 | Z22: 0
B23: R/R 0 | C23: 577144121 | D23: Doasfaltovanie cesty pri obrubníkoch - Asfaltový betón stredozrný AC 11 - III obrus., STN EN 13108-1, po zhutnení hr. 60 mm | E23: m2 | F23: 81.5 | J23: =ROUND(F23*(N23),2) -> 742.47 | K23: =ROUND(F23*(O23),2) -> 0 | L23: =ROUND(F23*(G23),2) -> 0 | N23: 9.11 | Z23: 0
B24: 221/A 1 | C24: 577131211 | D24: Asfaltový betón stredozrný AC 11 - III obrus., STN EN 13108-1, po zhutnení hr. 40 mm | E24: m2 | F24: 387 | J24: =ROUND(F24*(N24),2) -> 2186.55 | K24: =ROUND(F24*(O24),2) -> 0 | L24: =ROUND(F24*(G24),2) -> 0 | N24: 5.65 | P24: =ROUND(F24*(R24),3) -> 40.147 | R24: 0.10374 | Z24: 0
D25: SPEVNENÉ PLOCHY | L25: =ROUND((SUM(L21:L24))/1,2) -> 0 | M25: =ROUND((SUM(M21:M24))/1,2) -> 0 | P25: =ROUND((SUM(P21:P24))/1,2) -> 40.48 | S25: =ROUND((SUM(S21:S24))/1,2) -> 0
D27: POTRUBNÉ ROZVODY
B28: 221/C 1 | C28: 899231111 | D28: Výšková úprava uličného vstupu alebo vpuste do 200 mm zvýšením mreže | E28: kus | F28: 10 | J28: =ROUND(F28*(N28),2) -> 549.7 | K28: =ROUND(F28*(O28),2) -> 0 | L28: =ROUND(F28*(G28),2) -> 0 | N28: 54.97 | P28: =ROUND(F28*(R28),3) -> 4.584 | R28: 0.4583713 | Z28: 0
D29: POTRUBNÉ ROZVODY | L29: =ROUND((SUM(L27:L28))/1,2) -> 0 | M29: =ROUND((SUM(M27:M28))/1,2) -> 0 | P29: =ROUND((SUM(P27:P28))/1,2) -> 4.58 | S29: =ROUND((SUM(S27:S28))/1,2) -> 0
D31: OSTATNÉ PRÁCE
B32: 1/A 1 | C32: 171209003 | D32: Poplatok za skládku z kategórie "N" - nebezpečný odpad | E32: t | F32: 84.7985 | J32: =ROUND(F32*(N32),2) -> 3478.43 | K32: =ROUND(F32*(O32),2) -> 0 | L32: =ROUND(F32*(G32),2) -> 0 | N32: 41.02 | Z32: 0
B33: 221/B 1 | C33: 979087213 | D33: Nakladanie na dopravné prostriedky pre vodorovnú dopravu vybúraných hmôt | E33: t | F33: 113.954 | J33: =ROUND(F33*(N33),2) -> 1782.24 | K33: =ROUND(F33*(O33),2) -> 0 | L33: =ROUND(F33*(G33),2) -> 0 | N33: 15.64 | Z33: 0
B34: 321/B 1 | C34: 979082319 | D34: Príplatok k cenám za každých ďalších aj začatých 1000 m | E34: t | F34: 1367.448 | J34: =ROUND(F34*(N34),2) -> 205.12 | K34: =ROUND(F34*(O34),2) -> 0 | L34: =ROUND(F34*(G34),2) -> 0 | N34: 0.15 | Z34: 0
B35: 321/B 1 | C35: 979082315 | D35: Vodorovná doprava sutiny a vybúraných hmôt bez naloženia ale so zložením do 3000 m | E35: t | F35: 113.954 | J35: =ROUND(F35*(N35),2) -> 338.44 | K35: =ROUND(F35*(O35),2) -> 0 | L35: =ROUND(F35*(G35),2) -> 0 | N35: 2.97 | Z35: 0
B36: 1/A 1 | C36: 171209002 | D36: Poplatok za skladovanie - ostatné | E36: t | F36: 29.155 | J36: =ROUND(F36*(N36),2) -> 332.08 | K36: =ROUND(F36*(O36),2) -> 0 | L36: =ROUND(F36*(G36),2) -> 0 | N36: 11.39 | Z36: 0
B37: S/S60 | C37: 5838021100 | D37: Obrubník cestný dl. 1,0 m | E37: m | F37: 164.63 | J37: =ROUND(F37*(N37),2) -> 915.34 | K37: =ROUND(F37*(O37),2) -> 0 | M37: =ROUND(F37*(H37),2) -> 0 | N37: 5.56 | P37: =ROUND(F37*(R37),3) -> 10.701 | R37: 0.065 | Z37: 0
B38: 221/A 1 | C38: 916561111 | D38: Osadenie záhon. obrubníka betón., do lôžka z bet. pros. tr. C 10/12,5 s bočnou oporou | E38: m | F38: 138 | J38: =ROUND(F38*(N38),2) -> 496.8 | K38: =ROUND(F38*(O38),2) -> 0 | L38: =ROUND(F38*(G38),2) -> 0 | N38: 3.6 | P38: =ROUND(F38*(R38),3) -> 14.575 | R38: 0.10561946 | Z38: 0
B39: P/P 1 | C39: 592029170010 | D39: PREMAC záhonový obrubník 100/20/5 cm farba sivá | E39: KUS | F39: 139.38 | J39: =ROUND(F39*(N39),2) -> 333.12 | K39: =ROUND(F39*(O39),2) -> 0 | M39: =ROUND(F39*(H39),2) -> 0 | N39: 2.39 | Z39: 0
B40: 221/B 1 | C40: 919735112 | D40: Rezanie existujúceho asfaltového krytu alebo podkladu hľbky nad 50 do 100 mm | E40: m | F40: 173 | J40: =ROUND(F40*(N40),2) -> 918.63 | K40: =ROUND(F40*(O40),2) -> 0 | L40: =ROUND(F40*(G40),2) -> 0 | N40: 5.31 | P40: =ROUND(F40*(R40),3) -> 0.006 | R40: 3.36e-05 | Z40: 0
B41: 221/C 1 | C41: 938909311 | D41: Odstránenie blata, prachu alebo hlineného nánosu, z povrchu podkladu alebo krytu bet. alebo asfalt. | E41: m2 | F41: 468.5 | J41: =ROUND(F41*(N41),2) -> 9.37 | K41: =ROUND(F41*(O41),2) -> 0 | L41: =ROUND(F41*(G41),2) -> 0 | N41: 0.02 | Z41: 0
B42: 221/A 1 | C42: 916161111 | D42: Osadenie cestnej obruby z veľkých kociek s bočnou oporou z bet. tr. C 12/15 do lôžka z betónu | E42: m | F42: 163 | J42: =ROUND(F42*(N42),2) -> 656.89 | K42: =ROUND(F42*(O42),2) -> 0 | L42: =ROUND(F42*(G42),2) -> 0 | N42: 4.03 | P42: =ROUND(F42*(R42),3) -> 18.849 | R42: 0.11564064 | Z42: 0
D43: OSTATNÉ PRÁCE | L43: =ROUND((SUM(L31:L42))/1,2) -> 0 | M43: =ROUND((SUM(M31:M42))/1,2) -> 0 | P43: =ROUND((SUM(P31:P42))/1,2) -> 44.13 | S43: =ROUND((SUM(S31:S42))/1,2) -> 0
D45: PRESUNY HMÔT
...

Sheet Kryci_list 11843
F1: Krycí list rozpočtu | W1: 30.126
B2: Stavba Oprava komunikácií a chodníkov na území mesta Vranov nad Topľou | G2: Miesto:
B3: Objekt 3 - Oprava komunikácie na Dubníku
I4: Ks:
B5: Zákazka: | F5: Spracoval: Ing. Ján Halgaš | I5: Dňa | J5: 26.04.2017
B6: Odberateľ: Mesto Vranov nad Topľou | G6: IČO:
G7: DIČ:
B8: Dodávateľ: | G8: IČO:
G9: DIČ:
B10: Projektant: | G10: IČO:
G11: DIČ:
B15: A | C15: ZRN | D15: Montáž | E15: Materiál | F15: ZRN spolu | G15: B | H15: Ďalšie náklady
B16: 1 | C16: HSV | D16: ='Rekap 11843'!B17 -> 0 | E16: ='Rekap 11843'!C17 -> 0 | F16: ='Rekap 11843'!D17 -> 0 | G16: 6 | H16: Ostatné náklady | J16: 0
B17: 2 | C17: PSV | G17: 7 | H17: Kompletačná činnosť | J17: ='SO 11843'!Z55 -> 0
B18: 3 | C18: MONT | G18: 8 | H18: HZS | J18: 0
B19: 4 | G19: 9
B20: 5 | C20: Spolu | F20: =SUM(F16:F19) -> 0 | G20: 10 | H20: Spolu | J20: =SUM(J16:J19) -> 0
B21: C | C21: VRN | G21: D | H21: VRN
B22: 11 | C22: Zariadenie staveniska | E22: 0% z [H+P+M] | F22: =((F16*U22*0)+(F17*V22*0)+(F18*W22*0))/100 -> 0 | G22: 16 | H22: Mimoriadne sťaž.podmienky | I22: 0% z [H+P+M] | J22: =((F16*X22*0)+(F17*Y22*0)+(F18*Z22*0))/100 -> 0 | U22: 1 | V22: 1 | W22: 1 | X22: 1 | Y22: 1 | Z22: 1
B23: 12 | C23: Územie so sťaž. podmienk. | E23: 0% z [H+P] | F23: =((F16*U23*0)+(F17*V23*0)+(F18*W23*0))/100 -> 0 | G23: 17 | H23: Horské oblasti | I23: 0% z [H+P+M] | J23: =((F16*X23*0)+(F17*Y23*0)+(F18*Z23*0))/100 -> 0 | U23: 1 | V23: 1 | W23: 0 | X23: 1 | Y23: 1 | Z23: 1
B24: 13 | C24: Prevádzkové vplyvy | E24: 0% z [H+P+M] | F24: =((F16*U24*0)+(F17*V24*0)+(F18*W24*0))/100 -> 0 | G24: 18 | H24: Mimostavenisková doprava | I24: 0% z [H+P] | J24: =((F16*X24*0)+(F17*Y24*0)+(F18*Z24*0))/100 -> 0 | U24: 1 | V24: 1 | W24: 1 | X24: 1 | Y24: 1 | Z24: 0
B25: 14 | G25: 19
B26: 15 | G26: 20 | H26: Spolu | J26: =SUM(J22:J25)+SUM(F22:F25) -> 0
C27: Projektant,rozpočtár | G27: E | H27: Celkové náklady
G28: 21 | H28: Súčet riadkov 5,10,15,20 | J28: =F20+J20+F26+J26 -> 0
G29: 22 | H29: DPH 20% z | I29: =J28-SUM('SO 11843'!K9:'SO 11843'!K54) -> 0 | J29: =ROUND(((ROUND(I29,2)*20)*1/100),2) -> 0
G30: 23 | H30: DPH 0% z | I30: =SUM('SO 11843'!K9:'SO 11843'!K54) -> 0 | J30: =ROUND(((ROUND(I30,2)*0)/100),2) -> 0
G31: 24 | H31: Spolu | J31: =SUM(J28:J30) -> 0
G32: F
D33: Odberateľ | G33: 26 | H33: Dodávateľ

Sheet Rekap 11843
A1: Odberateľ: Mesto Vranov nad Topľou | D1: Spracoval: Ing. Ján Halgaš | W1: 30.126
A2: Projektant: | D2: Ks:
A3: Dodávateľ: | D3: Dátum: 26.04.2017
A4: Stavba Oprava komunikácií a chodníkov na území mesta Vranov nad Topľou
A5: Objekt 3 - Oprava komunikácie na Dubníku
A8: Prehľad rozpočtových nákladov
A9: Oddiel | B9: Montáž | C9: Materiál | D9: Spolu | E9: Hmotnosť (T) | F9: Suť (T)
A10: Práce HSV
A11: ZEMNÉ PRÁCE | B11: ='SO 11843'!L21 -> 0 | C11: ='SO 11843'!M21 -> 0 | D11: ='SO 11843'!I21 -> 0 | E11: ='SO 11843'!P21 -> 0 | F11: ='SO 11843'!S21 -> 0
A12: VODOROVNÉ KONŠTRUKCIE | B12: ='SO 11843'!L25 -> 0 | C12: ='SO 11843'!M25 -> 0 | D12: ='SO 11843'!I25 -> 0 | E12: ='SO 11843'!P25 -> 1.36 | F12: ='SO 11843'!S25 -> 0
A13: SPEVNENÉ PLOCHY | B13: ='SO 11843'!L34 -> 0 | C13: ='SO 11843'!M34 -> 0 | D13: ='SO 11843'!I34 -> 0 | E13: ='SO 11843'!P34 -> 105.49 | F13: ='SO 11843'!S34 -> 0
A14: POTRUBNÉ ROZVODY | B14: ='SO 11843'!L38 -> 0 | C14: ='SO 11843'!M38 -> 0 | D14: ='SO 11843'!I38 -> 0 | E14: ='SO 11843'!P38 -> 2.75 | F14: ='SO 11843'!S38 -> 0
A15: OSTATNÉ PRÁCE | B15: ='SO 11843'!L48 -> 0 | C15: ='SO 11843'!M48 -> 0 | D15: ='SO 11843'!I48 -> 0 | E15: ='SO 11843'!P48 -> 34.03 | F15: ='SO 11843'!S48 -> 0
A16: PRESUNY HMÔT | B16: ='SO 11843'!L52 -> 0 | C16: ='SO 11843'!M52 -> 0 | D16: ='SO 11843'!I52 -> 0 | E16: ='SO 11843'!P52 -> 0 | F16: ='SO 11843'!S52 -> 0
A17: Práce HSV | B17: ='SO 11843'!L54 -> 0 | C17: ='SO 11843'!M54 -> 0 | D17: ='SO 11843'!I54 -> 0 | E17: ='SO 11843'!P54 -> 143.63 | F17: ='SO 11843'!S54 -> 0
A19: Celkom | B19: ='SO 11843'!L55 -> 0 | C19: ='SO 11843'!M55 -> 0 | D19: ='SO 11843'!I55 -> 0 | E19: ='SO 11843'!P55 -> 143.63 | F19: ='SO 11843'!S55 -> 0

Sheet SO 11843
B1: Odberateľ: Mesto Vranov nad Topľou | E1: Spracoval: Ing. Ján Halgaš | W1: 30.126
B2: Projektant: | E2: Ks:
B3: Dodávateľ: | E3: Dátum: 26.04.2017
B4: Stavba Oprava komunikácií a chodníkov na území mesta Vranov nad Topľou
B5: Objekt 3 - Oprava komunikácie na Dubníku
B7: Prehľad rozpočtových nákladov
A8: Por.č. | B8: Cenník | C8: Kód položky | D8: Názov | E8: Mj | F8: Množstvo | G8: Cena/Mj | H8: Materiál | I8: Cena celkom | P8: Hmotnosť | S8: Suť
D9: Práce HSV
D10: ZEMNÉ PRÁCE
B11: 1/A 1 | C11: 132301101 | D11: Výkop ryhy do šírky 600 mm v horn.4 do 100 m3 | E11: m3 | F11: 4.8 | J11: =ROUND(F11*(N11),2) -> 200.64 | K11: =ROUND(F11*(O11),2) -> 0 | L11: =ROUND(F11*(G11),2) -> 0 | N11: 41.8 | Z11: 0
B12: 1/A 1 | C12: 162501102 | D12: Vodorovné premiestnenie výkopku tr.1-4 do 3000 m | E12: m3 | F12: 21.18 | J12: =ROUND(F12*(N12),2) -> 72.65 | K12: =ROUND(F12*(O12),2) -> 0 | L12: =ROUND(F12*(G12),2) -> 0 | N12: 3.43 | Z12: 0
B13: 1/A 1 | C13: 171201101 | D13: Uloženie sypaniny do násypov s rozprestretím sypaniny vo vrstvách a s hrubým urovnaním nezhutnených | E13: m3 | F13: 21.18 | J13: =ROUND(F13*(N13),2) -> 15.89 | K13: =ROUND(F13*(O13),2) -> 0 | L13: =ROUND(F13*(G13),2) -> 0 | N13: 0.75 | Z13: 0
B14: 1/A 1 | C14: 122201101 | D14: Odkopávka a prekopávka nezapažená v hornine 3,do 100 m3 | E14: m3 | F14: 16.38 | J14: =ROUND(F14*(N14),2) -> 65.68 | K14: =ROUND(F14*(O14),2) -> 0 | L14: =ROUND(F14*(G14),2) -> 0 | N14: 4.01 | Z14: 0
B15: 1/A 1 | C15: 175101101 | D15: Obsyp potrubia sypaninou z vhodných hornín 1 až 4 bez prehodenia sypaniny | E15: m3 | F15: 3.249156 | J15: =ROUND(F15*(N15),2) -> 33.82 | K15: =ROUND(F15*(O15),2) -> 0 | L15: =ROUND(F15*(G15),2) -> 0 | N15: 10.41 | Z15: 0
B16: P/PE | C16: 583372130 | D16: Štrkopiesok / A3 / frakcia 0-32 tr. Z | E16: M3 | F16: 3.249 | J16: =ROUND(F16*(N16),2) -> 50.78 | K16: =ROUND(F16*(O16),2) -> 0 | M16: =ROUND(F16*(H16),2) -> 0 | N16: 15.63 | Z16: 0
B17: 1/A 1 | C17: 122201109 | D17: Príplatok k cenám za lepivosť horniny | E17: m3 | F17: 8.19 | J17: =ROUND(F17*(N17),2) -> 5.57 | K17: =ROUND(F17*(O17),2) -> 0 | L17: =ROUND(F17*(G17),2) -> 0 | N17: 0.68 | Z17: 0
B18: 1/A 1 | C18: 121101112 | D18: Odstránenie ornice s premiestn. na hromady, so zložením na vzdialenosť do 100 m a do 1000 m3 | E18: m3 | F18: 13.65 | J18: =ROUND(F18*(N18),2) -> 11.19 | K18: =ROUND(F18*(O18),2) -> 0 | L18: =ROUND(F18*(G18),2) -> 0 | N18: 0.82 | Z18: 0
B19: 1/A 1 | C19: 181101102 | D19: Úprava pláne v zárezoch v hornine 1-4 so zhutnením | E19: m2 | F19: 97.5 | J19: =ROUND(F19*(N19),2) -> 32.18 | K19: =ROUND(F19*(O19),2) -> 0 | L19: =ROUND(F19*(G19),2) -> 0 | N19: 0.33 | Z19: 0
B20: 1/A 1 | C20: 181301101 | D20: Rozprestretie ornice na rovine alebo na svahu do sklonu 1:5,plocha do 500 m2,hr.do 100 mm | E20: m2 | F20: 57 | J20: =ROUND(F20*(N20),2) -> 50.73 | K20: =ROUND(F20*(O20),2) -> 0 | L20: =ROUND(F20*(G20),2) -> 0 | N20: 0.89 | Z20: 0
D21: ZEMNÉ PRÁCE | L21: =ROUND((SUM(L10:L20))/1,2) -> 0 | M21: =ROUND((SUM(M10:M20))/1,2) -> 0 | P21: =ROUND((SUM(P10:P20))/1,2) -> 0 | S21: =ROUND((SUM(S10:S20))/1,2) -> 0
D23: VODOROVNÉ KONŠTRUKCIE
B24: 271/A 1 | C24: 451573111 | D24: Lôžko pod potrubie, stoky a drobné objekty, v otvorenom výkope z piesku a štrkopiesku do 63 mm | E24: m3 | F24: 0.72 | J24: =ROUND(F24*(N24),2) -> 15.09 | K24: =ROUND(F24*(O24),2) -> 0 | L24: =ROUND(F24*(G24),2) -> 0 | N24: 20.96 | P24: =ROUND(F24*(R24),3) -> 1.361 | R24: 1.89077 | Z24: 0
D25: VODOROVNÉ KONŠTRUKCIE | L25: =ROUND((SUM(L23:L24))/1,2) -> 0 | M25: =ROUND((SUM(M23:M24))/1,2) -> 0 | P25: =ROUND((SUM(P23:P24))/1,2) -> 1.36 | S25: =ROUND((SUM(S23:S24))/1,2) -> 0
D27: SPEVNENÉ PLOCHY
B28: 221/A 1 | C28: 573231111 | D28: Postrek asfaltový spojovací bez posypu kamenivom z cestnej emulzie v množstve od 0,50 do 0,80 kg/m2 | E28: m2 | F28: 150 | J28: =ROUND(F28*(N28),2) -> 33 | K28: =ROUND(F28*(O28),2) -> 0 | L28: =ROUND(F28*(G28),2) -> 0 | N28: 0.22 | P28: =ROUND(F28*(R28),3) -> 0.107 | R28: 0.00071 | Z28: 0
B29: 221/A 1 | C29: 577142212 | D29: Asfaltový betón stredozrný AC 11 - III obrus., STN EN 13108-1, po zhutnení hr. 50 mm | E29: m2 | F29: 150 | J29: =ROUND(F29*(N29),2) -> 1098 | K29: =ROUND(F29*(O29),2) -> 0 | L29: =ROUND(F29*(G29),2) -> 0 | N29: 7.32 | P29: =ROUND(F29*(R29),3) -> 19.449 | R29: 0.12966 | Z29: 0
B30: 221/A 1 | C30: 581114113 | D30: Kryt cementobetónových cestných komunikácií skupiny CB I pre TDZ I a II, hr. 100 mm | E30: m2 | F30: 150 | J30: =ROUND(F30*(N30),2) -> 1243.5 | K30: =ROUND(F30*(O30),2) -> 0 | L30: =ROUND(F30*(G30),2) -> 0 | N30: 8.29 | P30: =ROUND(F30*(R30),3) -> 36.86 | R30: 0.24573076 | Z30: 0
B31: 221/A 1 | C31: 564241111 | D31: Podklad zo štrkopiesku hrúbky 120 mm | E31: m2 | F31: 97.5 | J31: =ROUND(F31*(N31),2) -> 196.95 | K31: =ROUND(F31*(O31),2) -> 0 | L31: =ROUND(F31*(G31),2) -> 0 | N31: 2.02 | P31: =ROUND(F31*(R31),3) -> 23.681 | R31: 0.24288 | Z31: 0
B32: 221/A 1 | C32: 596911112 | D32: Kladenie zámkovej dlažby pre peších nad 20 m2 do pieskového lôžka fr. 4-8 mm hr. 40 mm, škárovanie pieskom | E32: m2 | F32: 97.5 | J32: =ROUND(F32*(N32),2) -> 1066.65 | K32: =ROUND(F32*(O32),2) -> 0 | L32: =ROUND(F32*(G32),2) -> 0 | N32: 10.94 | P32: =ROUND(F32*(R32),3) -> 10.92 | R32: 0.112 | Z32: 0
B33: S/S70 | C33: 5922912300 | D33: Betónová dlažba hr. 6 cm | E33: m2 | F33: 98.475 | J33: =ROUND(F33*(N33),2) -> 1106.86 | K33: =ROUND(F33*(O33),2) -> 0 | M33: =ROUND(F33*(H33),2) -> 0 | N33: 11.24 | P33: =ROUND(F33*(R33),3) -> 14.476 | R33: 0.147 | Z33: 0
D34: SPEVNENÉ PLOCHY | L34: =ROUND((SUM(L27:L33))/1,2) -> 0 | M34: =ROUND((SUM(M27:M33))/1,2) -> 0 | P34: =ROUND((SUM(P27:P33))/1,2) -> 105.49 | S34: =ROUND((SUM(S27:S33))/1,2) -> 0
D36: POTRUBNÉ ROZVODY
B37: 221/C 1 | C37: 899231111 | D37: Výšková úprava uličného vstupu alebo vpuste do 200 mm zvýšením mreže | E37: kus | F37: 6 | J37: =ROUND(F37*(N37),2) -> 329.82 | K37: =ROUND(F37*(O37),2) -> 0 | L37: =ROUND(F37*(G37),2) -> 0 | N37: 54.97 | P37: =ROUND(F37*(R37),3) -> 2.75 | R37: 0.4583713 | Z37: 0
D38: POTRUBNÉ ROZVODY | L38: =ROUND((SUM(L36:L37))/1,2) -> 0 | M38: =ROUND((SUM(M36:M37))/1,2) -> 0 | P38: =ROUND((SUM(P36:P37))/1,2) -> 2.75 | S38: =ROUND((SUM(S36:S37))/1,2) -> 0
D40: OSTATNÉ PRÁCE
B41: 221/A 1 | C41: 916561111 | D41: Osadenie záhon. obrubníka betón., do lôžka z bet. pros. tr. C 10/12,5 s bočnou oporou | E41: m | F41: 130 | J41: =ROUND(F41*(N41),2) -> 468 | K41: =ROUND(F41*(O41),2) -> 0 | L41: =ROUND(F41*(G41),2) -> 0 | N41: 3.6 | P41: =ROUND(F41*(R41),3) -> 13.731 | R41: 0.10561946 | Z41: 0
B42: P/P 1 | C42: 592029170010 | D42: PREMAC záhonový obrubník 100/20/5 cm farba sivá | E42: KUS | F42: 131.3 | J42: =ROUND(F42*(N42),2) -> 313.81 | K42: =ROUND(F42*(O42),2) -> 0 | M42: =ROUND(F42*(H42),2) -> 0 | N42: 2.39 | Z42: 0
B43: 221/B 1 | C43: 919735112 | D43: Rezanie existujúceho asfaltového krytu alebo podkladu hľbky nad 50 do 100 mm | E43: m | F43: 10 | J43: =ROUND(F43*(N43),2) -> 53.1 | K43: =ROUND(F43*(O43),2) -> 0 | L43: =ROUND(F43*(G43),2) -> 0 | N43: 5.31 | P43: =ROUND(F43*(R43),3) -> 0 | R43: 3.36e-05 | Z43: 0
B44: 221/C 1 | C44: 938909311 | D44: Odstránenie blata, prachu alebo hlineného nánosu, z povrchu podkladu alebo krytu bet. alebo asfalt. | E44: m2 | F44: 150 | J44: =ROUND(F44*(N44),2) -> 3 | K44: =ROUND(F44*(O44),2) -> 0 | L44: =ROUND(F44*(G44),2) -> 0 | N44: 0.02 | Z44: 0
B45: 221/A 1 | C45: 919411111 | D45: Čelo priepustu z betónu prostého z rúr DN 300 až DN 500 mm | E45: kus | F45: 2 | J45: =ROUND(F45*(N45),2) -> 438.44 | K45: =ROUND(F45*(O45),2) -> 0 | L45: =ROUND(F45*(G45),2) -> 0 | N45: 219.22 | P45: =ROUND(F45*(R45),3) -> 12.783 | R45: 6.3913268 | Z45: 0
...

Sheet Kryci_list 11845
F1: Krycí list rozpočtu | W1: 30.126
B2: Stavba Oprava komunikácií a chodníkov na území mesta Vranov nad Topľou | G2: Miesto:
B3: Objekt 4- Oprava chodníka od ul. Mlynská po ul. Dobrianskeho
I4: Ks:
B5: Zákazka: | F5: Spracoval: Ing. Ján Halgaš | I5: Dňa | J5: 26.04.2017
B6: Odberateľ: Mesto Vranov nad Topľou | G6: IČO:
G7: DIČ:
B8: Dodávateľ: | G8: IČO:
G9: DIČ:
B10: Projektant: | G10: IČO:
G11: DIČ:
B15: A | C15: ZRN | D15: Montáž | E15: Materiál | F15: ZRN spolu | G15: B | H15: Ďalšie náklady
B16: 1 | C16: HSV | D16: ='Rekap 11845'!B16 -> 0 | E16: ='Rekap 11845'!C16 -> 0 | F16: ='Rekap 11845'!D16 -> 0 | G16: 6 | H16: Ostatné náklady | J16: 0
B17: 2 | C17: PSV | G17: 7 | H17: Kompletačná činnosť | J17: ='SO 11845'!Z50 -> 0
B18: 3 | C18: MONT | G18: 8 | H18: HZS | J18: 0
B19: 4 | G19: 9
B20: 5 | C20: Spolu | F20: =SUM(F16:F19) -> 0 | G20: 10 | H20: Spolu | J20: =SUM(J16:J19) -> 0
B21: C | C21: VRN | G21: D | H21: VRN
B22: 11 | C22: Zariadenie staveniska | E22: 0% z [H+P+M] | F22: =((F16*U22*0)+(F17*V22*0)+(F18*W22*0))/100 -> 0 | G22: 16 | H22: Mimoriadne sťaž.podmienky | I22: 0% z [H+P+M] | J22: =((F16*X22*0)+(F17*Y22*0)+(F18*Z22*0))/100 -> 0 | U22: 1 | V22: 1 | W22: 1 | X22: 1 | Y22: 1 | Z22: 1
B23: 12 | C23: Územie so sťaž. podmienk. | E23: 0% z [H+P] | F23: =((F16*U23*0)+(F17*V23*0)+(F18*W23*0))/100 -> 0 | G23: 17 | H23: Horské oblasti | I23: 0% z [H+P+M] | J23: =((F16*X23*0)+(F17*Y23*0)+(F18*Z23*0))/100 -> 0 | U23: 1 | V23: 1 | W23: 0 | X23: 1 | Y23: 1 | Z23: 1
B24: 13 | C24: Prevádzkové vplyvy | E24: 0% z [H+P+M] | F24: =((F16*U24*0)+(F17*V24*0)+(F18*W24*0))/100 -> 0 | G24: 18 | H24: Mimostavenisková doprava | I24: 0% z [H+P] | J24: =((F16*X24*0)+(F17*Y24*0)+(F18*Z24*0))/100 -> 0 | U24: 1 | V24: 1 | W24: 1 | X24: 1 | Y24: 1 | Z24: 0
B25: 14 | G25: 19
B26: 15 | G26: 20 | H26: Spolu | J26: =SUM(J22:J25)+SUM(F22:F25) -> 0
C27: Projektant,rozpočtár | G27: E | H27: Celkové náklady
G28: 21 | H28: Súčet riadkov 5,10,15,20 | J28: =F20+J20+F26+J26 -> 0
G29: 22 | H29: DPH 20% z | I29: =J28-SUM('SO 11845'!K9:'SO 11845'!K49) -> 0 | J29: =ROUND(((ROUND(I29,2)*20)*1/100),2) -> 0
G30: 23 | H30: DPH 0% z | I30: =SUM('SO 11845'!K9:'SO 11845'!K49) -> 0 | J30: =ROUND(((ROUND(I30,2)*0)/100),2) -> 0
G31: 24 | H31: Spolu | J31: =SUM(J28:J30) -> 0
G32: F
D33: Odberateľ | G33: 26 | H33: Dodávateľ

Sheet Rekap 11845
A1: Odberateľ: Mesto Vranov nad Topľou | D1: Spracoval: Ing. Ján Halgaš | W1: 30.126
A2: Projektant: | D2: Ks:
A3: Dodávateľ: | D3: Dátum: 26.04.2017
A4: Stavba Oprava komunikácií a chodníkov na území mesta Vranov nad Topľou
A5: Objekt 4- Oprava chodníka od ul. Mlynská po ul. Dobrianskeho
A8: Prehľad rozpočtových nákladov
A9: Oddiel | B9: Montáž | C9: Materiál | D9: Spolu | E9: Hmotnosť (T) | F9: Suť (T)
A10: Práce HSV
A11: ZEMNÉ PRÁCE | B11: ='SO 11845'!L19 -> 0 | C11: ='SO 11845'!M19 -> 0 | D11: ='SO 11845'!I19 -> 0 | E11: ='SO 11845'!P19 -> 0 | F11: ='SO 11845'!S19 -> 130.32
A12: SPEVNENÉ PLOCHY | B12: ='SO 11845'!L25 -> 0 | C12: ='SO 11845'!M25 -> 0 | D12: ='SO 11845'!I25 -> 0 | E12: ='SO 11845'!P25 -> 61.2 | F12: ='SO 11845'!S25 -> 0
A13: POTRUBNÉ ROZVODY | B13: ='SO 11845'!L29 -> 0 | C13: ='SO 11845'!M29 -> 0 | D13: ='SO 11845'!I29 -> 0 | E13: ='SO 11845'!P29 -> 4.58 | F13: ='SO 11845'!S29 -> 0
A14: OSTATNÉ PRÁCE | B14: ='SO 11845'!L43 -> 0 | C14: ='SO 11845'!M43 -> 0 | D14: ='SO 11845'!I43 -> 0 | E14: ='SO 11845'!P43 -> 90.15 | F14: ='SO 11845'!S43 -> 0
A15: PRESUNY HMÔT | B15: ='SO 11845'!L47 -> 0 | C15: ='SO 11845'!M47 -> 0 | D15: ='SO 11845'!I47 -> 0 | E15: ='SO 11845'!P47 -> 0 | F15: ='SO 11845'!S47 -> 0
A16: Práce HSV | B16: ='SO 11845'!L49 -> 0 | C16: ='SO 11845'!M49 -> 0 | D16: ='SO 11845'!I49 -> 0 | E16: ='SO 11845'!P49 -> 155.93 | F16: ='SO 11845'!S49 -> 130.32
A18: Celkom | B18: ='SO 11845'!L50 -> 0 | C18: ='SO 11845'!M50 -> 0 | D18: ='SO 11845'!I50 -> 0 | E18: ='SO 11845'!P50 -> 155.93 | F18: ='SO 11845'!S50 -> 130.32

Sheet SO 11845
B1: Odberateľ: Mesto Vranov nad Topľou | E1: Spracoval: Ing. Ján Halgaš | W1: 30.126
B2: Projektant: | E2: Ks:
B3: Dodávateľ: | E3: Dátum: 26.04.2017
B4: Stavba Oprava komunikácií a chodníkov na území mesta Vranov nad Topľou
B5: Objekt 4- Oprava chodníka od ul. Mlynská po ul. Dobrianskeho
B7: Prehľad rozpočtových nákladov
A8: Por.č. | B8: Cenník | C8: Kód položky | D8: Názov | E8: Mj | F8: Množstvo | G8: Cena/Mj | H8: Materiál | I8: Cena celkom | P8: Hmotnosť | S8: Suť
D9: Práce HSV
D10: ZEMNÉ PRÁCE
