Workbook

Sheet Rekapitulácia
A2: Rekapitulácia rozpočtu | F2: Sadzby DPH
F3: A | G3: B
A4: Stavba Oprava komunikácií a chodníkov na území mesta Vranov nad Topľou | F4: 0.2 | G4: 0
A6: Názov objektu | B6: ZRN | C6: VRN | D6: HZS | E6: Kompl.čin. | F6: Ost. náklady | G6: Cena
A7: Vranov n. T. - Úprava plochy na ul. Prešovskej - SO 01 - Úprava plochy | K7: ='SO 11652'!K98 -> 0 | Q7: 30.126
A8: Vranov n. T. - Úprava plochy na ul. Prešovskej - SO 02 - Povrchové odvodnenie | K8: ='SO 11812'!K85 -> 0 | Q8: 30.126
A9: 2 - Oprava chodníka na Sídl. II (pred ZŠ II) | K9: ='SO 11841'!K50 -> 0 | Q9: 30.126
A10: 3 - Oprava komunikácie na Dubníku | K10: ='SO 11843'!K55 -> 0 | Q10: 30.126
A11: 4- Oprava chodníka od ul. Mlynská po ul. Dobrianskeho | K11: ='SO 11845'!K50 -> 0 | Q11: 30.126
A12: 5 - Oprava chodníka pri BD G | K12: ='SO 11847'!K46 -> 0 | Q12: 30.126
A13: 6 - Oprava chodníka na ul. M. R. Štefánika | K13: ='SO 11849'!K48 -> 0 | Q13: 30.126
A14: 7 - Oprava chodníka na ul. Dr. C. Daxnera | K14: ='SO 11851'!K56 -> 0 | Q14: 30.126
A15: 8 - Oprava chodníka pri RD 857 smerom k ZŠ Juh | K15: ='SO 11853'!K58 -> 0 | Q15: 30.126
A16: 9 - Oprava chodníka na ul. Viničná | K16: ='SO 11855'!K46 -> 0 | Q16: 30.126
A17: 10 - Oprava chodníka na ul. Gen. Svobodu | K17: ='SO 11857'!K46 -> 0 | Q17: 30.126
A18: 11 - Oprava komunikácie na ul. Slnečná | K18: ='SO 11859'!K46 -> 0 | Q18: 30.126
A19: 12 - Oprava chodníka pri SOU, ul. Bernolákova | K19: ='SO 11892'!K46 -> 0 | Q19: 30.126
A20: Celkom bez DPH
A21: DPH 20% z
A22: DPH 0% z
A23: Celkom

Sheet Krycí list stavby
F1: Krycí list stavby | W1: 30.126
B2: Stavba Oprava komunikácií a chodníkov na území mesta Vranov nad Topľou | G2: Miesto:
G3: Ks:
B5: Zákazka: | F5: Spracoval: Ing. Ján Halgaš | I5: Dňa | J5: 26.04.2017
B6: Odberateľ: Mesto Vranov nad Topľou | G6: IČO:
G7: DIČ:
B8: Dodávateľ: | G8: IČO:
G9: DIČ:
B10: Projektant: | G10: IČO:
G11: DIČ:
B15: A | C15: ZRN | D15: Montáž | E15: Materiál | F15: ZRN spolu | G15: B | H15: Ďalšie náklady
B16: 1 | C16: HSV | D16: ='Kryci_list 11652'!D16+'Kryci_list 11812'!D16+'Kryci_list 11841'!D16+'Kryci_list 11843'!D16+'Kryci_list 11845'!D16+'Kryci_list 11847'!D16+'Kryci_list 11849'!D16+'Kryci_list 11851'!D16+'Kryci_list 11853'!D16+'Kryci_list 11855'!D16+'Kryci_list 11857'!D16+'Kryci_list 11859'!D16+'Kryci_list 11892'!D16 -> 0 | E16: ='Kryci_list 11652'!E16+'Kryci_list 11812'!E16+'Kryci_list 11841'!E16+'Kryci_list 11843'!E16+'Kryci_list 11845'!E16+'Kryci_list 11847'!E16+'Kryci_list 11849'!E16+'Kryci_list 11851'!E16+'Kryci_list 11853'!E16+'Kryci_list 11855'!E16+'Kryci_list 11857'!E16+'Kryci_list 11859'!E16+'Kryci_list 11892'!E16 -> 0 | F16: ='Kryci_list 11652'!F16+'Kryci_list 11812'!F16+'Kryci_list 11841'!F16+'Kryci_list 11843'!F16+'Kryci_list 11845'!F16+'Kryci_list 11847'!F16+'Kryci_list 11849'!F16+'Kryci_list 11851'!F16+'Kryci_list 11853'!F16+'Kryci_list 11855'!F16+'Kryci_list 11857'!F16+'Kryci_list 11859'!F16+'Kryci_list 11892'!F16 -> 0 | G16: 6 | H16: Ostatné náklady | J16: =Rekapitulácia!F20 -> 0
B17: 2 | C17: PSV | D17: ='Kryci_list 11652'!D17+'Kryci_list 11812'!D17+'Kryci_list 11841'!D17+'Kryci_list 11843'!D17+'Kryci_list 11845'!D17+'Kryci_list 11847'!D17+'Kryci_list 11849'!D17+'Kryci_list 11851'!D17+'Kryci_list 11853'!D17+'Kryci_list 11855'!D17+'Kryci_list 11857'!D17+'Kryci_list 11859'!D17+'Kryci_list 11892'!D17 -> 0 | E17: ='Kryci_list 11652'!E17+'Kryci_list 11812'!E17+'Kryci_list 11841'!E17+'Kryci_list 11843'!E17+'Kryci_list 11845'!E17+'Kryci_list 11847'!E17+'Kryci_list 11849'!E17+'Kryci_list 11851'!E17+'Kryci_list 11853'!E17+'Kryci_list 11855'!E17+'Kryci_list 11857'!E17+'Kryci_list 11859'!E17+'Kryci_list 11892'!E17 -> 0 | F17: ='Kryci_list 11652'!F17+'Kryci_list 11812'!F17+'Kryci_list 11841'!F17+'Kryci_list 11843'!F17+'Kryci_list 11845'!F17+'Kryci_list 11847'!F17+'Kryci_list 11849'!F17+'Kryci_list 11851'!F17+'Kryci_list 11853'!F17+'Kryci_list 11855'!F17+'Kryci_list 11857'!F17+'Kryci_list 11859'!F17+'Kryci_list 11892'!F17 -> 0 | G17: 7 | H17: Kompletačná činnosť | J17: =Rekapitulácia!E20 -> 0
B18: 3 | C18: MONT | D18: ='Kryci_list 11652'!D18+'Kryci_list 11812'!D18+'Kryci_list 11841'!D18+'Kryci_list 11843'!D18+'Kryci_list 11845'!D18+'Kryci_list 11847'!D18+'Kryci_list 11849'!D18+'Kryci_list 11851'!D18+'Kryci_list 11853'!D18+'Kryci_list 11855'!D18+'Kryci_list 11857'!D18+'Kryci_list 11859'!D18+'Kryci_list 11892'!D18 -> 0 | E18: ='Kryci_list 11652'!E18+'Kryci_list 11812'!E18+'Kryci_list 11841'!E18+'Kryci_list 11843'!E18+'Kryci_list 11845'!E18+'Kryci_list 11847'!E18+'Kryci_list 11849'!E18+'Kryci_list 11851'!E18+'Kryci_list 11853'!E18+'Kryci_list 11855'!E18+'Kryci_list 11857'!E18+'Kryci_list 11859'!E18+'Kryci_list 11892'!E18 -> 0 | F18: ='Kryci_list 11652'!F18+'Kryci_list 11812'!F18+'Kryci_list 11841'!F18+'Kryci_list 11843'!F18+'Kryci_list 11845'!F18+'Kryci_list 11847'!F18+'Kryci_list 11849'!F18+'Kryci_list 11851'!F18+'Kryci_list 11853'!F18+'Kryci_list 11855'!F18+'Kryci_list 11857'!F18+'Kryci_list 11859'!F18+'Kryci_list 11892'!F18 -> 0 | G18: 8 | H18: HZS | J18: =Rekapitulácia!D20 -> 0
B19: 4 | G19: 9
B20: 5 | C20: Spolu | F20: =SUM(F16:F19) -> 0 | G20: 10 | H20: Spolu | J20: =SUM(J16:J19) -> 0
B21: C | C21: VRN | G21: D | H21: VRN
B22: 11 | C22: Zariadenie staveniska | F22: ='Kryci_list 11652'!F22+'Kryci_list 11812'!F22+'Kryci_list 11841'!F22+'Kryci_list 11843'!F22+'Kryci_list 11845'!F22+'Kryci_list 11847'!F22+'Kryci_list 11849'!F22+'Kryci_list 11851'!F22+'Kryci_list 11853'!F22+'Kryci_list 11855'!F22+'Kryci_list 11857'!F22+'Kryci_list 11859'!F22+'Kryci_list 11892'!F22 -> 0 | G22: 16 | H22: Mimoriadne sťaž.podmienky | J22: ='Kryci_list 11652'!J22+'Kryci_list 11812'!J22+'Kryci_list 11841'!J22+'Kryci_list 11843'!J22+'Kryci_list 11845'!J22+'Kryci_list 11847'!J22+'Kryci_list 11849'!J22+'Kryci_list 11851'!J22+'Kryci_list 11853'!J22+'Kryci_list 11855'!J22+'Kryci_list 11857'!J22+'Kryci_list 11859'!J22+'Kryci_list 11892'!J22 -> 0
B23: 12 | C23: Územie so sťaž. podmienk. | F23: ='Kryci_list 11652'!F23+'Kryci_list 11812'!F23+'Kryci_list 11841'!F23+'Kryci_list 11843'!F23+'Kryci_list 11845'!F23+'Kryci_list 11847'!F23+'Kryci_list 11849'!F23+'Kryci_list 11851'!F23+'Kryci_list 11853'!F23+'Kryci_list 11855'!F23+'Kryci_list 11857'!F23+'Kryci_list 11859'!F23+'Kryci_list 11892'!F23 -> 0 | G23: 17 | H23: Horské oblasti | J23: ='Kryci_list 11652'!J23+'Kryci_list 11812'!J23+'Kryci_list 11841'!J23+'Kryci_list 11843'!J23+'Kryci_list 11845'!J23+'Kryci_list 11847'!J23+'Kryci_list 11849'!J23+'Kryci_list 11851'!J23+'Kryci_list 11853'!J23+'Kryci_list 11855'!J23+'Kryci_list 11857'!J23+'Kryci_list 11859'!J23+'Kryci_list 11892'!J23 -> 0
B24: 13 | C24: Prevádzkové vplyvy | F24: ='Kryci_list 11652'!F24+'Kryci_list 11812'!F24+'Kryci_list 11841'!F24+'Kryci_list 11843'!F24+'Kryci_list 11845'!F24+'Kryci_list 11847'!F24+'Kryci_list 11849'!F24+'Kryci_list 11851'!F24+'Kryci_list 11853'!F24+'Kryci_list 11855'!F24+'Kryci_list 11857'!F24+'Kryci_list 11859'!F24+'Kryci_list 11892'!F24 -> 0 | G24: 18 | H24: Mimostavenisková doprava | J24: ='Kryci_list 11652'!J24+'Kryci_list 11812'!J24+'Kryci_list 11841'!J24+'Kryci_list 11843'!J24+'Kryci_list 11845'!J24+'Kryci_list 11847'!J24+'Kryci_list 11849'!J24+'Kryci_list 11851'!J24+'Kryci_list 11853'!J24+'Kryci_list 11855'!J24+'Kryci_list 11857'!J24+'Kryci_list 11859'!J24+'Kryci_list 11892'!J24 -> 0
B25: 14 | G25: 19
B26: 15 | G26: 20 | H26: Spolu | J26: =SUM(J22:J25)+SUM(F22:F25) -> 0
C27: Projektant,rozpočtár | G27: E | H27: Celkové náklady
G28: 21 | H28: Súčet riadkov 5,10,15,20 | J28: =F20+J20+F26+J26 -> 0
G29: 22 | H29: DPH 20% z | I29: =Rekapitulácia!B21 -> 0 | J29: =ROUND(((ROUND(I29,2)*20)/100),2)*1 -> 0
G30: 23 | H30: DPH 0% z | I30: =Rekapitulácia!B22 -> 0 | J30: =ROUND(((ROUND(I30,2)*0)/100),2) -> 0
G31: 24 | H31: Spolu | J31: =SUM(J28:J30) -> 0
G32: F
D33: Odberateľ | H33: Dodávateľ

Sheet Kryci_list 11652
F1: Krycí list rozpočtu | W1: 30.126
B2: Stavba Oprava komunikácií a chodníkov na území mesta Vranov nad Topľou | G2: Miesto:
B3: Objekt Vranov n. T. - Úprava plochy na ul. Prešovskej - SO 01 - Úprava plochy
I4: Ks:
B5: Zákazka: | F5: Spracoval: Ing. Ján Halgaš | I5: Dňa | J5: 26.04.2017
B6: Odberateľ: Mesto Vranov nad Topľou | G6: IČO:
G7: DIČ:
B8: Dodávateľ: | G8: IČO:
G9: DIČ:
B10: Projektant: | G10: IČO:
G11: DIČ:
B15: A | C15: ZRN | D15: Montáž | E15: Materiál | F15: ZRN spolu | G15: B | H15: Ďalšie náklady
B16: 1 | C16: HSV | D16: ='Rekap 11652'!B18 -> 0 | E16: ='Rekap 11652'!C18 -> 0 | F16: ='Rekap 11652'!D18 -> 0 | G16: 6 | H16: Ostatné náklady | J16: 0
B17: 2 | C17: PSV | G17: 7 | H17: Kompletačná činnosť | J17: ='SO 11652'!Z98 -> 0
B18: 3 | C18: MONT | G18: 8 | H18: HZS | J18: 0
B19: 4 | G19: 9
B20: 5 | C20: Spolu | F20: =SUM(F16:F19) -> 0 | G20: 10 | H20: Spolu | J20: =SUM(J16:J19) -> 0
B21: C | C21: VRN | G21: D | H21: VRN
B22: 11 | C22: Zariadenie staveniska | E22: 0% z [H+P+M] | F22: =((F16*U22*0)+(F17*V22*0)+(F18*W22*0))/100 -> 0 | G22: 16 | H22: Mimoriadne sťaž.podmienky | I22: 0% z [H+P+M] | J22: =((F16*X22*0)+(F17*Y22*0)+(F18*Z22*0))/100 -> 0 | U22: 1 | V22: 1 | W22: 1 | X22: 1 | Y22: 1 | Z22: 1
B23: 12 | C23: Územie so sťaž. podmienk. | E23: 0% z [H+P] | F23: =((F16*U23*0)+(F17*V23*0)+(F18*W23*0))/100 -> 0 | G23: 17 | H23: Horské oblasti | I23: 0% z [H+P+M] | J23: =((F16*X23*0)+(F17*Y23*0)+(F18*Z23*0))/100 -> 0 | U23: 1 | V23: 1 | W23: 0 | X23: 1 | Y23: 1 | Z23: 1
B24: 13 | C24: Prevádzkové vplyvy | E24: 0% z [H+P+M] | F24: =((F16*U24*0)+(F17*V24*0)+(F18*W24*0))/100 -> 0 | G24: 18 | H24: Mimostavenisková doprava | I24: 0% z [H+P] | J24: =((F16*X24*0)+(F17*Y24*0)+(F18*Z24*0))/100 -> 0 | U24: 1 | V24: 1 | W24: 1 | X24: 1 | Y24: 1 | Z24: 0
B25: 14 | G25: 19
B26: 15 | G26: 20 | H26: Spolu | J26: =SUM(J22:J25)+SUM(F22:F25) -> 0
C27: Projektant,rozpočtár | G27: E | H27: Celkové náklady
G28: 21 | H28: Súčet riadkov 5,10,15,20 | J28: =F20+J20+F26+J26 -> 0
G29: 22 | H29: DPH 20% z | I29: =J28-SUM('SO 11652'!K9:'SO 11652'!K97) -> 0 | J29: =ROUND(((ROUND(I29,2)*20)*1/100),2) -> 0
G30: 23 | H30: DPH 0% z | I30: =SUM('SO 11652'!K9:'SO 11652'!K97) -> 0 | J30: =ROUND(((ROUND(I30,2)*0)/100),2) -> 0
G31: 24 | H31: Spolu | J31: =SUM(J28:J30) -> 0
G32: F
D33: Odberateľ | G33: 26 | H33: Dodávateľ

Sheet Rekap 11652
A1: Odberateľ: Mesto Vranov nad Topľou | D1: Spracoval: Ing. Ján Halgaš | W1: 30.126
A2: Projektant: | D2: Ks:
A3: Dodávateľ: | D3: Dátum: 26.04.2017
A4: Stavba Oprava komunikácií a chodníkov na území mesta Vranov nad Topľou
A5: Objekt Vranov n. T. - Úprava plochy na ul. Prešovskej - SO 01 - Úprava plochy
A8: Prehľad rozpočtových nákladov
A9: Oddiel | B9: Montáž | C9: Materiál | D9: Spolu | E9: Hmotnosť (T) | F9: Suť (T)
A10: Práce HSV
A11: ZEMNÉ PRÁCE | B11: ='SO 11652'!L31 -> 0 | C11: ='SO 11652'!M31 -> 0 | D11: ='SO 11652'!I31 -> 0 | E11: ='SO 11652'!P31 -> 0 | F11: ='SO 11652'!S31 -> 413.32
A12: ZÁKLADY | B12: ='SO 11652'!L36 -> 0 | C12: ='SO 11652'!M36 -> 0 | D12: ='SO 11652'!I36 -> 0 | E12: ='SO 11652'!P36 -> 15.86 | F12: ='SO 11652'!S36 -> 0
A13: SPEVNENÉ PLOCHY | B13: ='SO 11652'!L57 -> 0 | C13: ='SO 11652'!M57 -> 0 | D13: ='SO 11652'!I57 -> 0 | E13: ='SO 11652'!P57 -> 554.96 | F13: ='SO 11652'!S57 -> 0
A14: POVRCHOVÉ ÚPRAVY | B14: ='SO 11652'!L61 -> 0 | C14: ='SO 11652'!M61 -> 0 | D14: ='SO 11652'!I61 -> 0 | E14: ='SO 11652'!P61 -> 7.35 | F14: ='SO 11652'!S61 -> 0
A15: POTRUBNÉ ROZVODY | B15: ='SO 11652'!L65 -> 0 | C15: ='SO 11652'!M65 -> 0 | D15: ='SO 11652'!I65 -> 0 | E15: ='SO 11652'!P65 -> 1.29 | F15: ='SO 11652'!S65 -> 0
A16: OSTATNÉ PRÁCE | B16: ='SO 11652'!L91 -> 0 | C16: ='SO 11652'!M91 -> 0 | D16: ='SO 11652'!I91 -> 0 | E16: ='SO 11652'!P91 -> 39.14 | F16: ='SO 11652'!S91 -> 0
A17: PRESUNY HMÔT | B17: ='SO 11652'!L95 -> 0 | C17: ='SO 11652'!M95 -> 0 | D17: ='SO 11652'!I95 -> 0 | E17: ='SO 11652'!P95 -> 0 | F17: ='SO 11652'!S95 -> 0
A18: Práce HSV | B18: ='SO 11652'!L97 -> 0 | C18: ='SO 11652'!M97 -> 0 | D18: ='SO 11652'!I97 -> 0 | E18: ='SO 11652'!P97 -> 618.6 | F18: ='SO 11652'!S97 -> 413.32
A20: Celkom | B20: ='SO 11652'!L98 -> 0 | C20: ='SO 11652'!M98 -> 0 | D20: ='SO 11652'!I98 -> 0 | E20: ='SO 11652'!P98 -> 618.6 | F20: ='SO 11652'!S98 -> 413.32

Sheet SO 11652
B1: Odberateľ: Mesto Vranov nad Topľou | E1: Spracoval: Ing. Ján Halgaš | W1: 30.126
B2: Projektant: | E2: Ks:
B3: Dodávateľ: | E3: Dátum: 26.04.2017
B4: Stavba Oprava komunikácií a chodníkov na území mesta Vranov nad Topľou
B5: Objekt Vranov n. T. - Úprava plochy na ul. Prešovskej - SO 01 - Úprava plochy
B7: Prehľad rozpočtových nákladov
A8: Por.č. | B8: Cenník | C8: Kód položky | D8: Názov | E8: Mj | F8: Množstvo | G8: Cena/Mj | H8: Materiál | I8: Cena celkom | P8: Hmotnosť | S8: Suť
D9: Práce HSV
D10: ZEMNÉ PRÁCE
B11: 221/B 1 | C11: 113107111 | D11: Odstránenie podkladu alebo krytu v ploche do 200m2 z kameniva ťaženého, hr. do 100 mm, 0,160 t | E11: m2 | F11: 50 | J11: =ROUND(F11*(N11),2) -> 82 | K11: =ROUND(F11*(O11),2) -> 0 | L11: =ROUND(F11*(G11),2) -> 0 | N11: 1.64 | S11: =ROUND(F11*(X11),3) -> 8 | X11: 0.16 | Z11: 0
B12: 221/B 1 | C12: 113107131 | D12: Odstránenie podkladu alebo krytu do 200 m2 z betónu prostého, hr. vrstvy do 150 mm 0,225 t | E12: m2 | F12: 20 | J12: =ROUND(F12*(N12),2) -> 277.6 | K12: =ROUND(F12*(O12),2) -> 0 | L12: =ROUND(F12*(G12),2) -> 0 | N12: 13.88 | S12: =ROUND(F12*(X12),3) -> 4.5 | X12: 0.225 | Z12: 0
B13: 221/B 1 | C13: 113107225 | D13: Odstránenie krytu v ploche nad 200 m2 z kameniva hrubého drveného, hr. 400 do 500mm, -0,72000t | E13: m2 | F13: 490 | J13: =ROUND(F13*(N13),2) -> 1112.3 | K13: =ROUND(F13*(O13),2) -> 0 | L13: =ROUND(F13*(G13),2) -> 0 | N13: 2.27 | S13: =ROUND(F13*(X13),3) -> 352.8 | X13: 0.72 | Z13: 0
B14: 221/B 1 | C14: 113107241 | D14: Odstránenie podkladu alebo krytu nad 200 m2 asfaltového, hr. vrstvy do 50 mm 0,098 t | E14: m2 | F14: 490 | J14: =ROUND(F14*(N14),2) -> 343 | K14: =ROUND(F14*(O14),2) -> 0 | L14: =ROUND(F14*(G14),2) -> 0 | N14: 0.7 | S14: =ROUND(F14*(X14),3) -> 48.02 | X14: 0.098 | Z14: 0
B15: 221/B 1 | C15: 113204111 | D15: Vytrhanie obrúb, s vybúraním lôžka, záhonových 0,040 t | E15: m | F15: 14 | J15: =ROUND(F15*(N15),2) -> 12.6 | K15: =ROUND(F15*(O15),2) -> 0 | L15: =ROUND(F15*(G15),2) -> 0 | N15: 0.9 | Z15: 0
B16: 1/A 1 | C16: 122101401 | D16: Výkop v zemníku na suchu v horninách 1-2,do 100 m3 | E16: m3 | F16: 9.6 | J16: =ROUND(F16*(N16),2) -> 15.36 | K16: =ROUND(F16*(O16),2) -> 0 | L16: =ROUND(F16*(G16),2) -> 0 | N16: 1.6 | Z16: 0
B17: 1/A 2 | C17: 122202202 | D17: Odkopávka a prekopávka nezapažená pre cesty, v hornine 3 nad 100 do 1000 m3 | E17: m3 | F17: 171.4 | J17: =ROUND(F17*(N17),2) -> 359.94 | K17: =ROUND(F17*(O17),2) -> 0 | L17: =ROUND(F17*(G17),2) -> 0 | N17: 2.1 | Z17: 0
B18: 1/A 2 | C18: 122202209 | D18: Príplatok za lepivosť horniny 3 | E18: m3 | F18: 171.4 | J18: =ROUND(F18*(N18),2) -> 109.7 | K18: =ROUND(F18*(O18),2) -> 0 | L18: =ROUND(F18*(G18),2) -> 0 | N18: 0.64 | Z18: 0
B19: 1/A 1 | C19: 132201101 | D19: Výkop ryhy do šírky 600 mm v horn.3 do 100 m3 | E19: m3 | F19: 11.8 | J19: =ROUND(F19*(N19),2) -> 208.15 | K19: =ROUND(F19*(O19),2) -> 0 | L19: =ROUND(F19*(G19),2) -> 0 | N19: 17.64 | Z19: 0
B20: 1/A 1 | C20: 132201109 | D20: Príplatok k cene za lepivosť horniny 3 | E20: m3 | F20: 11.8 | J20: =ROUND(F20*(N20),2) -> 58.76 | K20: =ROUND(F20*(O20),2) -> 0 | L20: =ROUND(F20*(G20),2) -> 0 | N20: 4.98 | Z20: 0
B21: 1/A 1 | C21: 133201101 | D21: Výkop šachty hornina 3 do 100 m3 | E21: m3 | F21: 4 | J21: =ROUND(F21*(N21),2) -> 107.36 | K21: =ROUND(F21*(O21),2) -> 0 | L21: =ROUND(F21*(G21),2) -> 0 | N21: 26.84 | Z21: 0
B22: 1/A 1 | C22: 133201109 | D22: Príplatok k cenám za lepivosť horniny | E22: m3 | F22: 4 | J22: =ROUND(F22*(N22),2) -> 14.68 | K22: =ROUND(F22*(O22),2) -> 0 | L22: =ROUND(F22*(G22),2) -> 0 | N22: 3.67 | Z22: 0
B23: 1/A 1 | C23: 162601102 | D23: Vodorovné premiestnenie výkopku tr.1-4 do 5000 m | E23: M3 | F23: 196.8 | J23: =ROUND(F23*(N23),2) -> 840.34 | K23: =ROUND(F23*(O23),2) -> 0 | L23: =ROUND(F23*(G23),2) -> 0 | N23: 4.27 | Z23: 0
B24: 1/A 1 | C24: 171201202 | D24: Uloženie sypaniny na skládky nad 100 do 1000 m3 | E24: m3 | F24: 187.2 | J24: =ROUND(F24*(N24),2) -> 106.7 | K24: =ROUND(F24*(O24),2) -> 0 | L24: =ROUND(F24*(G24),2) -> 0 | N24: 0.57 | Z24: 0
B25: 231/A 2 | C25: 180402111 | D25: Založenie trávnika parkového výsevom v rovine alebo na svahu do 1:5 | E25: m2 | F25: 96 | J25: =ROUND(F25*(N25),2) -> 48.96 | K25: =ROUND(F25*(O25),2) -> 0 | L25: =ROUND(F25*(G25),2) -> 0 | N25: 0.51 | Z25: 0
B26: 1/A 1 | C26: 181101101 | D26: Úprava pláne v zárezoch v hornine 1-4 bez zhutnenia | E26: m2 | F26: 96 | J26: =ROUND(F26*(N26),2) -> 17.28 | K26: =ROUND(F26*(O26),2) -> 0 | L26: =ROUND(F26*(G26),2) -> 0 | N26: 0.18 | Z26: 0
... B29: 231/A 2 | C29: 183403153 | D29: Obrobenie pôdy hrabaním v rovine alebo na svahu do 1:5 | E29: m2 | F29: 96 | J29: =ROUND(F29*(N29),2) -> 9.6 | K29: =ROUND(F29*(O29),2) -> 0 | L29: =ROUND(F29*(G29),2) -> 0 | N29: 0.1 | Z29: 0
B30: P/PE | C30: 005724100 | D30: Zmes trávna parková rekreačná | E30: kg | F30: 3.024 | J30: =ROUND(F30*(N30),2) -> 24.13 | K30: =ROUND(F30*(O30),2) -> 0 | M30: =ROUND(F30*(H30),2) -> 0 | N30: 7.98 | Z30: 0
D31: ZEMNÉ PRÁCE | L31: =ROUND((SUM(L10:L30))/1,2) -> 0 | M31: =ROUND((SUM(M10:M30))/1,2) -> 0 | P31: =ROUND((SUM(P10:P30))/1,2) -> 0 | S31: =ROUND((SUM(S10:S30))/1,2) -> 413.32
D33: ZÁKLADY
B34: 271/A 1 | C34: 212752127 | D34: Trativody z flexodrenážnych rúr DN 160 so štrk. lôžkom a obsypom | E34: m | F34: 59 | J34: =ROUND(F34*(N34),2) -> 430.11 | K34: =ROUND(F34*(O34),2) -> 0 | L34: =ROUND(F34*(G34),2) -> 0 | N34: 7.29 | P34: =ROUND(F34*(R34),3) -> 15.816 | R34: 0.26806 | Z34: 0
B35: S/S20 | C35: 2861121650 | D35: Rúrka flexodrenážna PVC D 160 mm | E35: m | F35: 59 | J35: =ROUND(F35*(N35),2) -> 191.75 | K35: =ROUND(F35*(O35),2) -> 0 | M35: =ROUND(F35*(H35),2) -> 0 | N35: 3.25 | P35: =ROUND(F35*(R35),3) -> 0.048 | R35: 0.00082 | Z35: 0
D36: ZÁKLADY | L36: =ROUND((SUM(L33:L35))/1,2) -> 0 | M36: =ROUND((SUM(M33:M35))/1,2) -> 0 | P36: =ROUND((SUM(P33:P35))/1,2) -> 15.86 | S36: =ROUND((SUM(S33:S35))/1,2) -> 0
D38: SPEVNENÉ PLOCHY
B39: 221/A 1 | C39: 564241111 | D39: Podklad zo štrkopiesku hrúbky 120 mm | E39: m2 | F39: 227 | J39: =ROUND(F39*(N39),2) -> 458.54 | K39: =ROUND(F39*(O39),2) -> 0 | L39: =ROUND(F39*(G39),2) -> 0 | N39: 2.02 | P39: =ROUND(F39*(R39),3) -> 55.134 | R39: 0.24288 | Z39: 0
B40: 221/A 1 | C40: 564251112 | D40: Podklad zo štrkopiesku hrúbky 160 mm | E40: m2 | F40: 170.5 | J40: =ROUND(F40*(N40),2) -> 445.01 | K40: =ROUND(F40*(O40),2) -> 0 | L40: =ROUND(F40*(G40),2) -> 0 | N40: 2.61 | P40: =ROUND(F40*(R40),3) -> 55.216 | R40: 0.32385 | Z40: 0
B41: 221/A 1 | C41: 564251115 | D41: Podklad zo štrkopiesku hrúbky 190 mm | E41: m2 | F41: 180 | J41: =ROUND(F41*(N41),2) -> 549 | K41: =ROUND(F41*(O41),2) -> 0 | L41: =ROUND(F41*(G41),2) -> 0 | N41: 3.05 | P41: =ROUND(F41*(R41),3) -> 69.223 | R41: 0.38457 | Z41: 0
B42: 221/A 1 | C42: 564271111 | D42: Podklad alebo podsyp zo štrkopiesku s rozprestretím, vlhčením a zhutnením po zhutnení hr.250 mm | E42: m2 | F42: 78 | J42: =ROUND(F42*(N42),2) -> 305.76 | K42: =ROUND(F42*(O42),2) -> 0 | L42: =ROUND(F42*(G42),2) -> 0 | N42: 3.92 | P42: =ROUND(F42*(R42),3) -> 39.469 | R42: 0.50601 | Z42: 0
B43: 221/A 1 | C43: 564861111 | D43: Podklad zo štrkodrviny s rozprestrením a zhutnením,hr.po zhutnení 200 mm | E43: m2 | F43: 350.5 | J43: =ROUND(F43*(N43),2) -> 1465.09 | K43: =ROUND(F43*(O43),2) -> 0 | L43: =ROUND(F43*(G43),2) -> 0 | N43: 4.18 | P43: =ROUND(F43*(R43),3) -> 129.965 | R43: 0.3708 | Z43: 0
B44: 221/A 1 | C44: 567141114 | D44: Podklad z betónu prostého triedy C25/30 hrúbky 240 mm | E44: m2 | F44: 78 | J44: =ROUND(F44*(N44),2) -> 1315.86 | K44: =ROUND(F44*(O44),2) -> 0 | L44: =ROUND(F44*(G44),2) -> 0 | N44: 16.87 | P44: =ROUND(F44*(R44),3) -> 39.191 | R44: 0.50245 | Z44: 0
B45: 221/A 1 | C45: 573211111 | D45: Postrek asfaltový spojovací bez posypu kamenivom z asfaltu cestného v množstve od 0,50 do 0,70 kg/m2 | E45: m2 | F45: 438 | J45: =ROUND(F45*(N45),2) -> 91.98 | K45: =ROUND(F45*(O45),2) -> 0 | L45: =ROUND(F45*(G45),2) -> 0 | N45: 0.21 | P45: =ROUND(F45*(R45),3) -> 0.267 | R45: 0.00061 | Z45: 0
B46: 221/A 1 | C46: 577141112 | D46: Betón asfaltový po zhutnení I.tr. strednozrnný AC11 (ABS), hrub. AC16 (ABH) š.do 3 m, hr.50mm | E46: m2 | F46: 11.4 | J46: =ROUND(F46*(N46),2) -> 79.23 | K46: =ROUND(F46*(O46),2) -> 0 | L46: =ROUND(F46*(G46),2) -> 0 | N46: 6.95 | P46: =ROUND(F46*(R46),3) -> 1.509 | R46: 0.13238403 | Z46: 0
B47: 221/A 1 | C47: 577141212 | D47: Betón asfaltový triedy 2 jemnozrnný AC 8 (ABJ), strednozrnný AC 11 (ABS) alebo hrubozrnný AC 16 (ABH) š. nad 3 m, hrúbky 50mm | E47: m2 | F47: 180 | J47: =ROUND(F47*(N47),2) -> 1258.2 | K47: =ROUND(F47*(O47),2) -> 0 | L47: =ROUND(F47*(G47),2) -> 0 | N47: 6.99 | P47: =ROUND(F47*(R47),3) -> 23.905 | R47: 0.13280512 | Z47: 0
B48: 221/A 1 | C48: 577141322 | D48: Betón asfaltový po zhutnení III.tr. lôžkový AC 16 (ABL), š. nad 3 m, hr.50 mm | E48: m2 | F48: 180 | J48: =ROUND(F48*(N48),2) -> 1207.8 | K48: =ROUND(F48*(O48),2) -> 0 | L48: =ROUND(F48*(G48),2) -> 0 | N48: 6.71 | P48: =ROUND(F48*(R48),3) -> 23.072 | R48: 0.12818 | Z48: 0
B49: 221/A 1 | C49: 577143112 | D49: Betón asfaltovýABH I.tr. vrstva obrusná z modifikovaného asfaltu hr. 50 mm, š. do 3 m | E49: m2 | F49: 78 | J49: =ROUND(F49*(N49),2) -> 691.86 | K49: =ROUND(F49*(O49),2) -> 0 | L49: =ROUND(F49*(G49),2) -> 0 | N49: 8.87 | P49: =ROUND(F49*(R49),3) -> 10.113 | R49: 0.12966 | Z49: 0
B50: S/S70 | C50: 5921951140 | D50: Dlažba 20x10x6 cm SIVÁ | E50: m2 | F50: 223.614 | J50: =ROUND(F50*(N50),2) -> 2649.83 | K50: =ROUND(F50*(O50),2) -> 0 | M50: =ROUND(F50*(H50),2) -> 0 | N50: 11.85 | P50: =ROUND(F50*(R50),3) -> 30.859 | R50: 0.138 | Z50: 0
B51: S/S70 | C51: 5921953100 | D51: Dlažba 20x10x8 cm SIVÁ | E51: m2 | F51: 166.65 | J51: =ROUND(F51*(N51),2) -> 2348.1 | K51: =ROUND(F51*(O51),2) -> 0 | M51: =ROUND(F51*(H51),2) -> 0 | N51: 14.09 | P51: =ROUND(F51*(R51),3) -> 30.664 | R51: 0.184 | Z51: 0
B52: S/S70 | C52: 5921953150 | D52: Dlažba 20x10x8 cm ČERVENÁ | E52: m2 | F52: 5.555 | J52: =ROUND(F52*(N52),2) -> 89.44 | K52: =ROUND(F52*(O52),2) -> 0 | M52: =ROUND(F52*(H52),2) -> 0 | N52: 16.1 | P52: =ROUND(F52*(R52),3) -> 1.028 | R52: 0.185 | Z52: 0
B53: S/S70 | C53: 5922912900 | D53: Dlažba pre nevidiacich 20x20x6 cm červená nopková | E53: m2 | F53: 5.151 | J53: =ROUND(F53*(N53),2) -> 77.57 | K53: =ROUND(F53*(O53),2) -> 0 | M53: =ROUND(F53*(H53),2) -> 0 | N53: 15.06 | P53: =ROUND(F53*(R53),3) -> 0.752 | R53: 0.146 | Z53: 0
B54: S/S70 | C54: 5922914100 | D54: Dlažba pre nevidiacich 20x20x6 cm červená drážková | E54: m2 | F54: 0.505 | J54: =ROUND(F54*(N54),2) -> 9.96 | K54: =ROUND(F54*(O54),2) -> 0 | M54: =ROUND(F54*(H54),2) -> 0 | N54: 19.72 | P54: =ROUND(F54*(R54),3) -> 0.074 | R54: 0.147 | Z54: 0
B55: 221/A 1 | C55: 596911212 | D55: Kladenie zámkovej dlažby hr.6cm pre peších nad 20 m2 | E55: m2 | F55: 227 | J55: =ROUND(F55*(N55),2) -> 2483.38 | K55: =ROUND(F55*(O55),2) -> 0 | L55: =ROUND(F55*(G55),2) -> 0 | N55: 10.94 | P55: =ROUND(F55*(R55),3) -> 25.424 | R55: 0.112 | Z55: 0
B56: 221/A 1 | C56: 596911211 | D56: Kladenie zámkovej dlažby hr.8cm pre peších do 20 m2 | E56: m2 | F56: 170.5 | J56: =ROUND(F56*(N56),2) -> 2192.63 | K56: =ROUND(F56*(O56),2) -> 0 | L56: =ROUND(F56*(G56),2) -> 0 | N56: 12.86 | P56: =ROUND(F56*(R56),3) -> 19.096 | R56: 0.112 | Z56: 0
D57: SPEVNENÉ PLOCHY | L57: =ROUND((SUM(L38:L56))/1,2) -> 0 | M57: =ROUND((SUM(M38:M56))/1,2) -> 0 | P57: =ROUND((SUM(P38:P56))/1,2) -> 554.96 | S57: =ROUND((SUM(S38:S56))/1,2) -> 0
D59: POVRCHOVÉ ÚPRAVY
B60: 11/A 1 | C60: 631571001 | D60: Násyp z kameniva ťaženého 0-4 (pre spevnenie podkladov) | E60: m3 | F60: 4 | J60: =ROUND(F60*(N60),2) -> 117.08 | K60: =ROUND(F60*(O60),2) -> 0 | L60: =ROUND(F60*(G60),2) -> 0 | N60: 29.27 | P60: =ROUND(F60*(R60),3) -> 7.348 | R60: 1.837 | Z60: 0
D61: POVRCHOVÉ ÚPRAVY | L61: =ROUND((SUM(L59:L60))/1,2) -> 0 | M61: =ROUND((SUM(M59:M60))/1,2) -> 0 | P61: =ROUND((SUM(P59:P60))/1,2) -> 7.35 | S61: =ROUND((SUM(S59:S60))/1,2) -> 0
D63: POTRUBNÉ ROZVODY
B64: 221/C 1 | C64: 899331111 | D64: Výšková úprava uličného vstupu alebo vpuste do 200 mm zvýšením poklopu | E64: kus | F64: 3 | J64: =ROUND(F64*(N64),2) -> 156.39 | K64: =ROUND(F64*(O64),2) -> 0 | L64: =ROUND(F64*(G64),2) -> 0 | N64: 52.13 | P64: =ROUND(F64*(R64),3) -> 1.291 | R64: 0.43017606 | Z64: 0
D65: POTRUBNÉ ROZVODY | L65: =ROUND((SUM(L63:L64))/1,2) -> 0 | M65: =ROUND((SUM(M63:M64))/1,2) -> 0 | P65: =ROUND((SUM(P63:P64))/1,2) -> 1.29 | S65: =ROUND((SUM(S63:S64))/1,2) -> 0
D67: OSTATNÉ PRÁCE
B68: 221/A 1 | C68: 914001111 | D68: Osadenie a montáž cestnej zvislej dopravnej značky na stľpik,stľp,konzolu alebo objekt | E68: kus | F68: 5 | J68: =ROUND(F68*(N68),2) -> 59.4 | K68: =ROUND(F68*(O68),2) -> 0 | L68: =ROUND(F68*(G68),2) -> 0 | N68: 11.88 | P68: =ROUND(F68*(R68),3) -> 1.229 | R68: 0.2457 | Z68: 0
B69: S/S40 | C69: 4044560300 | D69: P1 700 mm Al lisovaná | E69: KS | F69: 1 | J69: =ROUND(F69*(N69),2) -> 28.72 | K69: =ROUND(F69*(O69),2) -> 0 | M69: =ROUND(F69*(H69),2) -> 0 | N69: 28.72 | P69: =ROUND(F69*(R69),3) -> 0.005 | R69: 0.005 | Z69: 0
B70: S/S40 | C70: 4044575400 | D70: P8 500x500 mm Al lisovaná | E70: kus | F70: 2 | J70: =ROUND(F70*(N70),2) -> 61.76 | K70: =ROUND(F70*(O70),2) -> 0 | M70: =ROUND(F70*(H70),2) -> 0 | N70: 30.88 | P70: =ROUND(F70*(R70),3) -> 0.01 | R70: 0.005 | Z70: 0
B71: S/S40 | C71: 4044575800 | D71: E15 500x500 mm ZN lisovaná | E71: kus | F71: 1 | J71: =ROUND(F71*(N71),2) -> 28.22 | K71: =ROUND(F71*(O71),2) -> 0 | M71: =ROUND(F71*(H71),2) -> 0 | N71: 28.22 | P71: =ROUND(F71*(R71),3) -> 0.002 | R71: 0.0015 | Z71: 0
B72: S/S40 | C72: 4044576200 | D72: IP16 700x500 mm Al lemovaná | E72: kus | F72: 1 | J72: =ROUND(F72*(N72),2) -> 28.21 | K72: =ROUND(F72*(O72),2) -> 0 | M72: =ROUND(F72*(H72),2) -> 0 | N72: 28.21 | P72: =ROUND(F72*(R72),3) -> 0.002 | R72: 0.0015 | Z72: 0
B73: P/PE | C73: 4043634001 | D73: Stĺpik Al 60/5 hladký drážkový | E73: m | F73: 14 | J73: =ROUND(F73*(N73),2) -> 304.5 | K73: =ROUND(F73*(O73),2) -> 0 | M73: =ROUND(F73*(H73),2) -> 0 | N73: 21.75 | Z73: 0
B74: R/R 0 | C74: 915020201 | D74: Premiestnenie prístrešku SAD vrátane nového ukotvenia do betónu | E74: kus | F74: 1 | J74: =ROUND(F74*(N74),2) -> 94.95 | K74: =ROUND(F74*(O74),2) -> 0 | L74: =ROUND(F74*(G74),2) -> 0 | N74: 94.95 | Z74: 0
B75: 221/A 1 | C75: 915711111 | D75: Vodorovné značenie krytu striekané farbou deliacich čiar šírky 120 mm | E75: m | F75: 30 | J75: =ROUND(F75*(N75),2) -> 20.1 | K75: =ROUND(F75*(O75),2) -> 0 | L75: =ROUND(F75*(G75),2) -> 0 | N75: 0.67 | P75: =ROUND(F75*(R75),3) -> 0.003 | R75: 9e-05 | Z75: 0
B76: 221/A 1 | C76: 915719111 | D76: Príplatok k cene za reflexnú úpravu balotinovú deliacich čiar šírky 120 mm | E76: m | F76: 30 | J76: =ROUND(F76*(N76),2) -> 3.9 | K76: =ROUND(F76*(O76),2) -> 0 | L76: =ROUND(F76*(G76),2) -> 0 | N76: 0.13 | P76: =ROUND(F76*(R76),3) -> 0.001 | R76: 4e-05 | Z76: 0
B77: 221/A 1 | C77: 915721111 | D77: Vodorovné značenie krytu striekané farbou stopčiar, zebier, tieňov, šípok nápisov, prechodov a pod. | E77: m2 | F77: 2 | J77: =ROUND(F77*(N77),2) -> 23.4 | K77: =ROUND(F77*(O77),2) -> 0 | L77: =ROUND(F77*(G77),2) -> 0 | N77: 11.7 | P77: =ROUND(F77*(R77),3) -> 0.001 | R77: 0.00066 | Z77: 0
B78: 221/A 1 | C78: 915729111 | D78: Príplatok za reflexnú úpravu balotinovú stopčiar, zebier, tieňov, šípok nápisov, prechodov a pod. | E78: m2 | F78: 2 | J78: =ROUND(F78*(N78),2) -> 0.92 | K78: =ROUND(F78*(O78),2) -> 0 | L78: =ROUND(F78*(G78),2) -> 0 | N78: 0.46 | P78: =ROUND(F78*(R78),3) -> 0.001 | R78: 0.00032 | Z78: 0
B79: 221/A 1 | C79: 915791111 | D79: Predznačenie pre značenie striekané farbou z náterových hmôt deliace čiary, vodiace prúžky | E79: m | F79: 30 | J79: =ROUND(F79*(N79),2) -> 3.9 | K79: =ROUND(F79*(O79),2) -> 0 | L79: =ROUND(F79*(G79),2) -> 0 | N79: 0.13 | P79: =ROUND(F79*(R79),3) -> 0 | R79: 3.5e-06 | Z79: 0
B80: 221/A 1 | C80: 915791112 | D80: Predznačenie pre vodorovné značenie striekané farbou alebo vykonávané z náterových hmôt | E80: m2 | F80: 2 | J80: =ROUND(F80*(N80),2) -> 2.3 | K80: =ROUND(F80*(O80),2) -> 0 | L80: =ROUND(F80*(G80),2) -> 0 | N80: 1.15 | Z80: 0
B81: 221/A 1 | C81: 916561111 | D81: Osadenie záhon. obrubníka betón., do lôžka z bet. pros. tr. C 10/12,5 s bočnou oporou | E81: m | F81: 134 | J81: =ROUND(F81*(N81),2) -> 482.4 | K81: =ROUND(F81*(O81),2) -> 0 | L81: =ROUND(F81*(G81),2) -> 0 | N81: 3.6 | P81: =ROUND(F81*(R81),3) -> 14.153 | R81: 0.10561946 | Z81: 0
B82: 221/A 1 | C82: 917862111 | D82: Osadenie chodník. obrub. betón. stojatého s bočnou oporou z betónu prostého tr. C 10/12,5 do lôžka | E82: m | F82: 175 | J82: =ROUND(F82*(N82),2) -> 869.75 | K82: =ROUND(F82*(O82),2) -> 0 | L82: =ROUND(F82*(G82),2) -> 0 | N82: 4.97 | P82: =ROUND(F82*(R82),3) -> 23.718 | R82: 0.13553013 | Z82: 0
B83: P/PE | C83: 592172000 | D83: Obrubník betónový parkový 50/20/5 | E83: ks | F83: 270.68 | J83: =ROUND(F83*(N83),2) -> 584.67 | K83: =ROUND(F83*(O83),2) -> 0 | M83: =ROUND(F83*(H83),2) -> 0 | N83: 2.16 | Z83: 0
B84: P/PE | C84: 592174510 | D84: Obrubník betónový A 2-15 100x15x25 | E84: ks | F84: 176.75 | J84: =ROUND(F84*(N84),2) -> 1173.62 | K84: =ROUND(F84*(O84),2) -> 0 | M84: =ROUND(F84*(H84),2) -> 0 | N84: 6.64 | Z84: 0
B85: 221/A 1 | C85: 919722111 | D85: Dilatačné škáry rezané v cementobetónovom kryte priečne rezanie škár šírky 2 až 5 mm | E85: m | F85: 12 | J85: =ROUND(F85*(N85),2) -> 84 | K85: =ROUND(F85*(O85),2) -> 0 | L85: =ROUND(F85*(G85),2) -> 0 | N85: 7 | P85: =ROUND(F85*(R85),3) -> 0.016 | R85: 0.0013 | Z85: 0
B86: 221/B 1 | C86: 919735111 | D86: Rezanie existujúceho asfaltového krytu alebo podkladu hľbky do 50 mm | E86: m | F86: 113 | J86: =ROUND(F86*(N86),2) -> 383.07 | K86: =ROUND(F86*(O86),2) -> 0 | L86: =ROUND(F86*(G86),2) -> 0 | N86: 3.39 | P86: =ROUND(F86*(R86),3) -> 0.002 | R86: 1.68e-05 | Z86: 0
B87: 221/B 1 | C87: 979082213 | D87: Vodorovná doprava sutiny so zložením a hrubým urovnaním na vzdialenosť do 1 km | E87: t | F87: 175.67 | J87: =ROUND(F87*(N87),2) -> 228.37 | K87: =ROUND(F87*(O87),2) -> 0 | L87: =ROUND(F87*(G87),2) -> 0 | N87: 1.3 | Z87: 0
B88: 221/B 1 | C88: 979082219 | D88: Príplatok k cene za každý ďalší aj začatý 1 km nad 1 km | E88: t | F88: 1581.03 | J88: =ROUND(F88*(N88),2) -> 426.88 | K88: =ROUND(F88*(O88),2) -> 0 | L88: =ROUND(F88*(G88),2) -> 0 | N88: 0.27 | Z88: 0
B89: 221/B 1 | C89: 979084216 | D89: Vodorovná doprava vybúraných hmôt po suchu bez naloženia, ale so zložením na vzdialenosť do 5 km | E89: t | F89: 0.56 | J89: =ROUND(F89*(N89),2) -> 9 | K89: =ROUND(F89*(O89),2) -> 0 | L89: =ROUND(F89*(G89),2) -> 0 | N89: 16.07 | Z89: 0
B90: 221/B 1 | C90: 979084219 | D90: Príplatok k cene za každých ďalších aj začatých 5 km nad 5 km | E90: t | F90: 0.56 | J90: =ROUND(F90*(N90),2) -> 0.44 | K90: =ROUND(F90*(O90),2) -> 0 | L90: =ROUND(F90*(G90),2) -> 0 | N90: 0.79 | Z90: 0
D91: OSTATNÉ PRÁCE | L91: =ROUND((SUM(L67:L90))/1,2) -> 0 | M91: =ROUND((SUM(M67:M90))/1,2) -> 0 | P91: =ROUND((SUM(P67:P90))/1,2) -> 39.14 | S91: =ROUND((SUM(S67:S90))/1,2) -> 0
D93: PRESUNY HMÔT
B94: 221/A 1 | C94: 998223011 | D94: Presun hmôt pre pozemné komunikácie s krytom dláždeným (822 2.3, 822 5.3) akejkoľvek dĺžky objektu | E94: t | F94: 619.027 | J94: =ROUND(F94*(N94),2) -> 3218.94 | K94: =ROUND(F94*(O94),2) -> 0 | L94: =ROUND(F94*(G94),2) -> 0 | N94: 5.2 | Z94: 0
D95: PRESUNY HMÔT | L95: =ROUND((SUM(L93:L94))/1,2) -> 0 | M95: =ROUND((SUM(M93:M94))/1,2) -> 0 | P95: =ROUND((SUM(P93:P94))/1,2) -> 0 | S95: =ROUND((SUM(S93:S94))/1,2) -> 0
D97: Práce HSV | L97: =ROUND((SUM(L9:L96))/2,2) -> 0 | M97: =ROUND((SUM(M9:M96))/2,2) -> 0 | P97: =ROUND((SUM(P9:P96))/2,2) -> 618.6 | S97: =ROUND((SUM(S9:S96))/2,2) -> 413.32
B98: Vranov n. T. - Úprava plochy na ul. Prešovskej - SO 01 - Úprava plochy | F98: Celkom | K98: =ROUND((SUM(K9:K97)),2) -> 0 | L98: =ROUND((SUM(L9:L97))/3,2) -> 0 | M98: =ROUND((SUM(M9:M97))/3,2) -> 0 | P98: =ROUND((SUM(P9:P97))/3,2) -> 618.6 | S98: =ROUND((SUM(S9:S97))/3,2) -> 413.32 | Z98: =(SUM(Z9:Z97)) -> 0

Sheet Kryci_list 11812
F1: Krycí list rozpočtu | W1: 30.126
B2: Stavba Oprava komunikácií a chodníkov na území mesta Vranov nad Topľou | G2: Miesto:
B3: Objekt Vranov n. T. - Úprava plochy na ul. Prešovskej - SO 02 - Povrchové odvodnenie
I4: Ks:
B5: Zákazka: | F5: Spracoval: Ing. Ján Halgaš | I5: Dňa | J5: 26.04.2017
B6: Odberateľ: Mesto Vranov nad Topľou | G6: IČO:
G7: DIČ:
B8: Dodávateľ: | G8: IČO:
G9: DIČ:
B10: Projektant: | G10: IČO:
G11: DIČ:
B15: A | C15: ZRN | D15: Montáž | E15: Materiál | F15: ZRN spolu | G15: B | H15: Ďalšie náklady
B16: 1 | C16: HSV | D16: ='Rekap 11812'!B18 -> 0 | E16: ='Rekap 11812'!C18 -> 0 | F16: ='Rekap 11812'!D18 -> 0 | G16: 6 | H16: Ostatné náklady | J16: 0
B17: 2 | C17: PSV | G17: 7 | H17: Kompletačná činnosť | J17: ='SO 11812'!Z85 -> 0
B18: 3 | C18: MONT | G18: 8 | H18: HZS | J18: 0
B19: 4 | G19: 9
B20: 5 | C20: Spolu | F20: =SUM(F16:F19) -> 0 | G20: 10 | H20: Spolu | J20: =SUM(J16:J19) -> 0
B21: C | C21: VRN | G21: D | H21: VRN
B22: 11 | C22: Zariadenie staveniska | E22: 0% z [H+P+M] | F22: =((F16*U22*0)+(F17*V22*0)+(F18*W22*0))/100 -> 0 | G22: 16 | H22: Mimoriadne sťaž.podmienky | I22: 0% z [H+P+M] | J22: =((F16*X22*0)+(F17*Y22*0)+(F18*Z22*0))/100 -> 0 | U22: 1 | V22: 1 | W22: 1 | X22: 1 | Y22: 1 | Z22: 1
B23: 12 | C23: Územie so sťaž. podmienk. | E23: 0% z [H+P] | F23: =((F16*U23*0)+(F17*V23*0)+(F18*W23*0))/100 -> 0 | G23: 17 | H23: Horské oblasti | I23: 0% z [H+P+M] | J23: =((F16*X23*0)+(F17*Y23*0)+(F18*Z23*0))/100 -> 0 | U23: 1 | V23: 1 | W23: 0 | X23: 1 | Y23: 1 | Z23: 1
B24: 13 | C24: Prevádzkové vplyvy | E24: 0% z [H+P+M] | F24: =((F16*U24*0)+(F17*V24*0)+(F18*W24*0))/100 -> 0 | G24: 18 | H24: Mimostavenisková doprava | I24: 0% z [H+P] | J24: =((F16*X24*0)+(F17*Y24*0)+(F18*Z24*0))/100 -> 0 | U24: 1 | V24: 1 | W24: 1 | X24: 1 | Y24: 1 | Z24: 0
B25: 14 | G25: 19
B26: 15 | G26: 20 | H26: Spolu | J26: =SUM(J22:J25)+SUM(F22:F25) -> 0
C27: Projektant,rozpočtár | G27: E | H27: Celkové náklady
G28: 21 | H28: Súčet riadkov 5,10,15,20 | J28: =F20+J20+F26+J26 -> 0
G29: 22 | H29: DPH 20% z | I29: =J28-SUM('SO 11812'!K9:'SO 11812'!K84) -> 0 | J29: =ROUND(((ROUND(I29,2)*20)*1/100),2) -> 0
G30: 23 | H30: DPH 0% z | I30: =SUM('SO 11812'!K9:'SO 11812'!K84) -> 0 | J30: =ROUND(((ROUND(I30,2)*0)/100),2) -> 0
G31: 24 | H31: Spolu | J31: =SUM(J28:J30) -> 0
G32: F
D33: Odberateľ | G33: 26 | H33: Dodávateľ

Sheet Rekap 11812
A1: Odberateľ: Mesto Vranov nad Topľou | D1: Spracoval: Ing. Ján Halgaš | W1: 30.126
A2: Projektant: | D2: Ks:
A3: Dodávateľ: | D3: Dátum: 26.04.2017
A4: Stavba Oprava komunikácií a chodníkov na území mesta Vranov nad Topľou
A5: Objekt Vranov n. T. - Úprava plochy na ul. Prešovskej - SO 02 - Povrchové odvodnenie
A8: Prehľad rozpočtových nákladov
A9: Oddiel | B9: Montáž | C9: Materiál | D9: Spolu | E9: Hmotnosť (T) | F9: Suť (T)
A10: Práce HSV
A11: ZEMNÉ PRÁCE | B11: ='SO 11812'!L23 -> 0 | C11: ='SO 11812'!M23 -> 0 | D11: ='SO 11812'!I23 -> 0 | E11: ='SO 11812'!P23 -> 1.18 | F11: ='SO 11812'!S23 -> 43.38
A12: VODOROVNÉ KONŠTRUKCIE | B12: ='SO 11812'!L29 -> 0 | C12: ='SO 11812'!M29 -> 0 | D12: ='SO 11812'!I29 -> 0 | E12: ='SO 11812'!P29 -> 67.67 | F12: ='SO 11812'!S29 -> 0
A13: SPEVNENÉ PLOCHY | B13: ='SO 11812'!L34 -> 0 | C13: ='SO 11812'!M34 -> 0 | D13: ='SO 11812'!I34 -> 0 | E13: ='SO 11812'!P34 -> 66.44 | F13: ='SO 11812'!S34 -> 0
A14: POVRCHOVÉ ÚPRAVY | B14: ='SO 11812'!L38 -> 0 | C14: ='SO 11812'!M38 -> 0 | D14: ='SO 11812'!I38 -> 0 | E14: ='SO 11812'!P38 -> 328.58 | F14: ='SO 11812'!S38 -> 0
A15: POTRUBNÉ ROZVODY | B15: ='SO 11812'!L71 -> 0 | C15: ='SO 11812'!M71 -> 0 | D15: ='SO 11812'!I71 -> 0 | E15: ='SO 11812'!P71 -> 15.09 | F15: ='SO 11812'!S71 -> 0
A16: OSTATNÉ PRÁCE | B16: ='SO 11812'!L78 -> 0 | C16: ='SO 11812'!M78 -> 0 | D16: ='SO 11812'!I78 -> 0 | E16: ='SO 11812'!P78 -> 0.01 | F16: ='SO 11812'!S78 -> 0
A17: PRESUNY HMÔT | B17: ='SO 11812'!L82 -> 0 | C17: ='SO 11812'!M82 -> 0 | D17: ='SO 11812'!I82 -> 0 | E17: ='SO 11812'!P82 -> 0 | F17: ='SO 11812'!S82 -> 0
A18: Práce HSV | B18: ='SO 11812'!L84 -> 0 | C18: ='SO 11812'!M84 -> 0 | D18: ='SO 11812'!I84 -> 0 | E18: ='SO 11812'!P84 -> 478.97 | F18: ='SO 11812'!S84 -> 43.38
A20: Celkom | B20: ='SO 11812'!L85 -> 0 | C20: ='SO 11812'!M85 -> 0 | D20: ='SO 11812'!I85 -> 0 | E20: ='SO 11812'!P85 -> 478.97 | F20: ='SO 11812'!S85 -> 43.38

Sheet SO 11812
B1: Odberateľ: Mesto Vranov nad Topľou | E1: Spracoval: Ing. Ján Halgaš | W1: 30.126
B2: Projektant: | E2: Ks:
B3: Dodávateľ: | E3: Dátum: 26.04.2017
B4: Stavba Oprava komunikácií a chodníkov na území mesta Vranov nad Topľou
B5: Objekt Vranov n. T. - Úprava plochy na ul. Prešovskej - SO 02 - Povrchové odvodnenie
B7: Prehľad rozpočtových nákladov
A8: Por.č. | B8: Cenník | C8: Kód položky | D8: Názov | E8: Mj | F8: Množstvo | G8: Cena/Mj | H8: Materiál | I8: Cena celkom | P8: Hmotnosť | S8: Suť
D9: Práce HSV
D10: ZEMNÉ PRÁCE
B11: 221/B 1 | C11: 113107222 | D11: Odstránenie podkladu alebo krytu nad 200 m2 z kameniva hrubého drveného, hr.100 do 200 mm 0,235t | E11: m2 | F11: 119.9 | J11: =ROUND(F11*(N11),2) -> 104.31 | K11: =ROUND(F11*(O11),2) -> 0 | L11: =ROUND(F11*(G11),2) -> 0 | N11: 0.87 | S11: =ROUND(F11*(X11),3) -> 28.177 | X11: 0.235 | Z11: 0
B12: 221/B 1 | C12: 113107241 | D12: Odstránenie podkladu alebo krytu nad 200 m2 asfaltového, hr. vrstvy do 50 mm 0,098 t | E12: m2 | F12: 75.9 | J12: =ROUND(F12*(N12),2) -> 53.13 | K12: =ROUND(F12*(O12),2) -> 0 | L12: =ROUND(F12*(G12),2) -> 0 | N12: 0.7 | S12: =ROUND(F12*(X12),3) -> 7.438 | X12: 0.098 | Z12: 0
B13: 221/B 1 | C13: 113107242 | D13: Odstránenie podkladu alebo krytu asfaltového nad 200 m2,hr.nad 50 do 100 mm 0,181 t | E13: m2 | F13: 42.9 | J13: =ROUND(F13*(N13),2) -> 42.04 | K13: =ROUND(F13*(O13),2) -> 0 | L13: =ROUND(F13*(G13),2) -> 0 | N13: 0.98 | S13: =ROUND(F13*(X13),3) -> 7.765 | X13: 0.181 | Z13: 0
B14: 1/A 1 | C14: 132201202 | D14: Výkop ryhy šírky 600-2000mm horn.3 od 100 do 1000 m3 | E14: m3 | F14: 232.414 | J14: =ROUND(F14*(N14),2) -> 1447.94 | K14: =ROUND(F14*(O14),2) -> 0 | L14: =ROUND(F14*(G14),2) -> 0 | N14: 6.23 | Z14: 0
B15: 1/A 1 | C15: 132201209 | D15: Príplatok k cenám za lepivosť horniny 3 | E15: m3 | F15: 232.841 | J15: =ROUND(F15*(N15),2) -> 144.36 | K15: =ROUND(F15*(O15),2) -> 0 | L15: =ROUND(F15*(G15),2) -> 0 | N15: 0.62 | Z15: 0
B16: 1/A 1 | C16: 141701102 | D16: Pretláčanie rúry v hor. tr. 1-4 vonkajšieho priemeru nad 200 do 500 mm | E16: m | F16: 8 | J16: =ROUND(F16*(N16),2) -> 2469.68 | K16: =ROUND(F16*(O16),2) -> 0 | L16: =ROUND(F16*(G16),2) -> 0 | N16: 308.71 | P16: =ROUND(F16*(R16),3) -> 0.14 | R16: 0.0175 | Z16: 0
B17: S/S10 | C17: 1433313800 | D17: Rúrky oceľové bezošve rozšírované 11353.1 508x10 mm | E17: m | F17: 8 | J17: =ROUND(F17*(N17),2) -> 416.88 | K17: =ROUND(F17*(O17),2) -> 0 | M17: =ROUND(F17*(H17),2) -> 0 | N17: 52.11 | P17: =ROUND(F17*(R17),3) -> 0.84 | R17: 0.105 | Z17: 0
B18: 1/A 1 | C18: 151101101 | D18: Paženie a rozopretie stien rýh pre podzemné vedenie,príložné do 2 m | E18: m2 | F18: 236.082 | J18: =ROUND(F18*(N18),2) -> 618.53 | K18: =ROUND(F18*(O18),2) -> 0 | L18: =ROUND(F18*(G18),2) -> 0 | N18: 2.62 | P18: =ROUND(F18*(R18),3) -> 0.201 | R18: 0.00085 | Z18: 0
B19: 1/A 1 | C19: 151101111 | D19: Odstránenie paženia rýh pre podzemné vedenie,príložné hľbky do 2 m | E19: m2 | F19: 236.082 | J19: =ROUND(F19*(N19),2) -> 358.84 | K19: =ROUND(F19*(O19),2) -> 0 | L19: =ROUND(F19*(G19),2) -> 0 | N19: 1.52 | Z19: 0
B20: 1/A 1 | C20: 162701105 | D20: Vodorovné premiestnenie výkopku tr.1-4 do 10000 m | E20: m3 | F20: 214.617 | J20: =ROUND(F20*(N20),2) -> 1143.91 | K20: =ROUND(F20*(O20),2) -> 0 | L20: =ROUND(F20*(G20),2) -> 0 | N20: 5.33 | Z20: 0
B21: 1/A 1 | C21: 167101102 | D21: Nakladanie neuľahnutého výkopku z hornín tr.1-4 nad 100 do 1000 m3 | E21: m3 | F21: 214.617 | J21: =ROUND(F21*(N21),2) -> 313.34 | K21: =ROUND(F21*(O21),2) -> 0 | L21: =ROUND(F21*(G21),2) -> 0 | N21: 1.46 | Z21: 0
B22: 1/A 1 | C22: 171201201 | D22: Uloženie sypaniny na skládky do 100 m3 | E22: m3 | F22: 214.617 | J22: =ROUND(F22*(N22),2) -> 135.21 | K22: =ROUND(F22*(O22),2) -> 0 | L22: =ROUND(F22*(G22),2) -> 0 | N22: 0.63 | Z22: 0
D23: ZEMNÉ PRÁCE | L23: =ROUND((SUM(L10:L22))/1,2) -> 0 | M23: =ROUND((SUM(M10:M22))/1,2) -> 0 | P23: =ROUND((SUM(P10:P22))/1,2) -> 1.18 | S23: =ROUND((SUM(S10:S22))/1,2) -> 43.38
D25: VODOROVNÉ KONŠTRUKCIE
B26: 271/A 1 | C26: 451572111 | D26: Lôžko pod potrubie, stoky a drobné objekty, v otvorenom výkope z kameniva drobného ťaženého 0-4 mm | E26: m3 | F26: 35.75 | J26: =ROUND(F26*(N26),2) -> 852.64 | K26: =ROUND(F26*(O26),2) -> 0 | L26: =ROUND(F26*(G26),2) -> 0 | N26: 23.85 | P26: =ROUND(F26*(R26),3) -> 67.595 | R26: 1.89077 | Z26: 0
B27: 271/A 1 | C27: 452112111 | D27: Osadenie prstenca alebo rámu pod poklopy a mreže, výšky do 100 mm | E27: kus | F27: 6 | J27: =ROUND(F27*(N27),2) -> 31.44 | K27: =ROUND(F27*(O27),2) -> 0 | L27: =ROUND(F27*(G27),2) -> 0 | N27: 5.24 | P27: =ROUND(F27*(R27),3) -> 0.04 | R27: 0.0066 | Z27: 0
B28: 271/A 1 | C28: 452112121 | D28: Osadenie prstenca alebo rámu pod poklopy a mreže, výšky nad 100 do 200 mm | E28: kus | F28: 5 | J28: =ROUND(F28*(N28),2) -> 38.9 | K28: =ROUND(F28*(O28),2) -> 0 | L28: =ROUND(F28*(G28),2) -> 0 | N28: 7.78 | P28: =ROUND(F28*(R28),3) -> 0.033 | R28: 0.0066 | Z28: 0
D29: VODOROVNÉ KONŠTRUKCIE | L29: =ROUND((SUM(L25:L28))/1,2) -> 0 | M29: =ROUND((SUM(M25:M28))/1,2) -> 0 | P29: =ROUND((SUM(P25:P28))/1,2) -> 67.67 | S29: =ROUND((SUM(S25:S28))/1,2) -> 0
D31: SPEVNENÉ PLOCHY
B32: 221/A 1 | C32: 564861111 | D32: Podklad zo štrkodrviny s rozprestrením a zhutnením,hr.po zhutnení 200 mm | E32: m2 | F32: 118.8 | J32: =ROUND(F32*(N32),2) -> 496.58 | K32: =ROUND(F32*(O32),2) -> 0 | L32: =ROUND(F32*(G32),2) -> 0 | N32: 4.18 | P32: =ROUND(F32*(R32),3) -> 44.051 | R32: 0.3708 | Z32: 0
B33: 221/A 1 | C33: 577141312 | D33: Betón asfaltový po zhutnení III.tr. stred. AC11(ABS), hrub. AC16 (ABH), AC8(ABJ) š. do 3 m hr. 5 cm | E33: m2 | F33: 170.5 | J33: =ROUND(F33*(N33),2) -> 1179.86 | K33: =ROUND(F33*(O33),2) -> 0 | L33: =ROUND(F33*(G33),2) -> 0 | N33: 6.92 | P33: =ROUND(F33*(R33),3) -> 22.393 | R33: 0.13133514 | Z33: 0
D34: SPEVNENÉ PLOCHY | L34: =ROUND((SUM(L31:L33))/1,2) -> 0 | M34: =ROUND((SUM(M31:M33))/1,2) -> 0 | P34: =ROUND((SUM(P31:P33))/1,2) -> 66.44 | S34: =ROUND((SUM(S31:S33))/1,2) -> 0
D36: POVRCHOVÉ ÚPRAVY
B37: 11/A 1 | C37: 631571003 | D37: Násyp zo štrkopiesku 0-32 (pre spevnenie podkladu) | E37: m3 | F37: 178.867 | J37: =ROUND(F37*(N37),2) -> 5201.45 | K37: =ROUND(F37*(O37),2) -> 0 | L37: =ROUND(F37*(G37),2) -> 0 | N37: 29.08 | P37: =ROUND(F37*(R37),3) -> 328.579 | R37: 1.837 | Z37: 0
D38: POVRCHOVÉ ÚPRAVY | L38: =ROUND((SUM(L36:L37))/1,2) -> 0 | M38: =ROUND((SUM(M36:M37))/1,2) -> 0 | P38: =ROUND((SUM(P36:P37))/1,2) -> 328.58 | S38: =ROUND((SUM(S36:S37))/1,2) -> 0
D40: POTRUBNÉ ROZVODY
B41: R/R 0 | C41: 2865A0309 | D41: Rúra kanalizačná hladká hrdlovaná PVC - 200x5,9x6000 mm . SP343600 | E41: kus | F41: 15.302 | J41: =ROUND(F41*(N41),2) -> 611.31 | K41: =ROUND(F41*(O41),2) -> 0 | L41: =ROUND(F41*(G41),2) -> 0 | N41: 39.95 | Z41: 0
B42: S/S20 | C42: 2861104200 | D42: Rúra kanalizačná hladká hrdlovaná PVC - 315x9,2x6000 mm . DP345600 | E42: kus | F42: 25.503 | J42: =ROUND(F42*(N42),2) -> 2970.84 | K42: =ROUND(F42*(O42),2) -> 0 | M42: =ROUND(F42*(H42),2) -> 0 | N42: 116.49 | P42: =ROUND(F42*(R42),3) -> 1.476 | R42: 0.05789 | Z42: 0
B43: 271/A 3 | C43: 871353121 | D43: Montáž potrubia z kanalizačných rúr z tvrdého PVC tesn. gumovým krúžkom v skl. do 20% DN 200 | E43: m | F43: 43 | J43: =ROUND(F43*(N43),2) -> 24.94 | K43: =ROUND(F43*(O43),2) -> 0 | L43: =ROUND(F43*(G43),2) -> 0 | N43: 0.58 | P43: =ROUND(F43*(R43),3) -> 0 | R43: 1e-05 | Z43: 0
B44: 271/A 3 | C44: 871373121 | D44: Montáž potrubia z kanaliz. rúr z tvrdého PVC tesn. gumovým krúžkom v sklone do 20 % DN 300 | E44: m | F44: 140 | J44: =ROUND(F44*(N44),2) -> 161 | K44: =ROUND(F44*(O44),2) -> 0 | L44: =ROUND(F44*(G44),2) -> 0 | N44: 1.15 | P44: =ROUND(F44*(R44),3) -> 0.001 | R44: 1e-05 | Z44: 0
B45: 271/A 3 | C45: 877353122 | D45: Montáž tvaroviek na potrubí z PVC tesnených gumovým krúžkom v otv. výkope presuviek DN 200 | E45: kus | F45: 4 | J45: =ROUND(F45*(N45),2) -> 12.24 | K45: =ROUND(F45*(O45),2) -> 0 | L45: =ROUND(F45*(G45),2) -> 0 | N45: 3.06 | P45: =ROUND(F45*(R45),3) -> 0 | R45: 4e-05 | Z45: 0
B46: 271/A 3 | C46: 877353123 | D46: Montáž tvaroviek na potrubí z PVC tesnených gumovým krúžkom v otv. výkope jednoosých DN 200 | E46: kus | F46: 4 | J46: =ROUND(F46*(N46),2) -> 5.8 | K46: =ROUND(F46*(O46),2) -> 0 | L46: =ROUND(F46*(G46),2) -> 0 | N46: 1.45 | P46: =ROUND(F46*(R46),3) -> 0 | R46: 2e-05 | Z46: 0
B47: S/S70 | C47: 5922470180 | D47: Dno šachtové - potrubie DN200/2 otv. | E47: kus | F47: 1 | J47: =ROUND(F47*(N47),2) -> 186.09 | K47: =ROUND(F47*(O47),2) -> 0 | M47: =ROUND(F47*(H47),2) -> 0 | N47: 186.09 | P47: =ROUND(F47*(R47),3) -> 0.52 | R47: 0.52 | Z47: 0
B48: S/S70 | C48: 5922470170 | D48: Dno šachtové - potrubie DN300/2 otv. | E48: kus | F48: 6 | J48: =ROUND(F48*(N48),2) -> 1417.38 | K48: =ROUND(F48*(O48),2) -> 0 | M48: =ROUND(F48*(H48),2) -> 0 | N48: 236.23 | P48: =ROUND(F48*(R48),3) -> 6.06 | R48: 1.01 | Z48: 0
B49: S/S70 | C49: 5922470030 | D49: Šachtová skruž D1000/250 | E49: ks | F49: 2 | J49: =ROUND(F49*(N49),2) -> 89.94 | K49: =ROUND(F49*(O49),2) -> 0 | M49: =ROUND(F49*(H49),2) -> 0 | N49: 44.97 | P49: =ROUND(F49*(R49),3) -> 0.88 | R49: 0.44 | Z49: 0
B50: S/S70 | C50: 5922470160 | D50: Prechodová skruž DN1000/600 - kónus | E50: kus | F50: 2 | J50: =ROUND(F50*(N50),2) -> 99.4 | K50: =ROUND(F50*(O50),2) -> 0 | M50: =ROUND(F50*(H50),2) -> 0 | N50: 49.7 | P50: =ROUND(F50*(R50),3) -> 0.72 | R50: 0.36 | Z50: 0
B51: S/S70 | C51: 5922470190 | D51: TZD 100/30-65 Kanalizačná železobetónová zákrytová doska | E51: kus | F51: 5 | J51: =ROUND(F51*(N51),2) -> 731.5 | K51: =ROUND(F51*(O51),2) -> 0 | M51: =ROUND(F51*(H51),2) -> 0 | N51: 146.3 | P51: =ROUND(F51*(R51),3) -> 1.95 | R51: 0.39 | Z51: 0
B52: S/S70 | C52: 5922470210 | D52: Vyrovnávací prstenec D625/100 | E52: kus | F52: 6 | J52: =ROUND(F52*(N52),2) -> 82.68 | K52: =ROUND(F52*(O52),2) -> 0 | M52: =ROUND(F52*(H52),2) -> 0 | N52: 13.78 | P52: =ROUND(F52*(R52),3) -> 0.21 | R52: 0.035 | Z52: 0
B53: S/S20 | C53: 2860003130 | D53: PVC koleno 200/30° kanalizácia | E53: kus | F53: 4 | J53: =ROUND(F53*(N53),2) -> 21.64 | K53: =ROUND(F53*(O53),2) -> 0 | M53: =ROUND(F53*(H53),2) -> 0 | N53: 5.41 | P53: =ROUND(F53*(R53),3) -> 0.01 | R53: 0.00244 | Z53: 0
B54: S/S20 | C54: 2860003360 | D54: PVC odbočka 300/200 kanalizácia | E54: kus | F54: 4 | J54: =ROUND(F54*(N54),2) -> 145.48 | K54: =ROUND(F54*(O54),2) -> 0 | M54: =ROUND(F54*(H54),2) -> 0 | N54: 36.37 | P54: =ROUND(F54*(R54),3) -> 0.066 | R54: 0.01638 | Z54: 0
B55: P/PE | C55: 286508440 | D55: Presuvka kanalizačná PVC - šachtová d 200mm | E55: kus | F55: 4 | J55: =ROUND(F55*(N55),2) -> 45.4 | K55: =ROUND(F55*(O55),2) -> 0 | M55: =ROUND(F55*(H55),2) -> 0 | N55: 11.35 | Z55: 0
B56: S/S20 | C56: 2860004160 | D56: Presuvka kanalizačná PVC - šachtová d 315mm | E56: kus | F56: 11 | J56: =ROUND(F56*(N56),2) -> 212.85 | K56: =ROUND(F56*(O56),2) -> 0 | M56: =ROUND(F56*(H56),2) -> 0 | N56: 19.35 | P56: =ROUND(F56*(R56),3) -> 0.096 | R56: 0.00872 | Z56: 0
B57: S/S50 | C57: 5524360080 | D57: Vpusť uličná betónová prefabrikovaná | E57: kus | F57: 3 | J57: =ROUND(F57*(N57),2) -> 277.86 | K57: =ROUND(F57*(O57),2) -> 0 | M57: =ROUND(F57*(H57),2) -> 0 | N57: 92.62 | P57: =ROUND(F57*(R57),3) -> 0.375 | R57: 0.125 | Z57: 0
B58: P/PC | C58: MAT | D58: Filtračná vložka ORL pre uličné vpuste | E58: kus | F58: 1 | J58: =ROUND(F58*(N58),2) -> 94.19 | K58: =ROUND(F58*(O58),2) -> 0 | M58: =ROUND(F58*(H58),2) -> 0 | N58: 94.19 | Z58: 0
B59: P/PE | C59: 592238700 | D59: Kôš kalový pre uličné vpuste | E59: kus | F59: 3 | J59: =ROUND(F59*(N59),2) -> 50.13 | K59: =ROUND(F59*(O59),2) -> 0 | M59: =ROUND(F59*(H59),2) -> 0 | N59: 16.71 | Z59: 0
B60: 271/A 3 | C60: 877373122 | D60: Montáž tvarovky na potrubí z rúr z tvrdého PVC tesnených gumovým krúžkom,presuvka DN 300 | E60: kus | F60: 11 | J60: =ROUND(F60*(N60),2) -> 50.05 | K60: =ROUND(F60*(O60),2) -> 0 | L60: =ROUND(F60*(G60),2) -> 0 | N60: 4.55 | P60: =ROUND(F60*(R60),3) -> 0.001 | R60: 7e-05 | Z60: 0
B61: 271/A 3 | C61: 877375121 | D61: Výrez a montáž odbočnej tvarovky na potrubí z kanalizačných rúr z tvrdého PVC DN 300 | E61: kus | F61: 4 | J61: =ROUND(F61*(N61),2) -> 47.8 | K61: =ROUND(F61*(O61),2) -> 0 | L61: =ROUND(F61*(G61),2) -> 0 | N61: 11.95 | P61: =ROUND(F61*(R61),3) -> 0 | R61: 0.00012 | Z61: 0
B62: 271/A 3 | C62: 895941111 | D62: Zriadenie kanalizačného vpustu uličného z betónových dielcov typ UV-50,UVB-50 | E62: kus | F62: 4 | J62: =ROUND(F62*(N62),2) -> 163.2 | K62: =ROUND(F62*(O62),2) -> 0 | L62: =ROUND(F62*(G62),2) -> 0 | N62: 40.8 | P62: =ROUND(F62*(R62),3) -> 1.364 | R62: 0.3409 | Z62: 0
B63: 271/A 1 | C63: 899103111 | D63: Osadenie poklopu liatinového a oceľového vrátane rámu hmotn. nad 100 do 150 kg | E63: kus | F63: 7 | J63: =ROUND(F63*(N63),2) -> 118.3 | K63: =ROUND(F63*(O63),2) -> 0 | L63: =ROUND(F63*(G63),2) -> 0 | N63: 16.9 | P63: =ROUND(F63*(R63),3) -> 0.049 | R63: 0.00702 | Z63: 0
B64: P/PE | C64: 552434400 | D64: Poklop na vstupnú šachtu D 600 C | E64: KUS | F64: 7 | J64: =ROUND(F64*(N64),2) -> 664.65 | K64: =ROUND(F64*(O64),2) -> 0 | M64: =ROUND(F64*(H64),2) -> 0 | N64: 94.95 | P64: =ROUND(F64*(R64),3) -> 0.868 | R64: 0.124 | Z64: 0
B65: 271/A 1 | C65: 899203111 | D65: Osadenie liatinovej mreže vrátane rámu a koša na bahno hmotnosti jednotlivo nad 100 do 150 kg | E65: kus | F65: 4 | J65: =ROUND(F65*(N65),2) -> 80.28 | K65: =ROUND(F65*(O65),2) -> 0 | L65: =ROUND(F65*(G65),2) -> 0 | N65: 20.07 | P65: =ROUND(F65*(R65),3) -> 0.037 | R65: 0.00936 | Z65: 0
B66: P/PE | C66: 552425100 | D66: Mreža pre vozovku s nálevkou | E66: kus | F66: 4 | J66: =ROUND(F66*(N66),2) -> 610.68 | K66: =ROUND(F66*(O66),2) -> 0 | M66: =ROUND(F66*(H66),2) -> 0 | N66: 152.67 | Z66: 0
B67: S/S70 | C67: 5922380000 | D67: Vpusť uličná betónová vyrovnáv. prstenec 625/60 | E67: kus | F67: 1 | J67: =ROUND(F67*(N67),2) -> 9.1 | K67: =ROUND(F67*(O67),2) -> 0 | M67: =ROUND(F67*(H67),2) -> 0 | N67: 9.1 | P67: =ROUND(F67*(R67),3) -> 0.001 | R67: 0.001 | Z67: 0
B68: S/S70 | C68: 5922384500 | D68: Vpusť uličná betónová stredný diel 420/295 | E68: kus | F68: 1 | J68: =ROUND(F68*(N68),2) -> 42.76 | K68: =ROUND(F68*(O68),2) -> 0 | M68: =ROUND(F68*(H68),2) -> 0 | N68: 42.76 | P68: =ROUND(F68*(R68),3) -> 0.06 | R68: 0.06 | Z68: 0
B69: S/S70 | C69: 5922385000 | D69: Vpusť uličná betónová stredný diel 420/450 s odtokom DN200 | E69: kus | F69: 1 | J69: =ROUND(F69*(N69),2) -> 56.36 | K69: =ROUND(F69*(O69),2) -> 0 | M69: =ROUND(F69*(H69),2) -> 0 | N69: 56.36 | P69: =ROUND(F69*(R69),3) -> 0.12 | R69: 0.12 | Z69: 0
B70: S/S70 | C70: 5922386500 | D70: Vpusť uličná betónová dno 450/300 s odkališťom | E70: kus | F70: 1 | J70: =ROUND(F70*(N70),2) -> 72.61 | K70: =ROUND(F70*(O70),2) -> 0 | M70: =ROUND(F70*(H70),2) -> 0 | N70: 72.61 | P70: =ROUND(F70*(R70),3) -> 0.226 | R70: 0.226 | Z70: 0
D71: POTRUBNÉ ROZVODY | L71: =ROUND((SUM(L40:L70))/1,2) -> 0 | M71: =ROUND((SUM(M40:M70))/1,2) -> 0 | P71: =ROUND((SUM(P40:P70))/1,2) -> 15.09 | S71: =ROUND((SUM(S40:S70))/1,2) -> 0
D73: OSTATNÉ PRÁCE
B74: 221/B 1 | C74: 919735112 | D74: Rezanie existujúceho asfaltového krytu alebo podkladu hľbky nad 50 do 100 mm | E74: m | F74: 216 | J74: =ROUND(F74*(N74),2) -> 1146.96 | K74: =ROUND(F74*(O74),2) -> 0 | L74: =ROUND(F74*(G74),2) -> 0 | N74: 5.31 | P74: =ROUND(F74*(R74),3) -> 0.007 | R74: 3.36e-05 | Z74: 0
B75: 221/B 1 | C75: 979082213 | D75: Vodorovná doprava sutiny so zložením a hrubým urovnaním na vzdialenosť do 1 km | E75: t | F75: 49.626 | J75: =ROUND(F75*(N75),2) -> 64.51 | K75: =ROUND(F75*(O75),2) -> 0 | L75: =ROUND(F75*(G75),2) -> 0 | N75: 1.3 | Z75: 0
B76: 221/B 1 | C76: 979082219 | D76: Príplatok k cene za každý ďalší aj začatý 1 km nad 1 km | E76: t | F76: 446.534 | J76: =ROUND(F76*(N76),2) -> 120.56 | K76: =ROUND(F76*(O76),2) -> 0 | L76: =ROUND(F76*(G76),2) -> 0 | N76: 0.27 | Z76: 0
B77: 221/B 1 | C77: 979087212 | D77: Nakladanie na dopravné prostriedky pre vodorovnú dopravu sutiny | E77: t | F77: 49.626 | J77: =ROUND(F77*(N77),2) -> 170.71 | K77: =ROUND(F77*(O77),2) -> 0 | L77: =ROUND(F77*(G77),2) -> 0 | N77: 3.44 | Z77: 0
D78: OSTATNÉ PRÁCE | L78: =ROUND((SUM(L73:L77))/1,2) -> 0 | M78: =ROUND((SUM(M73:M77))/1,2) -> 0 | P78: =ROUND((SUM(P73:P77))/1,2) -> 0.01 | S78: =ROUND((SUM(S73:S77))/1,2) -> 0
D80: PRESUNY HMÔT
B81: 271/A 1 | C81: 998276101 | D81: Presun hmôt pre rúrové vedenie hĺbené z rúr z plast. hmôt alebo sklolamin. v otvorenom výkope | E81: t | F81: 465.179 | J81: =ROUND(F81*(N81),2) -> 9712.94 | K81: =ROUND(F81*(O81),2) -> 0 | L81: =ROUND(F81*(G81),2) -> 0 | N81: 20.88 | Z81: 0
D82: PRESUNY HMÔT | L82: =ROUND((SUM(L80:L81))/1,2) -> 0 | M82: =ROUND((SUM(M80:M81))/1,2) -> 0 | P82: =ROUND((SUM(P80:P81))/1,2) -> 0 | S82: =ROUND((SUM(S80:S81))/1,2) -> 0
D84: Práce HSV | L84: =ROUND((SUM(L9:L83))/2,2) -> 0 | M84: =ROUND((SUM(M9:M83))/2,2) -> 0 | P84: =ROUND((SUM(P9:P83))/2,2) -> 478.97 | S84: =ROUND((SUM(S9:S83))/2,2) -> 43.38
B85: Vranov n. T. - Úprava plochy na ul. Prešovskej - SO 02 - Povrchové odvodnenie | F85: Celkom | K85: =ROUND((SUM(K9:K84)),2) -> 0 | L85: =ROUND((SUM(L9:L84))/3,2) -> 0 | M85: =ROUND((SUM(M9:M84))/3,2) -> 0 | P85: =ROUND((SUM(P9:P84))/3,2) -> 478.97 | S85: =ROUND((SUM(S9:S84))/3,2) -> 43.38 | Z85: =(SUM(Z9:Z84)) -> 0

Sheet Kryci_list 11841
F1: Krycí list rozpočtu | W1: 30.126
B2: Stavba Oprava komunikácií a chodníkov na území mesta Vranov nad Topľou | G2: Miesto:
B3: Objekt 2 - Oprava chodníka na Sídl. II (pred ZŠ II)
I4: Ks:
B5: Zákazka: | F5: Spracoval: Ing. Ján Halgaš | I5: Dňa | J5: 26.04.2017
B6: Odberateľ: Mesto Vranov nad Topľou | G6: IČO:
G7: DIČ:
B8: Dodávateľ: | G8: IČO:
G9: DIČ:
B10: Projektant: | G10: IČO:
G11: DIČ:
B15: A | C15: ZRN | D15: Montáž | E15: Materiál | F15: ZRN spolu | G15: B | H15: Ďalšie náklady
B16: 1 | C16: HSV | D16: ='Rekap 11841'!B16 -> 0 | E16: ='Rekap 11841'!C16 -> 0 | F16: ='Rekap 11841'!D16 -> 0 | G16: 6 | H16: Ostatné náklady | J16: 0
B17: 2 | C17: PSV | G17: 7 | H17: Kompletačná činnosť | J17: ='SO 11841'!Z50 -> 0
B18: 3 | C18: MONT | G18: 8 | H18: HZS | J18: 0
B19: 4 | G19: 9
B20: 5 | C20: Spolu | F20: =SUM(F16:F19) -> 0 | G20: 10 | H20: Spolu | J20: =SUM(J16:J19) -> 0
B21: C | C21: VRN | G21: D | H21: VRN
B22: 11 | C22: Zariadenie staveniska | E22: 0% z [H+P+M] | F22: =((F16*U22*0)+(F17*V22*0)+(F18*W22*0))/100 -> 0 | G22: 16 | H22: Mimoriadne sťaž.podmienky | I22: 0% z [H+P+M] | J22: =((F16*X22*0)+(F17*Y22*0)+(F18*Z22*0))/100 -> 0 | U22: 1 | V22: 1 | W22: 1 | X22: 1 | Y22: 1 | Z22: 1
B23: 12 | C23: Územie so sťaž. podmienk. | E23: 0% z [H+P] | F23: =((F16*U23*0)+(F17*V23*0)+(F18*W23*0))/100 -> 0 | G23: 17 | H23: Horské oblasti | I23: 0% z [H+P+M] | J23: =((F16*X23*0)+(F17*Y23*0)+(F18*Z23*0))/100 -> 0 | U23: 1 | V23: 1 | W23: 0 | X23: 1 | Y23: 1 | Z23: 1
B24: 13 | C24: Prevádzkové vplyvy | E24: 0% z [H+P+M] | F24: =((F16*U24*0)+(F17*V24*0)+(F18*W24*0))/100 -> 0 | G24: 18 | H24: Mimostavenisková doprava | I24: 0% z [H+P] | J24: =((F16*X24*0)+(F17*Y24*0)+(F18*Z24*0))/100 -> 0 | U24: 1 | V24: 1 | W24: 1 | X24: 1 | Y24: 1 | Z24: 0
B25: 14 | G25: 19
B26: 15 | G26: 20 | H26: Spolu | J26: =SUM(J22:J25)+SUM(F22:F25) -> 0
C27: Projektant,rozpočtár | G27: E | H27: Celkové náklady
G28: 21 | H28: Súčet riadkov 5,10,15,20 | J28: =F20+J20+F26+J26 -> 0
G29: 22 | H29: DPH 20% z | I29: =J28-SUM('SO 11841'!K9:'SO 11841'!K49) -> 0 | J29: =ROUND(((ROUND(I29,2)*20)*1/100),2) -> 0
G30: 23 | H30: DPH 0% z | I30: =SUM('SO 11841'!K9:'SO 11841'!K49) -> 0 | J30: =ROUND(((ROUND(I30,2)*0)/100),2) -> 0
G31: 24 | H31: Spolu | J31: =SUM(J28:J30) -> 0
G32: F
D33: Odberateľ | G33: 26 | H33: Dodávateľ

Sheet Rekap 11841
A1: Odberateľ: Mesto Vranov nad Topľou | D1: Spracoval: Ing. Ján Halgaš | W1: 30.126
A2: Projektant: | D2: Ks:
A3: Dodávateľ: | D3: Dátum: 26.04.2017
A4: Stavba Oprava komunikácií a chodníkov na území mesta Vranov nad Topľou
A5: Objekt 2 - Oprava chodníka na Sídl. II (pred ZŠ II)
A8: Prehľad rozpočtových nákladov
A9: Oddiel | B9: Montáž | C9: Materiál | D9: Spolu | E9: Hmotnosť (T) | F9: Suť (T)
A10: Práce HSV
A11: ZEMNÉ PRÁCE | B11: ='SO 11841'!L19 -> 0 | C11: ='SO 11841'!M19 -> 0 | D11: ='SO 11841'!I19 -> 0 | E11: ='SO 11841'!P19 -> 0 | F11: ='SO 11841'!S19 -> 84.8
A12: SPEVNENÉ PLOCHY | B12: ='SO 11841'!L25 -> 0 | C12: ='SO 11841'!M25 -> 0 | D12: ='SO 11841'!I25 -> 0 | E12: ='SO 11841'!P25 -> 40.48 | F12: ='SO 11841'!S25 -> 0
A13: POTRUBNÉ ROZVODY | B13: ='SO 11841'!L29 -> 0 | C13: ='SO 11841'!M29 -> 0 | D13: ='SO 11841'!I29 -> 0 | E13: ='SO 11841'!P29 -> 4.58 | F13: ='SO 11841'!S29 -> 0
A14: OSTATNÉ PRÁCE | B14: ='SO 11841'!L43 -> 0 | C14: ='SO 11841'!M43 -> 0 | D14: ='SO 11841'!I43 -> 0 | E14: ='SO 11841'!P43 -> 44.13 | F14: ='SO 11841'!S43 -> 0
A15: PRESUNY HMÔT | B15: ='SO 11841'!L47 -> 0 | C15: ='SO 11841'!M47 -> 0 | D15: ='SO 11841'!I47 -> 0 | E15: ='SO 11841'!P47 -> 0 | F15: ='SO 11841'!S47 -> 0
A16: Práce HSV | B16: ='SO 11841'!L49 -> 0 | C16: ='SO 11841'!M49 -> 0 | D16: ='SO 11841'!I49 -> 0 | E16: ='SO 11841'!P49 -> 89.19 | F16: ='SO 11841'!S49 -> 84.8
A18: Celkom | B18: ='SO 11841'!L50 -> 0 | C18: ='SO 11841'!M50 -> 0 | D18: ='SO 11841'!I50 -> 0 | E18: ='SO 11841'!P50 -> 89.19 | F18: ='SO 11841'!S50 -> 84.8

Sheet SO 11841
B1: Odberateľ: Mesto Vranov nad Topľou | E1: Spracoval: Ing. Ján Halgaš | W1: 30.126
B2: Projektant: | E2: Ks:
B3: Dodávateľ: | E3: Dátum: 26.04.2017
B4: Stavba Oprava komunikácií a chodníkov na území mesta Vranov nad Topľou
B5: Objekt 2 - Oprava chodníka na Sídl. II (pred ZŠ II)
B7: Prehľad rozpočtových nákladov
A8: Por.č. | B8: Cenník | C8: Kód položky | D8: Názov | E8: Mj | F8: Množstvo | G8: Cena/Mj | H8: Materiál | I8: Cena celkom | P8: Hmotnosť | S8: Suť
D9: Práce HSV
D10: ZEMNÉ PRÁCE
B11: 221/B 1 | C11: 113107242 | D11: Odstránenie podkladu alebo krytu asfaltového nad 200 m2,hr.nad 50 do 100 mm 0,181 t | E11: m2 | F11: 468.5 | J11: =ROUND(F11*(N11),2) -> 459.13 | K11: =ROUND(F11*(O11),2) -> 0 | L11: =ROUND(F11*(G11),2) -> 0 | N11: 0.98 | S11: =ROUND(F11*(X11),3) -> 84.799 | X11: 0.181 | Z11: 0
B12: 221/B 1 | C12: 113204111 | D12: Vytrhanie obrúb, s vybúraním lôžka, záhonových 0,040 t | E12: m | F12: 138 | J12: =ROUND(F12*(N12),2) -> 124.2 | K12: =ROUND(F12*(O12),2) -> 0 | L12: =ROUND(F12*(G12),2) -> 0 | N12: 0.9 | Z12: 0
B13: 1/A 1 | C13: 132301101 | D13: Výkop ryhy do šírky 600 mm v horn.4 do 100 m3 | E13: m3 | F13: 36.12 | J13: =ROUND(F13*(N13),2) -> 1509.82 | K13: =ROUND(F13*(O13),2) -> 0 | L13: =ROUND(F13*(G13),2) -> 0 | N13: 41.8 | Z13: 0
B14: 1/A 1 | C14: 162501102 | D14: Vodorovné premiestnenie výkopku tr.1-4 do 3000 m | E14: m3 | F14: 22.575 | J14: =ROUND(F14*(N14),2) -> 77.43 | K14: =ROUND(F14*(O14),2) -> 0 | L14: =ROUND(F14*(G14),2) -> 0 | N14: 3.43 | Z14: 0
B15: 1/A 1 | C15: 171201101 | D15: Uloženie sypaniny do násypov s rozprestretím sypaniny vo vrstvách a s hrubým urovnaním nezhutnených | E15: m3 | F15: 22.575 | J15: =ROUND(F15*(N15),2) -> 16.93 | K15: =ROUND(F15*(O15),2) -> 0 | L15: =ROUND(F15*(G15),2) -> 0 | N15: 0.75 | Z15: 0
B16: 231/A 2 | C16: 182001123 | D16: Plošná úprava terénu pri nerovnosti do 150 mm na svahu so sklonom do 1:1 | E16: m2 | F16: 27.6 | J16: =ROUND(F16*(N16),2) -> 66.52 | K16: =ROUND(F16*(O16),2) -> 0 | L16: =ROUND(F16*(G16),2) -> 0 | N16: 2.41 | Z16: 0
B17: 1/A 1 | C17: 174101001 | D17: Zásyp sypaninou so zhutnením jám, šachiet, rýh, zárezov alebo okolo objektov do 100 m3 | E17: m3 | F17: 13.545 | J17: =ROUND(F17*(N17),2) -> 34.27 | K17: =ROUND(F17*(O17),2) -> 0 | L17: =ROUND(F17*(G17),2) -> 0 | N17: 2.53 | Z17: 0
B18: 221/B 1 | C18: 113202111 | D18: Vytrhanie obrúb, s vybúraním lôžka, z krajníkov alebo obrubníkov,145 t | E18: m | F18: 163 | J18: =ROUND(F18*(N18),2) -> 246.13 | K18: =ROUND(F18*(O18),2) -> 0 | L18: =ROUND(F18*(G18),2) -> 0 | N18: 1.51 | Z18: 0
D19: ZEMNÉ PRÁCE | L19: =ROUND((SUM(L10:L18))/1,2) -> 0 | M19: =ROUND((SUM(M10:M18))/1,2) -> 0 | P19: =ROUND((SUM(P10:P18))/1,2) -> 0 | S19: =ROUND((SUM(S10:S18))/1,2) -> 84.8
D21: SPEVNENÉ PLOCHY
B22: 221/A 1 | C22: 573231111 | D22: Postrek asfaltový spojovací bez posypu kamenivom z cestnej emulzie v množstve od 0,50 do 0,80 kg/m2 | E22: m2 | F22: 468.5 | J22: =ROUND(F22*(N22),2) -> 103.07 | K22: =ROUND(F22*(O22),2) -> 0 | L22: =ROUND(F22*(G22),2) -> 0 | N22: 0.22 | P22: =ROUND(F22*(R22),3) -> 0.333 | R22: 0.00071 | Z22: 0
B23: R/R 0 | C23: 577144121 | D23: Doasfaltovanie cesty pri obrubníkoch - Asfaltový betón stredozrný AC 11 - III obrus., STN EN 13108-1, po zhutnení hr. 60 mm | E23: m2 | F23: 81.5 | J23: =ROUND(F23*(N23),2) -> 742.47 | K23: =ROUND(F23*(O23),2) -> 0 | L23: =ROUND(F23*(G23),2) -> 0 | N23: 9.11 | Z23: 0
B24: 221/A 1 | C24: 577131211 | D24: Asfaltový betón stredozrný AC 11 - III obrus., STN EN 13108-1, po zhutnení hr. 40 mm | E24: m2 | F24: 387 | J24: =ROUND(F24*(N24),2) -> 2186.55 | K24: =ROUND(F24*(O24),2) -> 0 | L24: =ROUND(F24*(G24),2) -> 0 | N24: 5.65 | P24: =ROUND(F24*(R24),3) -> 40.147 | R24: 0.10374 | Z24: 0
D25: SPEVNENÉ PLOCHY | L25: =ROUND((SUM(L21:L24))/1,2) -> 0 | M25: =ROUND((SUM(M21:M24))/1,2) -> 0 | P25: =ROUND((SUM(P21:P24))/1,2) -> 40.48 | S25: =ROUND((SUM(S21:S24))/1,2) -> 0
D27: POTRUBNÉ ROZVODY
B28: 221/C 1 | C28: 899231111 | D28: Výšková úprava uličného vstupu alebo vpuste do 200 mm zvýšením mreže | E28: kus | F28: 10 | J28: =ROUND(F28*(N28),2) -> 549.7 | K28: =ROUND(F28*(O28),2) -> 0 | L28: =ROUND(F28*(G28),2) -> 0 | N28: 54.97 | P28: =ROUND(F28*(R28),3) -> 4.584 | R28: 0.4583713 | Z28: 0
D29: POTRUBNÉ ROZVODY | L29: =ROUND((SUM(L27:L28))/1,2) -> 0 | M29: =ROUND((SUM(M27:M28))/1,2) -> 0 | P29: =ROUND((SUM(P27:P28))/1,2) -> 4.58 | S29: =ROUND((SUM(S27:S28))/1,2) -> 0
D31: OSTATNÉ PRÁCE
B32: 1/A 1 | C32: 171209003 | D32: Poplatok za skládku z kategórie "N" - nebezpečný odpad | E32: t | F32: 84.7985 | J32: =ROUND(F32*(N32),2) -> 3478.43 | K32: =ROUND(F32*(O32),2) -> 0 | L32: =ROUND(F32*(G32),2) -> 0 | N32: 41.02 | Z32: 0
B33: 221/B 1 | C33: 979087213 | D33: Nakladanie na dopravné prostriedky pre vodorovnú dopravu vybúraných hmôt | E33: t | F33: 113.954 | J33: =ROUND(F33*(N33),2) -> 1782.24 | K33: =ROUND(F33*(O33),2) -> 0 | L33: =ROUND(F33*(G33),2) -> 0 | N33: 15.64 | Z33: 0
B34: 321/B 1 | C34: 979082319 | D34: Príplatok k cenám za každých ďalších aj začatých 1000 m | E34: t | F34: 1367.448 | J34: =ROUND(F34*(N34),2) -> 205.12 | K34: =ROUND(F34*(O34),2) -> 0 | L34: =ROUND(F34*(G34),2) -> 0 | N34: 0.15 | Z34: 0
B35: 321/B 1 | C35: 979082315 | D35: Vodorovná doprava sutiny a vybúraných hmôt bez naloženia ale so zložením do 3000 m | E35: t | F35: 113.954 | J35: =ROUND(F35*(N35),2) -> 338.44 | K35: =ROUND(F35*(O35),2) -> 0 | L35: =ROUND(F35*(G35),2) -> 0 | N35: 2.97 | Z35: 0
B36: 1/A 1 | C36: 171209002 | D36: Poplatok za skladovanie - ostatné | E36: t | F36: 29.155 | J36: =ROUND(F36*(N36),2) -> 332.08 | K36: =ROUND(F36*(O36),2) -> 0 | L36: =ROUND(F36*(G36),2) -> 0 | N36: 11.39 | Z36: 0
B37: S/S60 | C37: 5838021100 | D37: Obrubník cestný dl. 1,0 m | E37: m | F37: 164.63 | J37: =ROUND(F37*(N37),2) -> 915.34 | K37: =ROUND(F37*(O37),2) -> 0 | M37: =ROUND(F37*(H37),2) -> 0 | N37: 5.56 | P37: =ROUND(F37*(R37),3) -> 10.701 | R37: 0.065 | Z37: 0
B38: 221/A 1 | C38: 916561111 | D38: Osadenie záhon. obrubníka betón., do lôžka z bet. pros. tr. C 10/12,5 s bočnou oporou | E38: m | F38: 138 | J38: =ROUND(F38*(N38),2) -> 496.8 | K38: =ROUND(F38*(O38),2) -> 0 | L38: =ROUND(F38*(G38),2) -> 0 | N38: 3.6 | P38: =ROUND(F38*(R38),3) -> 14.575 | R38: 0.10561946 | Z38: 0
B39: P/P 1 | C39: 592029170010 | D39: PREMAC záhonový obrubník 100/20/5 cm farba sivá | E39: KUS | F39: 139.38 | J39: =ROUND(F39*(N39),2) -> 333.12 | K39: =ROUND(F39*(O39),2) -> 0 | M39: =ROUND(F39*(H39),2) -> 0 | N39: 2.39 | Z39: 0
B40: 221/B 1 | C40: 919735112 | D40: Rezanie existujúceho asfaltového krytu alebo podkladu hľbky nad 50 do 100 mm | E40: m | F40: 173 | J40: =ROUND(F40*(N40),2) -> 918.63 | K40: =ROUND(F40*(O40),2) -> 0 | L40: =ROUND(F40*(G40),2) -> 0 | N40: 5.31 | P40: =ROUND(F40*(R40),3) -> 0.006 | R40: 3.36e-05 | Z40: 0
B41: 221/C 1 | C41: 938909311 | D41: Odstránenie blata, prachu alebo hlineného nánosu, z povrchu podkladu alebo krytu bet. alebo asfalt. | E41: m2 | F41: 468.5 | J41: =ROUND(F41*(N41),2) -> 9.37 | K41: =ROUND(F41*(O41),2) -> 0 | L41: =ROUND(F41*(G41),2) -> 0 | N41: 0.02 | Z41: 0
B42: 221/A 1 | C42: 916161111 | D42: Osadenie cestnej obruby z veľkých kociek s bočnou oporou z bet. tr. C 12/15 do lôžka z betónu | E42: m | F42: 163 | J42: =ROUND(F42*(N42),2) -> 656.89 | K42: =ROUND(F42*(O42),2) -> 0 | L42: =ROUND(F42*(G42),2) -> 0 | N42: 4.03 | P42: =ROUND(F42*(R42),3) -> 18.849 | R42: 0.11564064 | Z42: 0
D43: OSTATNÉ PRÁCE | L43: =ROUND((SUM(L31:L42))/1,2) -> 0 | M43: =ROUND((SUM(M31:M42))/1,2) -> 0 | P43: =ROUND((SUM(P31:P42))/1,2) -> 44.13 | S43: =ROUND((SUM(S31:S42))/1,2) -> 0
D45: PRESUNY HMÔT
B46: 221/C 1 | C46: 998225311 | D46: Presun hmôt pre opravy a údržbu komunikácií a letísk s krytom asfaltovým alebo betónovým | E46: t | F46: 89.195401 | J46: =ROUND(F46*(N46),2) -> 69.57 | K46: =ROUND(F46*(O46),2) -> 0 | L46: =ROUND(F46*(G46),2) -> 0 | N46: 0.78 | Z46: 0
D47: PRESUNY HMÔT | L47: =ROUND((SUM(L45:L46))/1,2) -> 0 | M47: =ROUND((SUM(M45:M46))/1,2) -> 0 | P47: =ROUND((SUM(P45:P46))/1,2) -> 0 | S47: =ROUND((SUM(S45:S46))/1,2) -> 0
D49: Práce HSV | L49: =ROUND((SUM(L9:L48))/2,2) -> 0 | M49: =ROUND((SUM(M9:M48))/2,2) -> 0 | P49: =ROUND((SUM(P9:P48))/2,2) -> 89.19 | S49: =ROUND((SUM(S9:S48))/2,2) -> 84.8
B50: 2 - Oprava chodníka na Sídl. II (pred ZŠ II) | F50: Celkom | K50: =ROUND((SUM(K9:K49)),2) -> 0 | L50: =ROUND((SUM(L9:L49))/3,2) -> 0 | M50: =ROUND((SUM(M9:M49))/3,2) -> 0 | P50: =ROUND((SUM(P9:P49))/3,2) -> 89.19 | S50: =ROUND((SUM(S9:S49))/3,2) -> 84.8 | Z50: =(SUM(Z9:Z49)) -> 0

Sheet Kryci_list 11843
F1: Krycí list rozpočtu | W1: 30.126
B2: Stavba Oprava komunikácií a chodníkov na území mesta Vranov nad Topľou | G2: Miesto:
B3: Objekt 3 - Oprava komunikácie na Dubníku
I4: Ks:
B5: Zákazka: | F5: Spracoval: Ing. Ján Halgaš | I5: Dňa | J5: 26.04.2017
B6: Odberateľ: Mesto Vranov nad Topľou | G6: IČO:
G7: DIČ:
B8: Dodávateľ: | G8: IČO:
G9: DIČ:
B10: Projektant: | G10: IČO:
G11: DIČ:
B15: A | C15: ZRN | D15: Montáž | E15: Materiál | F15: ZRN spolu | G15: B | H15: Ďalšie náklady
B16: 1 | C16: HSV | D16: ='Rekap 11843'!B17 -> 0 | E16: ='Rekap 11843'!C17 -> 0 | F16: ='Rekap 11843'!D17 -> 0 | G16: 6 | H16: Ostatné náklady | J16: 0
B17: 2 | C17: PSV | G17: 7 | H17: Kompletačná činnosť | J17: ='SO 11843'!Z55 -> 0
B18: 3 | C18: MONT | G18: 8 | H18: HZS | J18: 0
B19: 4 | G19: 9
B20: 5 | C20: Spolu | F20: =SUM(F16:F19) -> 0 | G20: 10 | H20: Spolu | J20: =SUM(J16:J19) -> 0
B21: C | C21: VRN | G21: D | H21: VRN
B22: 11 | C22: Zariadenie staveniska | E22: 0% z [H+P+M] | F22: =((F16*U22*0)+(F17*V22*0)+(F18*W22*0))/100 -> 0 | G22: 16 | H22: Mimoriadne sťaž.podmienky | I22: 0% z [H+P+M] | J22: =((F16*X22*0)+(F17*Y22*0)+(F18*Z22*0))/100 -> 0 | U22: 1 | V22: 1 | W22: 1 | X22: 1 | Y22: 1 | Z22: 1
B23: 12 | C23: Územie so sťaž. podmienk. | E23: 0% z [H+P] | F23: =((F16*U23*0)+(F17*V23*0)+(F18*W23*0))/100 -> 0 | G23: 17 | H23: Horské oblasti | I23: 0% z [H+P+M] | J23: =((F16*X23*0)+(F17*Y23*0)+(F18*Z23*0))/100 -> 0 | U23: 1 | V23: 1 | W23: 0 | X23: 1 | Y23: 1 | Z23: 1
B24: 13 | C24: Prevádzkové vplyvy | E24: 0% z [H+P+M] | F24: =((F16*U24*0)+(F17*V24*0)+(F18*W24*0))/100 -> 0 | G24: 18 | H24: Mimostavenisková doprava | I24: 0% z [H+P] | J24: =((F16*X24*0)+(F17*Y24*0)+(F18*Z24*0))/100 -> 0 | U24: 1 | V24: 1 | W24: 1 | X24: 1 | Y24: 1 | Z24: 0
B25: 14 | G25: 19
B26: 15 | G26: 20 | H26: Spolu | J26: =SUM(J22:J25)+SUM(F22:F25) -> 0
C27: Projektant,rozpočtár | G27: E | H27: Celkové náklady
G28: 21 | H28: Súčet riadkov 5,10,15,20 | J28: =F20+J20+F26+J26 -> 0
G29: 22 | H29: DPH 20% z | I29: =J28-SUM('SO 11843'!K9:'SO 11843'!K54) -> 0 | J29: =ROUND(((ROUND(I29,2)*20)*1/100),2) -> 0
G30: 23 | H30: DPH 0% z | I30: =SUM('SO 11843'!K9:'SO 11843'!K54) -> 0 | J30: =ROUND(((ROUND(I30,2)*0)/100),2) -> 0
G31: 24 | H31: Spolu | J31: =SUM(J28:J30) -> 0
G32: F
D33: Odberateľ | G33: 26 | H33: Dodávateľ

Sheet Rekap 11843
A1: Odberateľ: Mesto Vranov nad Topľou | D1: Spracoval: Ing. Ján Halgaš | W1: 30.126
A2: Projektant: | D2: Ks:
A3: Dodávateľ: | D3: Dátum: 26.04.2017
A4: Stavba Oprava komunikácií a chodníkov na území mesta Vranov nad Topľou
A5: Objekt 3 - Oprava komunikácie na Dubníku
A8: Prehľad rozpočtových nákladov
A9: Oddiel | B9: Montáž | C9: Materiál | D9: Spolu | E9: Hmotnosť (T) | F9: Suť (T)
A10: Práce HSV
A11: ZEMNÉ PRÁCE | B11: ='SO 11843'!L21 -> 0 | C11: ='SO 11843'!M21 -> 0 | D11: ='SO 11843'!I21 -> 0 | E11: ='SO 11843'!P21 -> 0 | F11: ='SO 11843'!S21 -> 0
A12: VODOROVNÉ KONŠTRUKCIE | B12: ='SO 11843'!L25 -> 0 | C12: ='SO 11843'!M25 -> 0 | D12: ='SO 11843'!I25 -> 0 | E12: ='SO 11843'!P25 -> 1.36 | F12: ='SO 11843'!S25 -> 0
A13: SPEVNENÉ PLOCHY | B13: ='SO 11843'!L34 -> 0 | C13: ='SO 11843'!M34 -> 0 | D13: ='SO 11843'!I34 -> 0 | E13: ='SO 11843'!P34 -> 105.49 | F13: ='SO 11843'!S34 -> 0
A14: POTRUBNÉ ROZVODY | B14: ='SO 11843'!L38 -> 0 | C14: ='SO 11843'!M38 -> 0 | D14: ='SO 11843'!I38 -> 0 | E14: ='SO 11843'!P38 -> 2.75 | F14: ='SO 11843'!S38 -> 0
A15: OSTATNÉ PRÁCE | B15: ='SO 11843'!L48 -> 0 | C15: ='SO 11843'!M48 -> 0 | D15: ='SO 11843'!I48 -> 0 | E15: ='SO 11843'!P48 -> 34.03 | F15: ='SO 11843'!S48 -> 0
A16: PRESUNY HMÔT | B16: ='SO 11843'!L52 -> 0 | C16: ='SO 11843'!M52 -> 0 | D16: ='SO 11843'!I52 -> 0 | E16: ='SO 11843'!P52 -> 0 | F16: ='SO 11843'!S52 -> 0
A17: Práce HSV | B17: ='SO 11843'!L54 -> 0 | C17: ='SO 11843'!M54 -> 0 | D17: ='SO 11843'!I54 -> 0 | E17: ='SO 11843'!P54 -> 143.63 | F17: ='SO 11843'!S54 -> 0
A19: Celkom | B19: ='SO 11843'!L55 -> 0 | C19: ='SO 11843'!M55 -> 0 | D19: ='SO 11843'!I55 -> 0 | E19: ='SO 11843'!P55 -> 143.63 | F19: ='SO 11843'!S55 -> 0

Sheet SO 11843
B1: Odberateľ: Mesto Vranov nad Topľou | E1: Spracoval: Ing. Ján Halgaš | W1: 30.126
B2: Projektant: | E2: Ks:
B3: Dodávateľ: | E3: Dátum: 26.04.2017
B4: Stavba Oprava komunikácií a chodníkov na území mesta Vranov nad Topľou
B5: Objekt 3 - Oprava komunikácie na Dubníku
B7: Prehľad rozpočtových nákladov
A8: Por.č. | B8: Cenník | C8: Kód položky | D8: Názov | E8: Mj | F8: Množstvo | G8: Cena/Mj | H8: Materiál | I8: Cena celkom | P8: Hmotnosť | S8: Suť
D9: Práce HSV
D10: ZEMNÉ PRÁCE
B11: 1/A 1 | C11: 132301101 | D11: Výkop ryhy do šírky 600 mm v horn.4 do 100 m3 | E11: m3 | F11: 4.8 | J11: =ROUND(F11*(N11),2) -> 200.64 | K11: =ROUND(F11*(O11),2) -> 0 | L11: =ROUND(F11*(G11),2) -> 0 | N11: 41.8 | Z11: 0
B12: 1/A 1 | C12: 162501102 | D12: Vodorovné premiestnenie výkopku tr.1-4 do 3000 m | E12: m3 | F12: 21.18 | J12: =ROUND(F12*(N12),2) -> 72.65 | K12: =ROUND(F12*(O12),2) -> 0 | L12: =ROUND(F12*(G12),2) -> 0 | N12: 3.43 | Z12: 0
B13: 1/A 1 | C13: 171201101 | D13: Uloženie sypaniny do násypov s rozprestretím sypaniny vo vrstvách a s hrubým urovnaním nezhutnených | E13: m3 | F13: 21.18 | J13: =ROUND(F13*(N13),2) -> 15.89 | K13: =ROUND(F13*(O13),2) -> 0 | L13: =ROUND(F13*(G13),2) -> 0 | N13: 0.75 | Z13: 0
B14: 1/A 1 | C14: 122201101 | D14: Odkopávka a prekopávka nezapažená v hornine 3,do 100 m3 | E14: m3 | F14: 16.38 | J14: =ROUND(F14*(N14),2) -> 65.68 | K14: =ROUND(F14*(O14),2) -> 0 | L14: =ROUND(F14*(G14),2) -> 0 | N14: 4.01 | Z14: 0
B15: 1/A 1 | C15: 175101101 | D15: Obsyp potrubia sypaninou z vhodných hornín 1 až 4 bez prehodenia sypaniny | E15: m3 | F15: 3.249156 | J15: =ROUND(F15*(N15),2) -> 33.82 | K15: =ROUND(F15*(O15),2) -> 0 | L15: =ROUND(F15*(G15),2) -> 0 | N15: 10.41 | Z15: 0
B16: P/PE | C16: 583372130 | D16: Štrkopiesok / A3 / frakcia 0-32 tr. Z | E16: M3 | F16: 3.249 | J16: =ROUND(F16*(N16),2) -> 50.78 | K16: =ROUND(F16*(O16),2) -> 0 | M16: =ROUND(F16*(H16),2) -> 0 | N16: 15.63 | Z16: 0
B17: 1/A 1 | C17: 122201109 | D17: Príplatok k cenám za lepivosť horniny | E17: m3 | F17: 8.19 | J17: =ROUND(F17*(N17),2) -> 5.57 | K17: =ROUND(F17*(O17),2) -> 0 | L17: =ROUND(F17*(G17),2) -> 0 | N17: 0.68 | Z17: 0
B18: 1/A 1 | C18: 121101112 | D18: Odstránenie ornice s premiestn. na hromady, so zložením na vzdialenosť do 100 m a do 1000 m3 | E18: m3 | F18: 13.65 | J18: =ROUND(F18*(N18),2) -> 11.19 | K18: =ROUND(F18*(O18),2) -> 0 | L18: =ROUND(F18*(G18),2) -> 0 | N18: 0.82 | Z18: 0
B19: 1/A 1 | C19: 181101102 | D19: Úprava pláne v zárezoch v hornine 1-4 so zhutnením | E19: m2 | F19: 97.5 | J19: =ROUND(F19*(N19),2) -> 32.18 | K19: =ROUND(F19*(O19),2) -> 0 | L19: =ROUND(F19*(G19),2) -> 0 | N19: 0.33 | Z19: 0
B20: 1/A 1 | C20: 181301101 | D20: Rozprestretie ornice na rovine alebo na svahu do sklonu 1:5,plocha do 500 m2,hr.do 100 mm | E20: m2 | F20: 57 | J20: =ROUND(F20*(N20),2) -> 50.73 | K20: =ROUND(F20*(O20),2) -> 0 | L20: =ROUND(F20*(G20),2) -> 0 | N20: 0.89 | Z20: 0
D21: ZEMNÉ PRÁCE | L21: =ROUND((SUM(L10:L20))/1,2) -> 0 | M21: =ROUND((SUM(M10:M20))/1,2) -> 0 | P21: =ROUND((SUM(P10:P20))/1,2) -> 0 | S21: =ROUND((SUM(S10:S20))/1,2) -> 0
D23: VODOROVNÉ KONŠTRUKCIE
B24: 271/A 1 | C24: 451573111 | D24: Lôžko pod potrubie, stoky a drobné objekty, v otvorenom výkope z piesku a štrkopiesku do 63 mm | E24: m3 | F24: 0.72 | J24: =ROUND(F24*(N24),2) -> 15.09 | K24: =ROUND(F24*(O24),2) -> 0 | L24: =ROUND(F24*(G24),2) -> 0 | N24: 20.96 | P24: =ROUND(F24*(R24),3) -> 1.361 | R24: 1.89077 | Z24: 0
D25: VODOROVNÉ KONŠTRUKCIE | L25: =ROUND((SUM(L23:L24))/1,2) -> 0 | M25: =ROUND((SUM(M23:M24))/1,2) -> 0 | P25: =ROUND((SUM(P23:P24))/1,2) -> 1.36 | S25: =ROUND((SUM(S23:S24))/1,2) -> 0
D27: SPEVNENÉ PLOCHY
B28: 221/A 1 | C28: 573231111 | D28: Postrek asfaltový spojovací bez posypu kamenivom z cestnej emulzie v množstve od 0,50 do 0,80 kg/m2 | E28: m2 | F28: 150 | J28: =ROUND(F28*(N28),2) -> 33 | K28: =ROUND(F28*(O28),2) -> 0 | L28: =ROUND(F28*(G28),2) -> 0 | N28: 0.22 | P28: =ROUND(F28*(R28),3) -> 0.107 | R28: 0.00071 | Z28: 0
B29: 221/A 1 | C29: 577142212 | D29: Asfaltový betón stredozrný AC 11 - III obrus., STN EN 13108-1, po zhutnení hr. 50 mm | E29: m2 | F29: 150 | J29: =ROUND(F29*(N29),2) -> 1098 | K29: =ROUND(F29*(O29),2) -> 0 | L29: =ROUND(F29*(G29),2) -> 0 | N29: 7.32 | P29: =ROUND(F29*(R29),3) -> 19.449 | R29: 0.12966 | Z29: 0
B30: 221/A 1 | C30: 581114113 | D30: Kryt cementobetónových cestných komunikácií skupiny CB I pre TDZ I a II, hr. 100 mm | E30: m2 | F30: 150 | J30: =ROUND(F30*(N30),2) -> 1243.5 | K30: =ROUND(F30*(O30),2) -> 0 | L30: =ROUND(F30*(G30),2) -> 0 | N30: 8.29 | P30: =ROUND(F30*(R30),3) -> 36.86 | R30: 0.24573076 | Z30: 0
B31: 221/A 1 | C31: 564241111 | D31: Podklad zo štrkopiesku hrúbky 120 mm | E31: m2 | F31: 97.5 | J31: =ROUND(F31*(N31),2) -> 196.95 | K31: =ROUND(F31*(O31),2) -> 0 | L31: =ROUND(F31*(G31),2) -> 0 | N31: 2.02 | P31: =ROUND(F31*(R31),3) -> 23.681 | R31: 0.24288 | Z31: 0
B32: 221/A 1 | C32: 596911112 | D32: Kladenie zámkovej dlažby pre peších nad 20 m2 do pieskového lôžka fr. 4-8 mm hr. 40 mm, škárovanie pieskom | E32: m2 | F32: 97.5 | J32: =ROUND(F32*(N32),2) -> 1066.65 | K32: =ROUND(F32*(O32),2) -> 0 | L32: =ROUND(F32*(G32),2) -> 0 | N32: 10.94 | P32: =ROUND(F32*(R32),3) -> 10.92 | R32: 0.112 | Z32: 0
B33: S/S70 | C33: 5922912300 | D33: Betónová dlažba hr. 6 cm | E33: m2 | F33: 98.475 | J33: =ROUND(F33*(N33),2) -> 1106.86 | K33: =ROUND(F33*(O33),2) -> 0 | M33: =ROUND(F33*(H33),2) -> 0 | N33: 11.24 | P33: =ROUND(F33*(R33),3) -> 14.476 | R33: 0.147 | Z33: 0
D34: SPEVNENÉ PLOCHY | L34: =ROUND((SUM(L27:L33))/1,2) -> 0 | M34: =ROUND((SUM(M27:M33))/1,2) -> 0 | P34: =ROUND((SUM(P27:P33))/1,2) -> 105.49 | S34: =ROUND((SUM(S27:S33))/1,2) -> 0
D36: POTRUBNÉ ROZVODY
B37: 221/C 1 | C37: 899231111 | D37: Výšková úprava uličného vstupu alebo vpuste do 200 mm zvýšením mreže | E37: kus | F37: 6 | J37: =ROUND(F37*(N37),2) -> 329.82 | K37: =ROUND(F37*(O37),2) -> 0 | L37: =ROUND(F37*(G37),2) -> 0 | N37: 54.97 | P37: =ROUND(F37*(R37),3) -> 2.75 | R37: 0.4583713 | Z37: 0
D38: POTRUBNÉ ROZVODY | L38: =ROUND((SUM(L36:L37))/1,2) -> 0 | M38: =ROUND((SUM(M36:M37))/1,2) -> 0 | P38: =ROUND((SUM(P36:P37))/1,2) -> 2.75 | S38: =ROUND((SUM(S36:S37))/1,2) -> 0
D40: OSTATNÉ PRÁCE
B41: 221/A 1 | C41: 916561111 | D41: Osadenie záhon. obrubníka betón., do lôžka z bet. pros. tr. C 10/12,5 s bočnou oporou | E41: m | F41: 130 | J41: =ROUND(F41*(N41),2) -> 468 | K41: =ROUND(F41*(O41),2) -> 0 | L41: =ROUND(F41*(G41),2) -> 0 | N41: 3.6 | P41: =ROUND(F41*(R41),3) -> 13.731 | R41: 0.10561946 | Z41: 0
B42: P/P 1 | C42: 592029170010 | D42: PREMAC záhonový obrubník 100/20/5 cm farba sivá | E42: KUS | F42: 131.3 | J42: =ROUND(F42*(N42),2) -> 313.81 | K42: =ROUND(F42*(O42),2) -> 0 | M42: =ROUND(F42*(H42),2) -> 0 | N42: 2.39 | Z42: 0
B43: 221/B 1 | C43: 919735112 | D43: Rezanie existujúceho asfaltového krytu alebo podkladu hľbky nad 50 do 100 mm | E43: m | F43: 10 | J43: =ROUND(F43*(N43),2) -> 53.1 | K43: =ROUND(F43*(O43),2) -> 0 | L43: =ROUND(F43*(G43),2) -> 0 | N43: 5.31 | P43: =ROUND(F43*(R43),3) -> 0 | R43: 3.36e-05 | Z43: 0
B44: 221/C 1 | C44: 938909311 | D44: Odstránenie blata, prachu alebo hlineného nánosu, z povrchu podkladu alebo krytu bet. alebo asfalt. | E44: m2 | F44: 150 | J44: =ROUND(F44*(N44),2) -> 3 | K44: =ROUND(F44*(O44),2) -> 0 | L44: =ROUND(F44*(G44),2) -> 0 | N44: 0.02 | Z44: 0
B45: 221/A 1 | C45: 919411111 | D45: Čelo priepustu z betónu prostého z rúr DN 300 až DN 500 mm | E45: kus | F45: 2 | J45: =ROUND(F45*(N45),2) -> 438.44 | K45: =ROUND(F45*(O45),2) -> 0 | L45: =ROUND(F45*(G45),2) -> 0 | N45: 219.22 | P45: =ROUND(F45*(R45),3) -> 12.783 | R45: 6.3913268 | Z45: 0
B46: 221/A 1 | C46: 919512112 | D46: Zhotovenie priepustu z rúr železobetónových DN 400 mm | E46: m | F46: 6 | J46: =ROUND(F46*(N46),2) -> 164.88 | K46: =ROUND(F46*(O46),2) -> 0 | L46: =ROUND(F46*(G46),2) -> 0 | N46: 27.48 | P46: =ROUND(F46*(R46),3) -> 3.742 | R46: 0.62362734 | Z46: 0
B47: S/S70 | C47: 5922265800 | D47: Rúra železobetónová DN400, dl. 1 m pre priepust | E47: kus | F47: 6.06 | J47: =ROUND(F47*(N47),2) -> 507.4 | K47: =ROUND(F47*(O47),2) -> 0 | M47: =ROUND(F47*(H47),2) -> 0 | N47: 83.73 | P47: =ROUND(F47*(R47),3) -> 3.769 | R47: 0.622 | Z47: 0
D48: OSTATNÉ PRÁCE | L48: =ROUND((SUM(L40:L47))/1,2) -> 0 | M48: =ROUND((SUM(M40:M47))/1,2) -> 0 | P48: =ROUND((SUM(P40:P47))/1,2) -> 34.03 | S48: =ROUND((SUM(S40:S47))/1,2) -> 0
D50: PRESUNY HMÔT
B51: 221/C 1 | C51: 998225311 | D51: Presun hmôt pre opravy a údržbu komunikácií a letísk s krytom asfaltovým alebo betónovým | E51: t | F51: 143.62793 | J51: =ROUND(F51*(N51),2) -> 112.03 | K51: =ROUND(F51*(O51),2) -> 0 | L51: =ROUND(F51*(G51),2) -> 0 | N51: 0.78 | Z51: 0
D52: PRESUNY HMÔT | L52: =ROUND((SUM(L50:L51))/1,2) -> 0 | M52: =ROUND((SUM(M50:M51))/1,2) -> 0 | P52: =ROUND((SUM(P50:P51))/1,2) -> 0 | S52: =ROUND((SUM(S50:S51))/1,2) -> 0
D54: Práce HSV | L54: =ROUND((SUM(L9:L53))/2,2) -> 0 | M54: =ROUND((SUM(M9:M53))/2,2) -> 0 | P54: =ROUND((SUM(P9:P53))/2,2) -> 143.63 | S54: =ROUND((SUM(S9:S53))/2,2) -> 0
B55: 3 - Oprava komunikácie na Dubníku | F55: Celkom | K55: =ROUND((SUM(K9:K54)),2) -> 0 | L55: =ROUND((SUM(L9:L54))/3,2) -> 0 | M55: =ROUND((SUM(M9:M54))/3,2) -> 0 | P55: =ROUND((SUM(P9:P54))/3,2) -> 143.63 | S55: =ROUND((SUM(S9:S54))/3,2) -> 0 | Z55: =(SUM(Z9:Z54)) -> 0

Sheet Kryci_list 11845
F1: Krycí list rozpočtu | W1: 30.126
B2: Stavba Oprava komunikácií a chodníkov na území mesta Vranov nad Topľou | G2: Miesto:
B3: Objekt 4- Oprava chodníka od ul. Mlynská po ul. Dobrianskeho
I4: Ks:
B5: Zákazka: | F5: Spracoval: Ing. Ján Halgaš | I5: Dňa | J5: 26.04.2017
B6: Odberateľ: Mesto Vranov nad Topľou | G6: IČO:
G7: DIČ:
B8: Dodávateľ: | G8: IČO:
G9: DIČ:
B10: Projektant: | G10: IČO:
G11: DIČ:
B15: A | C15: ZRN | D15: Montáž | E15: Materiál | F15: ZRN spolu | G15: B | H15: Ďalšie náklady
B16: 1 | C16: HSV | D16: ='Rekap 11845'!B16 -> 0 | E16: ='Rekap 11845'!C16 -> 0 | F16: ='Rekap 11845'!D16 -> 0 | G16: 6 | H16: Ostatné náklady | J16: 0
B17: 2 | C17: PSV | G17: 7 | H17: Kompletačná činnosť | J17: ='SO 11845'!Z50 -> 0
B18: 3 | C18: MONT | G18: 8 | H18: HZS | J18: 0
B19: 4 | G19: 9
B20: 5 | C20: Spolu | F20: =SUM(F16:F19) -> 0 | G20: 10 | H20: Spolu | J20: =SUM(J16:J19) -> 0
B21: C | C21: VRN | G21: D | H21: VRN
B22: 11 | C22: Zariadenie staveniska | E22: 0% z [H+P+M] | F22: =((F16*U22*0)+(F17*V22*0)+(F18*W22*0))/100 -> 0 | G22: 16 | H22: Mimoriadne sťaž.podmienky | I22: 0% z [H+P+M] | J22: =((F16*X22*0)+(F17*Y22*0)+(F18*Z22*0))/100 -> 0 | U22: 1 | V22: 1 | W22: 1 | X22: 1 | Y22: 1 | Z22: 1
B23: 12 | C23: Územie so sťaž. podmienk. | E23: 0% z [H+P] | F23: =((F16*U23*0)+(F17*V23*0)+(F18*W23*0))/100 -> 0 | G23: 17 | H23: Horské oblasti | I23: 0% z [H+P+M] | J23: =((F16*X23*0)+(F17*Y23*0)+(F18*Z23*0))/100 -> 0 | U23: 1 | V23: 1 | W23: 0 | X23: 1 | Y23: 1 | Z23: 1
B24: 13 | C24: Prevádzkové vplyvy | E24: 0% z [H+P+M] | F24: =((F16*U24*0)+(F17*V24*0)+(F18*W24*0))/100 -> 0 | G24: 18 | H24: Mimostavenisková doprava | I24: 0% z [H+P] | J24: =((F16*X24*0)+(F17*Y24*0)+(F18*Z24*0))/100 -> 0 | U24: 1 | V24: 1 | W24: 1 | X24: 1 | Y24: 1 | Z24: 0
B25: 14 | G25: 19
B26: 15 | G26: 20 | H26: Spolu | J26: =SUM(J22:J25)+SUM(F22:F25) -> 0
C27: Projektant,rozpočtár | G27: E | H27: Celkové náklady
G28: 21 | H28: Súčet riadkov 5,10,15,20 | J28: =F20+J20+F26+J26 -> 0
G29: 22 | H29: DPH 20% z | I29: =J28-SUM('SO 11845'!K9:'SO 11845'!K49) -> 0 | J29: =ROUND(((ROUND(I29,2)*20)*1/100),2) -> 0
G30: 23 | H30: DPH 0% z | I30: =SUM('SO 11845'!K9:'SO 11845'!K49) -> 0 | J30: =ROUND(((ROUND(I30,2)*0)/100),2) -> 0
G31: 24 | H31: Spolu | J31: =SUM(J28:J30) -> 0
G32: F
D33: Odberateľ | G33: 26 | H33: Dodávateľ

Sheet Rekap 11845
A1: Odberateľ: Mesto Vranov nad Topľou | D1: Spracoval: Ing. Ján Halgaš | W1: 30.126
A2: Projektant: | D2: Ks:
A3: Dodávateľ: | D3: Dátum: 26.04.2017
A4: Stavba Oprava komunikácií a chodníkov na území mesta Vranov nad Topľou
A5: Objekt 4- Oprava chodníka od ul. Mlynská po ul. Dobrianskeho
A8: Prehľad rozpočtových nákladov
A9: Oddiel | B9: Montáž | C9: Materiál | D9: Spolu | E9: Hmotnosť (T) | F9: Suť (T)
A10: Práce HSV
A11: ZEMNÉ PRÁCE | B11: ='SO 11845'!L19 -> 0 | C11: ='SO 11845'!M19 -> 0 | D11: ='SO 11845'!I19 -> 0 | E11: ='SO 11845'!P19 -> 0 | F11: ='SO 11845'!S19 -> 130.32
A12: SPEVNENÉ PLOCHY | B12: ='SO 11845'!L25 -> 0 | C12: ='SO 11845'!M25 -> 0 | D12: ='SO 11845'!I25 -> 0 | E12: ='SO 11845'!P25 -> 61.2 | F12: ='SO 11845'!S25 -> 0
A13: POTRUBNÉ ROZVODY | B13: ='SO 11845'!L29 -> 0 | C13: ='SO 11845'!M29 -> 0 | D13: ='SO 11845'!I29 -> 0 | E13: ='SO 11845'!P29 -> 4.58 | F13: ='SO 11845'!S29 -> 0
A14: OSTATNÉ PRÁCE | B14: ='SO 11845'!L43 -> 0 | C14: ='SO 11845'!M43 -> 0 | D14: ='SO 11845'!I43 -> 0 | E14: ='SO 11845'!P43 -> 90.15 | F14: ='SO 11845'!S43 -> 0
A15: PRESUNY HMÔT | B15: ='SO 11845'!L47 -> 0 | C15: ='SO 11845'!M47 -> 0 | D15: ='SO 11845'!I47 -> 0 | E15: ='SO 11845'!P47 -> 0 | F15: ='SO 11845'!S47 -> 0
A16: Práce HSV | B16: ='SO 11845'!L49 -> 0 | C16: ='SO 11845'!M49 -> 0 | D16: ='SO 11845'!I49 -> 0 | E16: ='SO 11845'!P49 -> 155.93 | F16: ='SO 11845'!S49 -> 130.32
A18: Celkom | B18: ='SO 11845'!L50 -> 0 | C18: ='SO 11845'!M50 -> 0 | D18: ='SO 11845'!I50 -> 0 | E18: ='SO 11845'!P50 -> 155.93 | F18: ='SO 11845'!S50 -> 130.32

Sheet SO 11845
B1: Odberateľ: Mesto Vranov nad Topľou | E1: Spracoval: Ing. Ján Halgaš | W1: 30.126
B2: Projektant: | E2: Ks:
B3: Dodávateľ: | E3: Dátum: 26.04.2017
B4: Stavba Oprava komunikácií a chodníkov na území mesta Vranov nad Topľou
B5: Objekt 4- Oprava chodníka od ul. Mlynská po ul. Dobrianskeho
B7: Prehľad rozpočtových nákladov
A8: Por.č. | B8: Cenník | C8: Kód položky | D8: Názov | E8: Mj | F8: Množstvo | G8: Cena/Mj | H8: Materiál | I8: Cena celkom | P8: Hmotnosť | S8: Suť
D9: Práce HSV
D10: ZEMNÉ PRÁCE
B11: 221/B 1 | C11: 113107242 | D11: Odstránenie podkladu alebo krytu asfaltového nad 200 m2,hr.nad 50 do 100 mm 0,181 t | E11: m2 | F11: 720 | J11: =ROUND(F11*(N11),2) -> 705.6 | K11: =ROUND(F11*(O11),2) -> 0 | L11: =ROUND(F11*(G11),2) -> 0 | N11: 0.98 | S11: =ROUND(F11*(X11),3) -> 130.32 | X11: 0.181 | Z11: 0
B12: 221/B 1 | C12: 113204111 | D12: Vytrhanie obrúb, s vybúraním lôžka, záhonových 0,040 t | E12: m | F12: 390 | J12: =ROUND(F12*(N12),2) -> 351 | K12: =ROUND(F12*(O12),2) -> 0 | L12: =ROUND(F12*(G12),2) -> 0 | N12: 0.9 | Z12: 0
B13: 221/B 1 | C13: 113202111 | D13: Vytrhanie obrúb, s vybúraním lôžka, z krajníkov alebo obrubníkov,145 t | E13: m | F13: 270 | J13: =ROUND(F13*(N13),2) -> 407.7 | K13: =ROUND(F13*(O13),2) -> 0 | L13: =ROUND(F13*(G13),2) -> 0 | N13: 1.51 | Z13: 0
B14: 1/A 1 | C14: 132301101 | D14: Výkop ryhy do šírky 600 mm v horn.4 do 100 m3 | E14: m3 | F14: 52.8 | J14: =ROUND(F14*(N14),2) -> 2207.04 | K14: =ROUND(F14*(O14),2) -> 0 | L14: =ROUND(F14*(G14),2) -> 0 | N14: 41.8 | Z14: 0
B15: 1/A 1 | C15: 162501102 | D15: Vodorovné premiestnenie výkopku tr.1-4 do 3000 m | E15: m3 | F15: 23.1 | J15: =ROUND(F15*(N15),2) -> 79.23 | K15: =ROUND(F15*(O15),2) -> 0 | L15: =ROUND(F15*(G15),2) -> 0 | N15: 3.43 | Z15: 0
B16: 1/A 1 | C16: 171201101 | D16: Uloženie sypaniny do násypov s rozprestretím sypaniny vo vrstvách a s hrubým urovnaním nezhutnených | E16: m3 | F16: 23.1 | J16: =ROUND(F16*(N16),2) -> 17.33 | K16: =ROUND(F16*(O16),2) -> 0 | L16: =ROUND(F16*(G16),2) -> 0 | N16: 0.75 | Z16: 0
B17: 231/A 2 | C17: 182001123 | D17: Plošná úprava terénu pri nerovnosti do 150 mm na svahu so sklonom do 1:1 | E17: m2 | F17: 132 | J17: =ROUND(F17*(N17),2) -> 318.12 | K17: =ROUND(F17*(O17),2) -> 0 | L17: =ROUND(F17*(G17),2) -> 0 | N17: 2.41 | Z17: 0
B18: 1/A 1 | C18: 174101001 | D18: Zásyp sypaninou so zhutnením jám, šachiet, rýh, zárezov alebo okolo objektov do 100 m3 | E18: m3 | F18: 29.7 | J18: =ROUND(F18*(N18),2) -> 75.14 | K18: =ROUND(F18*(O18),2) -> 0 | L18: =ROUND(F18*(G18),2) -> 0 | N18: 2.53 | Z18: 0
D19: ZEMNÉ PRÁCE | L19: =ROUND((SUM(L10:L18))/1,2) -> 0 | M19: =ROUND((SUM(M10:M18))/1,2) -> 0 | P19: =ROUND((SUM(P10:P18))/1,2) -> 0 | S19: =ROUND((SUM(S10:S18))/1,2) -> 130.32
D21: SPEVNENÉ PLOCHY
B22: 221/A 1 | C22: 573231111 | D22: Postrek asfaltový spojovací bez posypu kamenivom z cestnej emulzie v množstve od 0,50 do 0,80 kg/m2 | E22: m2 | F22: 720 | J22: =ROUND(F22*(N22),2) -> 158.4 | K22: =ROUND(F22*(O22),2) -> 0 | L22: =ROUND(F22*(G22),2) -> 0 | N22: 0.22 | P22: =ROUND(F22*(R22),3) -> 0.511 | R22: 0.00071 | Z22: 0
B23: R/R 0 | C23: 577144121 | D23: Doasfaltovanie cesty pri obrubníkoch - Asfaltový betón stredozrný AC 11 - III obrus., STN EN 13108-1, po zhutnení hr. 60 mm | E23: m2 | F23: 135 | J23: =ROUND(F23*(N23),2) -> 1229.85 | K23: =ROUND(F23*(O23),2) -> 0 | L23: =ROUND(F23*(G23),2) -> 0 | N23: 9.11 | Z23: 0
B24: 221/A 1 | C24: 577131211 | D24: Asfaltový betón stredozrný AC 11 - III obrus., STN EN 13108-1, po zhutnení hr. 40 mm | E24: m2 | F24: 585 | J24: =ROUND(F24*(N24),2) -> 3305.25 | K24: =ROUND(F24*(O24),2) -> 0 | L24: =ROUND(F24*(G24),2) -> 0 | N24: 5.65 | P24: =ROUND(F24*(R24),3) -> 60.688 | R24: 0.10374 | Z24: 0
D25: SPEVNENÉ PLOCHY | L25: =ROUND((SUM(L21:L24))/1,2) -> 0 | M25: =ROUND((SUM(M21:M24))/1,2) -> 0 | P25: =ROUND((SUM(P21:P24))/1,2) -> 61.2 | S25: =ROUND((SUM(S21:S24))/1,2) -> 0
D27: POTRUBNÉ ROZVODY
B28: 221/C 1 | C28: 899231111 | D28: Výšková úprava uličného vstupu alebo vpuste do 200 mm zvýšením mreže | E28: kus | F28: 10 | J28: =ROUND(F28*(N28),2) -> 549.7 | K28: =ROUND(F28*(O28),2) -> 0 | L28: =ROUND(F28*(G28),2) -> 0 | N28: 54.97 | P28: =ROUND(F28*(R28),3) -> 4.584 | R28: 0.4583713 | Z28: 0
D29: POTRUBNÉ ROZVODY | L29: =ROUND((SUM(L27:L28))/1,2) -> 0 | M29: =ROUND((SUM(M27:M28))/1,2) -> 0 | P29: =ROUND((SUM(P27:P28))/1,2) -> 4.58 | S29: =ROUND((SUM(S27:S28))/1,2) -> 0
D31: OSTATNÉ PRÁCE
B32: 1/A 1 | C32: 171209003 | D32: Poplatok za skládku z kategórie "N" - nebezpečný odpad | E32: t | F32: 130.32 | J32: =ROUND(F32*(N32),2) -> 5345.73 | K32: =ROUND(F32*(O32),2) -> 0 | L32: =ROUND(F32*(G32),2) -> 0 | N32: 41.02 | Z32: 0
B33: 221/B 1 | C33: 979087213 | D33: Nakladanie na dopravné prostriedky pre vodorovnú dopravu vybúraných hmôt | E33: t | F33: 185.07 | J33: =ROUND(F33*(N33),2) -> 2894.49 | K33: =ROUND(F33*(O33),2) -> 0 | L33: =ROUND(F33*(G33),2) -> 0 | N33: 15.64 | Z33: 0
B34: 321/B 1 | C34: 979082319 | D34: Príplatok k cenám za každých ďalších aj začatých 1000 m | E34: t | F34: 2220.84 | J34: =ROUND(F34*(N34),2) -> 333.13 | K34: =ROUND(F34*(O34),2) -> 0 | L34: =ROUND(F34*(G34),2) -> 0 | N34: 0.15 | Z34: 0
B35: 321/B 1 | C35: 979082315 | D35: Vodorovná doprava sutiny a vybúraných hmôt bez naloženia ale so zložením do 3000 m | E35: t | F35: 185.07 | J35: =ROUND(F35*(N35),2) -> 549.66 | K35: =ROUND(F35*(O35),2) -> 0 | L35: =ROUND(F35*(G35),2) -> 0 | N35: 2.97 | Z35: 0
B36: 1/A 1 | C36: 171209002 | D36: Poplatok za skladovanie - ostatné | E36: t | F36: 54.75 | J36: =ROUND(F36*(N36),2) -> 623.6 | K36: =ROUND(F36*(O36),2) -> 0 | L36: =ROUND(F36*(G36),2) -> 0 | N36: 11.39 | Z36: 0
B37: 221/A 1 | C37: 916161111 | D37: Osadenie cestnej obruby z veľkých kociek s bočnou oporou z bet. tr. C 12/15 do lôžka z betónu | E37: m | F37: 270 | J37: =ROUND(F37*(N37),2) -> 1088.1 | K37: =ROUND(F37*(O37),2) -> 0 | L37: =ROUND(F37*(G37),2) -> 0 | N37: 4.03 | P37: =ROUND(F37*(R37),3) -> 31.223 | R37: 0.11564064 | Z37: 0
B38: S/S60 | C38: 5838021100 | D38: Obrubník cestný dl. 1,0 m | E38: m | F38: 272.7 | J38: =ROUND(F38*(N38),2) -> 1516.21 | K38: =ROUND(F38*(O38),2) -> 0 | M38: =ROUND(F38*(H38),2) -> 0 | N38: 5.56 | P38: =ROUND(F38*(R38),3) -> 17.726 | R38: 0.065 | Z38: 0
B39: 221/A 1 | C39: 916561111 | D39: Osadenie záhon. obrubníka betón., do lôžka z bet. pros. tr. C 10/12,5 s bočnou oporou | E39: m | F39: 390 | J39: =ROUND(F39*(N39),2) -> 1404 | K39: =ROUND(F39*(O39),2) -> 0 | L39: =ROUND(F39*(G39),2) -> 0 | N39: 3.6 | P39: =ROUND(F39*(R39),3) -> 41.192 | R39: 0.10561946 | Z39: 0
B40: P/P 1 | C40: 592029170010 | D40: PREMAC záhonový obrubník 100/20/5 cm farba sivá | E40: KUS | F40: 393.9 | J40: =ROUND(F40*(N40),2) -> 941.42 | K40: =ROUND(F40*(O40),2) -> 0 | M40: =ROUND(F40*(H40),2) -> 0 | N40: 2.39 | Z40: 0
B41: 221/B 1 | C41: 919735112 | D41: Rezanie existujúceho asfaltového krytu alebo podkladu hľbky nad 50 do 100 mm | E41: m | F41: 273 | J41: =ROUND(F41*(N41),2) -> 1449.63 | K41: =ROUND(F41*(O41),2) -> 0 | L41: =ROUND(F41*(G41),2) -> 0 | N41: 5.31 | P41: =ROUND(F41*(R41),3) -> 0.009 | R41: 3.36e-05 | Z41: 0
B42: 221/C 1 | C42: 938909311 | D42: Odstránenie blata, prachu alebo hlineného nánosu, z povrchu podkladu alebo krytu bet. alebo asfalt. | E42: m2 | F42: 720 | J42: =ROUND(F42*(N42),2) -> 14.4 | K42: =ROUND(F42*(O42),2) -> 0 | L42: =ROUND(F42*(G42),2) -> 0 | N42: 0.02 | Z42: 0
D43: OSTATNÉ PRÁCE | L43: =ROUND((SUM(L31:L42))/1,2) -> 0 | M43: =ROUND((SUM(M31:M42))/1,2) -> 0 | P43: =ROUND((SUM(P31:P42))/1,2) -> 90.15 | S43: =ROUND((SUM(S31:S42))/1,2) -> 0
D45: PRESUNY HMÔT
B46: 221/C 1 | C46: 998225311 | D46: Presun hmôt pre opravy a údržbu komunikácií a letísk s krytom asfaltovým alebo betónovým | E46: t | F46: 155.93205 | J46: =ROUND(F46*(N46),2) -> 121.63 | K46: =ROUND(F46*(O46),2) -> 0 | L46: =ROUND(F46*(G46),2) -> 0 | N46: 0.78 | Z46: 0
D47: PRESUNY HMÔT | L47: =ROUND((SUM(L45:L46))/1,2) -> 0 | M47: =ROUND((SUM(M45:M46))/1,2) -> 0 | P47: =ROUND((SUM(P45:P46))/1,2) -> 0 | S47: =ROUND((SUM(S45:S46))/1,2) -> 0
D49: Práce HSV | L49: =ROUND((SUM(L9:L48))/2,2) -> 0 | M49: =ROUND((SUM(M9:M48))/2,2) -> 0 | P49: =ROUND((SUM(P9:P48))/2,2) -> 155.93 | S49: =ROUND((SUM(S9:S48))/2,2) -> 130.32
B50: 4- Oprava chodníka od ul. Mlynská po ul. Dobrianskeho | F50: Celkom | K50: =ROUND((SUM(K9:K49)),2) -> 0 | L50: =ROUND((SUM(L9:L49))/3,2) -> 0 | M50: =ROUND((SUM(M9:M49))/3,2) -> 0 | P50: =ROUND((SUM(P9:P49))/3,2) -> 155.93 | S50: =ROUND((SUM(S9:S49))/3,2) -> 130.32 | Z50: =(SUM(Z9:Z49)) -> 0

Sheet Kryci_list 11847
F1: Krycí list rozpočtu | W1: 30.126
B2: Stavba Oprava komunikácií a chodníkov na území mesta Vranov nad Topľou | G2: Miesto:
B3: Objekt 5 - Oprava chodníka pri BD G
I4: Ks:
B5: Zákazka: | F5: Spracoval: Ing. Ján Halgaš | I5: Dňa | J5: 26.04.2017
B6: Odberateľ: Mesto Vranov nad Topľou | G6: IČO:
G7: DIČ:
B8: Dodávateľ: | G8: IČO:
G9: DIČ:
B10: Projektant: | G10: IČO:
G11: DIČ:
B15: A | C15: ZRN | D15: Montáž | E15: Materiál | F15: ZRN spolu | G15: B | H15: Ďalšie náklady
B16: 1 | C16: HSV | D16: ='Rekap 11847'!B15 -> 0 | E16: ='Rekap 11847'!C15 -> 0 | F16: ='Rekap 11847'!D15 -> 0 | G16: 6 | H16: Ostatné náklady | J16: 0
B17: 2 | C17: PSV | G17: 7 | H17: Kompletačná činnosť | J17: ='SO 11847'!Z46 -> 0
B18: 3 | C18: MONT | G18: 8 | H18: HZS | J18: 0
B19: 4 | G19: 9
B20: 5 | C20: Spolu | F20: =SUM(F16:F19) -> 0 | G20: 10 | H20: Spolu | J20: =SUM(J16:J19) -> 0
B21: C | C21: VRN | G21: D | H21: VRN
B22: 11 | C22: Zariadenie staveniska | E22: 0% z [H+P+M] | F22: =((F16*U22*0)+(F17*V22*0)+(F18*W22*0))/100 -> 0 | G22: 16 | H22: Mimoriadne sťaž.podmienky | I22: 0% z [H+P+M] | J22: =((F16*X22*0)+(F17*Y22*0)+(F18*Z22*0))/100 -> 0 | U22: 1 | V22: 1 | W22: 1 | X22: 1 | Y22: 1 | Z22: 1
B23: 12 | C23: Územie so sťaž. podmienk. | E23: 0% z [H+P] | F23: =((F16*U23*0)+(F17*V23*0)+(F18*W23*0))/100 -> 0 | G23: 17 | H23: Horské oblasti | I23: 0% z [H+P+M] | J23: =((F16*X23*0)+(F17*Y23*0)+(F18*Z23*0))/100 -> 0 | U23: 1 | V23: 1 | W23: 0 | X23: 1 | Y23: 1 | Z23: 1
B24: 13 | C24: Prevádzkové vplyvy | E24: 0% z [H+P+M] | F24: =((F16*U24*0)+(F17*V24*0)+(F18*W24*0))/100 -> 0 | G24: 18 | H24: Mimostavenisková doprava | I24: 0% z [H+P] | J24: =((F16*X24*0)+(F17*Y24*0)+(F18*Z24*0))/100 -> 0 | U24: 1 | V24: 1 | W24: 1 | X24: 1 | Y24: 1 | Z24: 0
B25: 14 | G25: 19
B26: 15 | G26: 20 | H26: Spolu | J26: =SUM(J22:J25)+SUM(F22:F25) -> 0
C27: Projektant,rozpočtár | G27: E | H27: Celkové náklady
G28: 21 | H28: Súčet riadkov 5,10,15,20 | J28: =F20+J20+F26+J26 -> 0
G29: 22 | H29: DPH 20% z | I29: =J28-SUM('SO 11847'!K9:'SO 11847'!K45) -> 0 | J29: =ROUND(((ROUND(I29,2)*20)*1/100),2) -> 0
G30: 23 | H30: DPH 0% z | I30: =SUM('SO 11847'!K9:'SO 11847'!K45) -> 0 | J30: =ROUND(((ROUND(I30,2)*0)/100),2) -> 0
G31: 24 | H31: Spolu | J31: =SUM(J28:J30) -> 0
G32: F
D33: Odberateľ | G33: 26 | H33: Dodávateľ

Sheet Rekap 11847
A1: Odberateľ: Mesto Vranov nad Topľou | D1: Spracoval: Ing. Ján Halgaš | W1: 30.126
A2: Projektant: | D2: Ks:
A3: Dodávateľ: | D3: Dátum: 26.04.2017
A4: Stavba Oprava komunikácií a chodníkov na území mesta Vranov nad Topľou
A5: Objekt 5 - Oprava chodníka pri BD G
A8: Prehľad rozpočtových nákladov
A9: Oddiel | B9: Montáž | C9: Materiál | D9: Spolu | E9: Hmotnosť (T) | F9: Suť (T)
A10: Práce HSV
A11: ZEMNÉ PRÁCE | B11: ='SO 11847'!L19 -> 0 | C11: ='SO 11847'!M19 -> 0 | D11: ='SO 11847'!I19 -> 0 | E11: ='SO 11847'!P19 -> 0 | F11: ='SO 11847'!S19 -> 47.99
A12: SPEVNENÉ PLOCHY | B12: ='SO 11847'!L25 -> 0 | C12: ='SO 11847'!M25 -> 0 | D12: ='SO 11847'!I25 -> 0 | E12: ='SO 11847'!P25 -> 22.6 | F12: ='SO 11847'!S25 -> 0
A13: OSTATNÉ PRÁCE | B13: ='SO 11847'!L39 -> 0 | C13: ='SO 11847'!M39 -> 0 | D13: ='SO 11847'!I39 -> 0 | E13: ='SO 11847'!P39 -> 28.18 | F13: ='SO 11847'!S39 -> 0
A14: PRESUNY HMÔT | B14: ='SO 11847'!L43 -> 0 | C14: ='SO 11847'!M43 -> 0 | D14: ='SO 11847'!I43 -> 0 | E14: ='SO 11847'!P43 -> 0 | F14: ='SO 11847'!S43 -> 0
A15: Práce HSV | B15: ='SO 11847'!L45 -> 0 | C15: ='SO 11847'!M45 -> 0 | D15: ='SO 11847'!I45 -> 0 | E15: ='SO 11847'!P45 -> 50.78 | F15: ='SO 11847'!S45 -> 47.99
A17: Celkom | B17: ='SO 11847'!L46 -> 0 | C17: ='SO 11847'!M46 -> 0 | D17: ='SO 11847'!I46 -> 0 | E17: ='SO 11847'!P46 -> 50.78 | F17: ='SO 11847'!S46 -> 47.99

Sheet SO 11847
B1: Odberateľ: Mesto Vranov nad Topľou | E1: Spracoval: Ing. Ján Halgaš | W1: 30.126
B2: Projektant: | E2: Ks:
B3: Dodávateľ: | E3: Dátum: 26.04.2017
B4: Stavba Oprava komunikácií a chodníkov na území mesta Vranov nad Topľou
B5: Objekt 5 - Oprava chodníka pri BD G
B7: Prehľad rozpočtových nákladov
A8: Por.č. | B8: Cenník | C8: Kód položky | D8: Názov | E8: Mj | F8: Množstvo | G8: Cena/Mj | H8: Materiál | I8: Cena celkom | P8: Hmotnosť | S8: Suť
D9: Práce HSV
D10: ZEMNÉ PRÁCE
B11: 221/B 1 | C11: 113107242 | D11: Odstránenie podkladu alebo krytu asfaltového nad 200 m2,hr.nad 50 do 100 mm 0,181 t | E11: m2 | F11: 265.14 | J11: =ROUND(F11*(N11),2) -> 259.84 | K11: =ROUND(F11*(O11),2) -> 0 | L11: =ROUND(F11*(G11),2) -> 0 | N11: 0.98 | S11: =ROUND(F11*(X11),3) -> 47.99 | X11: 0.181 | Z11: 0
B12: 221/B 1 | C12: 113204111 | D12: Vytrhanie obrúb, s vybúraním lôžka, záhonových 0,040 t | E12: m | F12: 98.2 | J12: =ROUND(F12*(N12),2) -> 88.38 | K12: =ROUND(F12*(O12),2) -> 0 | L12: =ROUND(F12*(G12),2) -> 0 | N12: 0.9 | Z12: 0
B13: 221/B 1 | C13: 113202111 | D13: Vytrhanie obrúb, s vybúraním lôžka, z krajníkov alebo obrubníkov,145 t | E13: m | F13: 98.2 | J13: =ROUND(F13*(N13),2) -> 148.28 | K13: =ROUND(F13*(O13),2) -> 0 | L13: =ROUND(F13*(G13),2) -> 0 | N13: 1.51 | Z13: 0
B14: 1/A 1 | C14: 132301101 | D14: Výkop ryhy do šírky 600 mm v horn.4 do 100 m3 | E14: m3 | F14: 15.712 | J14: =ROUND(F14*(N14),2) -> 656.76 | K14: =ROUND(F14*(O14),2) -> 0 | L14: =ROUND(F14*(G14),2) -> 0 | N14: 41.8 | Z14: 0
B15: 1/A 1 | C15: 162501102 | D15: Vodorovné premiestnenie výkopku tr.1-4 do 3000 m | E15: m3 | F15: 6.874 | J15: =ROUND(F15*(N15),2) -> 23.58 | K15: =ROUND(F15*(O15),2) -> 0 | L15: =ROUND(F15*(G15),2) -> 0 | N15: 3.43 | Z15: 0
B16: 1/A 1 | C16: 171201101 | D16: Uloženie sypaniny do násypov s rozprestretím sypaniny vo vrstvách a s hrubým urovnaním nezhutnených | E16: m3 | F16: 6.874 | J16: =ROUND(F16*(N16),2) -> 5.16 | K16: =ROUND(F16*(O16),2) -> 0 | L16: =ROUND(F16*(G16),2) -> 0 | N16: 0.75 | Z16: 0
B17: 231/A 2 | C17: 182001123 | D17: Plošná úprava terénu pri nerovnosti do 150 mm na svahu so sklonom do 1:1 | E17: m2 | F17: 19.64 | J17: =ROUND(F17*(N17),2) -> 47.33 | K17: =ROUND(F17*(O17),2) -> 0 | L17: =ROUND(F17*(G17),2) -> 0 | N17: 2.41 | Z17: 0
B18: 1/A 1 | C18: 174101001 | D18: Zásyp sypaninou so zhutnením jám, šachiet, rýh, zárezov alebo okolo objektov do 100 m3 | E18: m3 | F18: 8.838 | J18: =ROUND(F18*(N18),2) -> 22.36 | K18: =ROUND(F18*(O18),2) -> 0 | L18: =ROUND(F18*(G18),2) -> 0 | N18: 2.53 | Z18: 0
D19: ZEMNÉ PRÁCE | L19: =ROUND((SUM(L10:L18))/1,2) -> 0 | M19: =ROUND((SUM(M10:M18))/1,2) -> 0 | P19: =ROUND((SUM(P10:P18))/1,2) -> 0 | S19: =ROUND((SUM(S10:S18))/1,2) -> 47.99
D21: SPEVNENÉ PLOCHY
B22: 221/A 1 | C22: 573231111 | D22: Postrek asfaltový spojovací bez posypu kamenivom z cestnej emulzie v množstve od 0,50 do 0,80 kg/m2 | E22: m2 | F22: 265.1 | J22: =ROUND(F22*(N22),2) -> 58.32 | K22: =ROUND(F22*(O22),2) -> 0 | L22: =ROUND(F22*(G22),2) -> 0 | N22: 0.22 | P22: =ROUND(F22*(R22),3) -> 0.188 | R22: 0.00071 | Z22: 0
B23: R/R 0 | C23: 577144121 | D23: Doasfaltovanie cesty pri obrubníkoch - Asfaltový betón stredozrný AC 11 - III obrus., STN EN 13108-1, po zhutnení hr. 60 mm | E23: m2 | F23: 49.1 | J23: =ROUND(F23*(N23),2) -> 447.3 | K23: =ROUND(F23*(O23),2) -> 0 | L23: =ROUND(F23*(G23),2) -> 0 | N23: 9.11 | Z23: 0
B24: 221/A 1 | C24: 577131211 | D24: Asfaltový betón stredozrný AC 11 - III obrus., STN EN 13108-1, po zhutnení hr. 40 mm | E24: m2 | F24: 216.04 | J24: =ROUND(F24*(N24),2) -> 1220.63 | K24: =ROUND(F24*(O24),2) -> 0 | L24: =ROUND(F24*(G24),2) -> 0 | N24: 5.65 | P24: =ROUND(F24*(R24),3) -> 22.412 | R24: 0.10374 | Z24: 0
D25: SPEVNENÉ PLOCHY | L25: =ROUND((SUM(L21:L24))/1,2) -> 0 | M25: =ROUND((SUM(M21:M24))/1,2) -> 0 | P25: =ROUND((SUM(P21:P24))/1,2) -> 22.6 | S25: =ROUND((SUM(S21:S24))/1,2) -> 0
D27: OSTATNÉ PRÁCE
B28: 1/A 1 | C28: 171209003 | D28: Poplatok za skládku z kategórie "N" - nebezpečný odpad | E28: t | F28: 47.99034 | J28: =ROUND(F28*(N28),2) -> 1968.56 | K28: =ROUND(F28*(O28),2) -> 0 | L28: =ROUND(F28*(G28),2) -> 0 | N28: 41.02 | Z28: 0
B29: 221/B 1 | C29: 979087213 | D29: Nakladanie na dopravné prostriedky pre vodorovnú dopravu vybúraných hmôt | E29: t | F29: 66.157 | J29: =ROUND(F29*(N29),2) -> 1034.7 | K29: =ROUND(F29*(O29),2) -> 0 | L29: =ROUND(F29*(G29),2) -> 0 | N29: 15.64 | Z29: 0
B30: 321/B 1 | C30: 979082319 | D30: Príplatok k cenám za každých ďalších aj začatých 1000 m | E30: t | F30: 793.884 | J30: =ROUND(F30*(N30),2) -> 119.08 | K30: =ROUND(F30*(O30),2) -> 0 | L30: =ROUND(F30*(G30),2) -> 0 | N30: 0.15 | Z30: 0
B31: 321/B 1 | C31: 979082315 | D31: Vodorovná doprava sutiny a vybúraných hmôt bez naloženia ale so zložením do 3000 m | E31: t | F31: 66.157 | J31: =ROUND(F31*(N31),2) -> 196.49 | K31: =ROUND(F31*(O31),2) -> 0 | L31: =ROUND(F31*(G31),2) -> 0 | N31: 2.97 | Z31: 0
B32: 1/A 1 | C32: 171209002 | D32: Poplatok za skladovanie - ostatné | E32: t | F32: 18.167 | J32: =ROUND(F32*(N32),2) -> 206.92 | K32: =ROUND(F32*(O32),2) -> 0 | L32: =ROUND(F32*(G32),2) -> 0 | N32: 11.39 | Z32: 0
B33: 221/A 1 | C33: 916161111 | D33: Osadenie cestnej obruby z veľkých kociek s bočnou oporou z bet. tr. C 12/15 do lôžka z betónu | E33: m | F33: 98.2 | J33: =ROUND(F33*(N33),2) -> 395.75 | K33: =ROUND(F33*(O33),2) -> 0 | L33: =ROUND(F33*(G33),2) -> 0 | N33: 4.03 | P33: =ROUND(F33*(R33),3) -> 11.356 | R33: 0.11564064 | Z33: 0
B34: S/S60 | C34: 5838021100 | D34: Obrubník cestný dl. 1,0 m | E34: m | F34: 99.182 | J34: =ROUND(F34*(N34),2) -> 551.45 | K34: =ROUND(F34*(O34),2) -> 0 | M34: =ROUND(F34*(H34),2) -> 0 | N34: 5.56 | P34: =ROUND(F34*(R34),3) -> 6.447 | R34: 0.065 | Z34: 0
B35: 221/A 1 | C35: 916561111 | D35: Osadenie záhon. obrubníka betón., do lôžka z bet. pros. tr. C 10/12,5 s bočnou oporou | E35: m | F35: 98.2 | J35: =ROUND(F35*(N35),2) -> 353.52 | K35: =ROUND(F35*(O35),2) -> 0 | L35: =ROUND(F35*(G35),2) -> 0 | N35: 3.6 | P35: =ROUND(F35*(R35),3) -> 10.372 | R35: 0.10561946 | Z35: 0
B36: P/P 1 | C36: 592029170010 | D36: PREMAC záhonový obrubník 100/20/5 cm farba sivá | E36: KUS | F36: 99.182 | J36: =ROUND(F36*(N36),2) -> 237.04 | K36: =ROUND(F36*(O36),2) -> 0 | M36: =ROUND(F36*(H36),2) -> 0 | N36: 2.39 | Z36: 0
B37: 221/B 1 | C37: 919735112 | D37: Rezanie existujúceho asfaltového krytu alebo podkladu hľbky nad 50 do 100 mm | E37: m | F37: 102.6 | J37: =ROUND(F37*(N37),2) -> 544.81 | K37: =ROUND(F37*(O37),2) -> 0 | L37: =ROUND(F37*(G37),2) -> 0 | N37: 5.31 | P37: =ROUND(F37*(R37),3) -> 0.003 | R37: 3.36e-05 | Z37: 0
B38: 221/C 1 | C38: 938909311 | D38: Odstránenie blata, prachu alebo hlineného nánosu, z povrchu podkladu alebo krytu bet. alebo asfalt. | E38: m2 | F38: 265.14 | J38: =ROUND(F38*(N38),2) -> 5.3 | K38: =ROUND(F38*(O38),2) -> 0 | L38: =ROUND(F38*(G38),2) -> 0 | N38: 0.02 | Z38: 0
D39: OSTATNÉ PRÁCE | L39: =ROUND((SUM(L27:L38))/1,2) -> 0 | M39: =ROUND((SUM(M27:M38))/1,2) -> 0 | P39: =ROUND((SUM(P27:P38))/1,2) -> 28.18 | S39: =ROUND((SUM(S27:S38))/1,2) -> 0
D41: PRESUNY HMÔT
B42: 221/C 1 | C42: 998225311 | D42: Presun hmôt pre opravy a údržbu komunikácií a letísk s krytom asfaltovým alebo betónovým | E42: t | F42: 50.77823 | J42: =ROUND(F42*(N42),2) -> 39.61 | K42: =ROUND(F42*(O42),2) -> 0 | L42: =ROUND(F42*(G42),2) -> 0 | N42: 0.78 | Z42: 0
D43: PRESUNY HMÔT | L43: =ROUND((SUM(L41:L42))/1,2) -> 0 | M43: =ROUND((SUM(M41:M42))/1,2) -> 0 | P43: =ROUND((SUM(P41:P42))/1,2) -> 0 | S43: =ROUND((SUM(S41:S42))/1,2) -> 0
D45: Práce HSV | L45: =ROUND((SUM(L9:L44))/2,2) -> 0 | M45: =ROUND((SUM(M9:M44))/2,2) -> 0 | P45: =ROUND((SUM(P9:P44))/2,2) -> 50.78 | S45: =ROUND((SUM(S9:S44))/2,2) -> 47.99
B46: 5 - Oprava chodníka pri BD G | F46: Celkom | K46: =ROUND((SUM(K9:K45)),2) -> 0 | L46: =ROUND((SUM(L9:L45))/3,2) -> 0 | M46: =ROUND((SUM(M9:M45))/3,2) -> 0 | P46: =ROUND((SUM(P9:P45))/3,2) -> 50.78 | S46: =ROUND((SUM(S9:S45))/3,2) -> 47.99 | Z46: =(SUM(Z9:Z45)) -> 0

Sheet Kryci_list 11849
F1: Krycí list rozpočtu | W1: 30.126
B2: Stavba Oprava komunikácií a chodníkov na území mesta Vranov nad Topľou | G2: Miesto:
B3: Objekt 6 - Oprava chodníka na ul. M. R. Štefánika
I4: Ks:
B5: Zákazka: | F5: Spracoval: Ing. Ján Halgaš | I5: Dňa | J5: 26.04.2017
B6: Odberateľ: Mesto Vranov nad Topľou | G6: IČO:
G7: DIČ:
B8: Dodávateľ: | G8: IČO:
G9: DIČ:
B10: Projektant: | G10: IČO:
G11: DIČ:
B15: A | C15: ZRN | D15: Montáž | E15: Materiál | F15: ZRN spolu | G15: B | H15: Ďalšie náklady
B16: 1 | C16: HSV | D16: ='Rekap 11849'!B16 -> 0 | E16: ='Rekap 11849'!C16 -> 0 | F16: ='Rekap 11849'!D16 -> 0 | G16: 6 | H16: Ostatné náklady | J16: 0
B17: 2 | C17: PSV | G17: 7 | H17: Kompletačná činnosť | J17: ='SO 11849'!Z48 -> 0
B18: 3 | C18: MONT | G18: 8 | H18: HZS | J18: 0
B19: 4 | G19: 9
B20: 5 | C20: Spolu | F20: =SUM(F16:F19) -> 0 | G20: 10 | H20: Spolu | J20: =SUM(J16:J19) -> 0
B21: C | C21: VRN | G21: D | H21: VRN
B22: 11 | C22: Zariadenie staveniska | E22: 0% z [H+P+M] | F22: =((F16*U22*0)+(F17*V22*0)+(F18*W22*0))/100 -> 0 | G22: 16 | H22: Mimoriadne sťaž.podmienky | I22: 0% z [H+P+M] | J22: =((F16*X22*0)+(F17*Y22*0)+(F18*Z22*0))/100 -> 0 | U22: 1 | V22: 1 | W22: 1 | X22: 1 | Y22: 1 | Z22: 1
B23: 12 | C23: Územie so sťaž. podmienk. | E23: 0% z [H+P] | F23: =((F16*U23*0)+(F17*V23*0)+(F18*W23*0))/100 -> 0 | G23: 17 | H23: Horské oblasti | I23: 0% z [H+P+M] | J23: =((F16*X23*0)+(F17*Y23*0)+(F18*Z23*0))/100 -> 0 | U23: 1 | V23: 1 | W23: 0 | X23: 1 | Y23: 1 | Z23: 1
B24: 13 | C24: Prevádzkové vplyvy | E24: 0% z [H+P+M] | F24: =((F16*U24*0)+(F17*V24*0)+(F18*W24*0))/100 -> 0 | G24: 18 | H24: Mimostavenisková doprava | I24: 0% z [H+P] | J24: =((F16*X24*0)+(F17*Y24*0)+(F18*Z24*0))/100 -> 0 | U24: 1 | V24: 1 | W24: 1 | X24: 1 | Y24: 1 | Z24: 0
B25: 14 | G25: 19
B26: 15 | G26: 20 | H26: Spolu | J26: =SUM(J22:J25)+SUM(F22:F25) -> 0
C27: Projektant,rozpočtár | G27: E | H27: Celkové náklady
G28: 21 | H28: Súčet riadkov 5,10,15,20 | J28: =F20+J20+F26+J26 -> 0
G29: 22 | H29: DPH 20% z | I29: =J28-SUM('SO 11849'!K9:'SO 11849'!K47) -> 0 | J29: =ROUND(((ROUND(I29,2)*20)*1/100),2) -> 0
G30: 23 | H30: DPH 0% z | I30: =SUM('SO 11849'!K9:'SO 11849'!K47) -> 0 | J30: =ROUND(((ROUND(I30,2)*0)/100),2) -> 0
G31: 24 | H31: Spolu | J31: =SUM(J28:J30) -> 0
G32: F
D33: Odberateľ | G33: 26 | H33: Dodávateľ

Sheet Rekap 11849
A1: Odberateľ: Mesto Vranov nad Topľou | D1: Spracoval: Ing. Ján Halgaš | W1: 30.126
A2: Projektant: | D2: Ks:
A3: Dodávateľ: | D3: Dátum: 26.04.2017
A4: Stavba Oprava komunikácií a chodníkov na území mesta Vranov nad Topľou
A5: Objekt 6 - Oprava chodníka na ul. M. R. Štefánika
A8: Prehľad rozpočtových nákladov
A9: Oddiel | B9: Montáž | C9: Materiál | D9: Spolu | E9: Hmotnosť (T) | F9: Suť (T)
A10: Práce HSV
A11: ZEMNÉ PRÁCE | B11: ='SO 11849'!L17 -> 0 | C11: ='SO 11849'!M17 -> 0 | D11: ='SO 11849'!I17 -> 0 | E11: ='SO 11849'!P17 -> 0 | F11: ='SO 11849'!S17 -> 200.91
A12: SPEVNENÉ PLOCHY | B12: ='SO 11849'!L23 -> 0 | C12: ='SO 11849'!M23 -> 0 | D12: ='SO 11849'!I23 -> 0 | E12: ='SO 11849'!P23 -> 100.38 | F12: ='SO 11849'!S23 -> 0
A13: POTRUBNÉ ROZVODY | B13: ='SO 11849'!L28 -> 0 | C13: ='SO 11849'!M28 -> 0 | D13: ='SO 11849'!I28 -> 0 | E13: ='SO 11849'!P28 -> 4.58 | F13: ='SO 11849'!S28 -> 0
A14: OSTATNÉ PRÁCE | B14: ='SO 11849'!L41 -> 0 | C14: ='SO 11849'!M41 -> 0 | D14: ='SO 11849'!I41 -> 0 | E14: ='SO 11849'!P41 -> 54.4 | F14: ='SO 11849'!S41 -> 8.1
A15: PRESUNY HMÔT | B15: ='SO 11849'!L45 -> 0 | C15: ='SO 11849'!M45 -> 0 | D15: ='SO 11849'!I45 -> 0 | E15: ='SO 11849'!P45 -> 0 | F15: ='SO 11849'!S45 -> 0
A16: Práce HSV | B16: ='SO 11849'!L47 -> 0 | C16: ='SO 11849'!M47 -> 0 | D16: ='SO 11849'!I47 -> 0 | E16: ='SO 11849'!P47 -> 159.36 | F16: ='SO 11849'!S47 -> 209.01
A18: Celkom | B18: ='SO 11849'!L48 -> 0 | C18: ='SO 11849'!M48 -> 0 | D18: ='SO 11849'!I48 -> 0 | E18: ='SO 11849'!P48 -> 159.36 | F18: ='SO 11849'!S48 -> 209.01

Sheet SO 11849
B1: Odberateľ: Mesto Vranov nad Topľou | E1: Spracoval: Ing. Ján Halgaš | W1: 30.126
B2: Projektant: | E2: Ks:
B3: Dodávateľ: | E3: Dátum: 26.04.2017
B4: Stavba Oprava komunikácií a chodníkov na území mesta Vranov nad Topľou
B5: Objekt 6 - Oprava chodníka na ul. M. R. Štefánika
B7: Prehľad rozpočtových nákladov
A8: Por.č. | B8: Cenník | C8: Kód položky | D8: Názov | E8: Mj | F8: Množstvo | G8: Cena/Mj | H8: Materiál | I8: Cena celkom | P8: Hmotnosť | S8: Suť
D9: Práce HSV
D10: ZEMNÉ PRÁCE
B11: 221/B 1 | C11: 113107242 | D11: Odstránenie podkladu alebo krytu asfaltového nad 200 m2,hr.nad 50 do 100 mm 0,181 t | E11: m2 | F11: 1110 | J11: =ROUND(F11*(N11),2) -> 1087.8 | K11: =ROUND(F11*(O11),2) -> 0 | L11: =ROUND(F11*(G11),2) -> 0 | N11: 0.98 | S11: =ROUND(F11*(X11),3) -> 200.91 | X11: 0.181 | Z11: 0
B12: 221/B 1 | C12: 113202111 | D12: Vytrhanie obrúb, s vybúraním lôžka, z krajníkov alebo obrubníkov,145 t | E12: m | F12: 300 | J12: =ROUND(F12*(N12),2) -> 453 | K12: =ROUND(F12*(O12),2) -> 0 | L12: =ROUND(F12*(G12),2) -> 0 | N12: 1.51 | Z12: 0
B13: 1/A 1 | C13: 132301101 | D13: Výkop ryhy do šírky 600 mm v horn.4 do 100 m3 | E13: m3 | F13: 36 | J13: =ROUND(F13*(N13),2) -> 1504.8 | K13: =ROUND(F13*(O13),2) -> 0 | L13: =ROUND(F13*(G13),2) -> 0 | N13: 41.8 | Z13: 0
B14: 1/A 1 | C14: 162501102 | D14: Vodorovné premiestnenie výkopku tr.1-4 do 3000 m | E14: m3 | F14: 22.5 | J14: =ROUND(F14*(N14),2) -> 77.18 | K14: =ROUND(F14*(O14),2) -> 0 | L14: =ROUND(F14*(G14),2) -> 0 | N14: 3.43 | Z14: 0
B15: 1/A 1 | C15: 171201101 | D15: Uloženie sypaniny do násypov s rozprestretím sypaniny vo vrstvách a s hrubým urovnaním nezhutnených | E15: m3 | F15: 22.5 | J15: =ROUND(F15*(N15),2) -> 16.88 | K15: =ROUND(F15*(O15),2) -> 0 | L15: =ROUND(F15*(G15),2) -> 0 | N15: 0.75 | Z15: 0
B16: 1/A 1 | C16: 174101001 | D16: Zásyp sypaninou so zhutnením jám, šachiet, rýh, zárezov alebo okolo objektov do 100 m3 | E16: m3 | F16: 13.5 | J16: =ROUND(F16*(N16),2) -> 34.16 | K16: =ROUND(F16*(O16),2) -> 0 | L16: =ROUND(F16*(G16),2) -> 0 | N16: 2.53 | Z16: 0
D17: ZEMNÉ PRÁCE | L17: =ROUND((SUM(L10:L16))/1,2) -> 0 | M17: =ROUND((SUM(M10:M16))/1,2) -> 0 | P17: =ROUND((SUM(P10:P16))/1,2) -> 0 | S17: =ROUND((SUM(S10:S16))/1,2) -> 200.91
D19: SPEVNENÉ PLOCHY
B20: 221/A 1 | C20: 573231111 | D20: Postrek asfaltový spojovací bez posypu kamenivom z cestnej emulzie v množstve od 0,50 do 0,80 kg/m2 | E20: m2 | F20: 1110 | J20: =ROUND(F20*(N20),2) -> 244.2 | K20: =ROUND(F20*(O20),2) -> 0 | L20: =ROUND(F20*(G20),2) -> 0 | N20: 0.22 | P20: =ROUND(F20*(R20),3) -> 0.788 | R20: 0.00071 | Z20: 0
B21: R/R 0 | C21: 577144121 | D21: Doasfaltovanie cesty pri obrubníkoch - Asfaltový betón stredozrný AC 11 - III obrus., STN EN 13108-1, po zhutnení hr. 60 mm | E21: m2 | F21: 150 | J21: =ROUND(F21*(N21),2) -> 1366.5 | K21: =ROUND(F21*(O21),2) -> 0 | L21: =ROUND(F21*(G21),2) -> 0 | N21: 9.11 | Z21: 0
B22: 221/A 1 | C22: 577131211 | D22: Asfaltový betón stredozrný AC 11 - III obrus., STN EN 13108-1, po zhutnení hr. 40 mm | E22: m2 | F22: 960 | J22: =ROUND(F22*(N22),2) -> 5424 | K22: =ROUND(F22*(O22),2) -> 0 | L22: =ROUND(F22*(G22),2) -> 0 | N22: 5.65 | P22: =ROUND(F22*(R22),3) -> 99.59 | R22: 0.10374 | Z22: 0
D23: SPEVNENÉ PLOCHY | L23: =ROUND((SUM(L19:L22))/1,2) -> 0 | M23: =ROUND((SUM(M19:M22))/1,2) -> 0 | P23: =ROUND((SUM(P19:P22))/1,2) -> 100.38 | S23: =ROUND((SUM(S19:S22))/1,2) -> 0
D25: POTRUBNÉ ROZVODY
B26: 221/C 1 | C26: 899231111 | D26: Výšková úprava uličného vstupu alebo vpuste do 200 mm zvýšením mreže | E26: kus | F26: 10 | J26: =ROUND(F26*(N26),2) -> 549.7 | K26: =ROUND(F26*(O26),2) -> 0 | L26: =ROUND(F26*(G26),2) -> 0 | N26: 54.97 | P26: =ROUND(F26*(R26),3) -> 4.584 | R26: 0.4583713 | Z26: 0
B27: R/R 0 | C27: 767900006.1 | D27: Montáž a dodávka zábradlia | E27: kus | F27: 15 | J27: =ROUND(F27*(N27),2) -> 2130.6 | K27: =ROUND(F27*(O27),2) -> 0 | L27: =ROUND(F27*(G27),2) -> 0 | N27: 142.04 | Z27: 0
D28: POTRUBNÉ ROZVODY | L28: =ROUND((SUM(L25:L27))/1,2) -> 0 | M28: =ROUND((SUM(M25:M27))/1,2) -> 0 | P28: =ROUND((SUM(P25:P27))/1,2) -> 4.58 | S28: =ROUND((SUM(S25:S27))/1,2) -> 0
D30: OSTATNÉ PRÁCE
B31: 1/A 1 | C31: 171209003 | D31: Poplatok za skládku z kategórie "N" - nebezpečný odpad | E31: t | F31: 200.91 | J31: =ROUND(F31*(N31),2) -> 8241.33 | K31: =ROUND(F31*(O31),2) -> 0 | L31: =ROUND(F31*(G31),2) -> 0 | N31: 41.02 | Z31: 0
B32: 221/B 1 | C32: 979087213 | D32: Nakladanie na dopravné prostriedky pre vodorovnú dopravu vybúraných hmôt | E32: t | F32: 252.982 | J32: =ROUND(F32*(N32),2) -> 3956.64 | K32: =ROUND(F32*(O32),2) -> 0 | L32: =ROUND(F32*(G32),2) -> 0 | N32: 15.64 | Z32: 0
B33: 321/B 1 | C33: 979082319 | D33: Príplatok k cenám za každých ďalších aj začatých 1000 m | E33: t | F33: 3035.784 | J33: =ROUND(F33*(N33),2) -> 455.37 | K33: =ROUND(F33*(O33),2) -> 0 | L33: =ROUND(F33*(G33),2) -> 0 | N33: 0.15 | Z33: 0
B34: 321/B 1 | C34: 979082315 | D34: Vodorovná doprava sutiny a vybúraných hmôt bez naloženia ale so zložením do 3000 m | E34: t | F34: 252.982 | J34: =ROUND(F34*(N34),2) -> 751.36 | K34: =ROUND(F34*(O34),2) -> 0 | L34: =ROUND(F34*(G34),2) -> 0 | N34: 2.97 | Z34: 0
B35: 1/A 1 | C35: 171209002 | D35: Poplatok za skladovanie - ostatné | E35: t | F35: 52.0725 | J35: =ROUND(F35*(N35),2) -> 593.11 | K35: =ROUND(F35*(O35),2) -> 0 | L35: =ROUND(F35*(G35),2) -> 0 | N35: 11.39 | Z35: 0
B36: 221/A 1 | C36: 916161111 | D36: Osadenie cestnej obruby z veľkých kociek s bočnou oporou z bet. tr. C 12/15 do lôžka z betónu | E36: m | F36: 300 | J36: =ROUND(F36*(N36),2) -> 1209 | K36: =ROUND(F36*(O36),2) -> 0 | L36: =ROUND(F36*(G36),2) -> 0 | N36: 4.03 | P36: =ROUND(F36*(R36),3) -> 34.692 | R36: 0.11564064 | Z36: 0
B37: S/S60 | C37: 5838021100 | D37: Obrubník cestný dl. 1,0 m | E37: m | F37: 303 | J37: =ROUND(F37*(N37),2) -> 1684.68 | K37: =ROUND(F37*(O37),2) -> 0 | M37: =ROUND(F37*(H37),2) -> 0 | N37: 5.56 | P37: =ROUND(F37*(R37),3) -> 19.695 | R37: 0.065 | Z37: 0
B38: 221/B 1 | C38: 919735112 | D38: Rezanie existujúceho asfaltového krytu alebo podkladu hľbky nad 50 do 100 mm | E38: m | F38: 306.4 | J38: =ROUND(F38*(N38),2) -> 1626.98 | K38: =ROUND(F38*(O38),2) -> 0 | L38: =ROUND(F38*(G38),2) -> 0 | N38: 5.31 | P38: =ROUND(F38*(R38),3) -> 0.01 | R38: 3.36e-05 | Z38: 0
B39: 221/C 1 | C39: 938909311 | D39: Odstránenie blata, prachu alebo hlineného nánosu, z povrchu podkladu alebo krytu bet. alebo asfalt. | E39: m2 | F39: 1110 | J39: =ROUND(F39*(N39),2) -> 22.2 | K39: =ROUND(F39*(O39),2) -> 0 | L39: =ROUND(F39*(G39),2) -> 0 | N39: 0.02 | Z39: 0
B40: 13/B 1 | C40: 962032231 | D40: Búranie muriva nadzákladového z tehál pálených, vápenopieskových,cementových na maltu -1,905 t | E40: m3 | F40: 4.5 | J40: =ROUND(F40*(N40),2) -> 72.9 | K40: =ROUND(F40*(O40),2) -> 0 | L40: =ROUND(F40*(G40),2) -> 0 | N40: 16.2 | P40: =ROUND(F40*(R40),3) -> 0.006 | R40: 0.00131 | S40: =ROUND(F40*(X40),3) -> 8.1 | X40: 1.8 | Z40: 0
D41: OSTATNÉ PRÁCE | L41: =ROUND((SUM(L30:L40))/1,2) -> 0 | M41: =ROUND((SUM(M30:M40))/1,2) -> 0 | P41: =ROUND((SUM(P30:P40))/1,2) -> 54.4 | S41: =ROUND((SUM(S30:S40))/1,2) -> 8.1
D43: PRESUNY HMÔT
B44: 221/C 1 | C44: 998225311 | D44: Presun hmôt pre opravy a údržbu komunikácií a letísk s krytom asfaltovým alebo betónovým | E44: t | F44: 159.36559 | J44: =ROUND(F44*(N44),2) -> 124.31 | K44: =ROUND(F44*(O44),2) -> 0 | L44: =ROUND(F44*(G44),2) -> 0 | N44: 0.78 | Z44: 0
D45: PRESUNY HMÔT | L45: =ROUND((SUM(L43:L44))/1,2) -> 0 | M45: =ROUND((SUM(M43:M44))/1,2) -> 0 | P45: =ROUND((SUM(P43:P44))/1,2) -> 0 | S45: =ROUND((SUM(S43:S44))/1,2) -> 0
D47: Práce HSV | L47: =ROUND((SUM(L9:L46))/2,2) -> 0 | M47: =ROUND((SUM(M9:M46))/2,2) -> 0 | P47: =ROUND((SUM(P9:P46))/2,2) -> 159.36 | S47: =ROUND((SUM(S9:S46))/2,2) -> 209.01
B48: 6 - Oprava chodníka na ul. M. R. Štefánika | F48: Celkom | K48: =ROUND((SUM(K9:K47)),2) -> 0 | L48: =ROUND((SUM(L9:L47))/3,2) -> 0 | M48: =ROUND((SUM(M9:M47))/3,2) -> 0 | P48: =ROUND((SUM(P9:P47))/3,2) -> 159.36 | S48: =ROUND((SUM(S9:S47))/3,2) -> 209.01 | Z48: =(SUM(Z9:Z47)) -> 0

Sheet Kryci_list 11851
F1: Krycí list rozpočtu | W1: 30.126
B2: Stavba Oprava komunikácií a chodníkov na území mesta Vranov nad Topľou | G2: Miesto:
B3: Objekt 7 - Oprava chodníka na ul. Dr. C. Daxnera
I4: Ks:
B5: Zákazka: | F5: Spracoval: Ing. Ján Halgaš | I5: Dňa | J5: 26.04.2017
B6: Odberateľ: Mesto Vranov nad Topľou | G6: IČO:
G7: DIČ:
B8: Dodávateľ: | G8: IČO:
G9: DIČ:
B10: Projektant: | G10: IČO:
G11: DIČ:
B15: A | C15: ZRN | D15: Montáž | E15: Materiál | F15: ZRN spolu | G15: B | H15: Ďalšie náklady
B16: 1 | C16: HSV | D16: ='Rekap 11851'!B16 -> 0 | E16: ='Rekap 11851'!C16 -> 0 | F16: ='Rekap 11851'!D16 -> 0 | G16: 6 | H16: Ostatné náklady | J16: 0
B17: 2 | C17: PSV | G17: 7 | H17: Kompletačná činnosť | J17: ='SO 11851'!Z56 -> 0
B18: 3 | C18: MONT | G18: 8 | H18: HZS | J18: 0
B19: 4 | G19: 9
B20: 5 | C20: Spolu | F20: =SUM(F16:F19) -> 0 | G20: 10 | H20: Spolu | J20: =SUM(J16:J19) -> 0
B21: C | C21: VRN | G21: D | H21: VRN
B22: 11 | C22: Zariadenie staveniska | E22: 0% z [H+P+M] | F22: =((F16*U22*0)+(F17*V22*0)+(F18*W22*0))/100 -> 0 | G22: 16 | H22: Mimoriadne sťaž.podmienky | I22: 0% z [H+P+M] | J22: =((F16*X22*0)+(F17*Y22*0)+(F18*Z22*0))/100 -> 0 | U22: 1 | V22: 1 | W22: 1 | X22: 1 | Y22: 1 | Z22: 1
B23: 12 | C23: Územie so sťaž. podmienk. | E23: 0% z [H+P] | F23: =((F16*U23*0)+(F17*V23*0)+(F18*W23*0))/100 -> 0 | G23: 17 | H23: Horské oblasti | I23: 0% z [H+P+M] | J23: =((F16*X23*0)+(F17*Y23*0)+(F18*Z23*0))/100 -> 0 | U23: 1 | V23: 1 | W23: 0 | X23: 1 | Y23: 1 | Z23: 1
B24: 13 | C24: Prevádzkové vplyvy | E24: 0% z [H+P+M] | F24: =((F16*U24*0)+(F17*V24*0)+(F18*W24*0))/100 -> 0 | G24: 18 | H24: Mimostavenisková doprava | I24: 0% z [H+P] | J24: =((F16*X24*0)+(F17*Y24*0)+(F18*Z24*0))/100 -> 0 | U24: 1 | V24: 1 | W24: 1 | X24: 1 | Y24: 1 | Z24: 0
B25: 14 | G25: 19
B26: 15 | G26: 20 | H26: Spolu | J26: =SUM(J22:J25)+SUM(F22:F25) -> 0
C27: Projektant,rozpočtár | G27: E | H27: Celkové náklady
G28: 21 | H28: Súčet riadkov 5,10,15,20 | J28: =F20+J20+F26+J26 -> 0
G29: 22 | H29: DPH 20% z | I29: =J28-SUM('SO 11851'!K9:'SO 11851'!K55) -> 0 | J29: =ROUND(((ROUND(I29,2)*20)*1/100),2) -> 0
G30: 23 | H30: DPH 0% z | I30: =SUM('SO 11851'!K9:'SO 11851'!K55) -> 0 | J30: =ROUND(((ROUND(I30,2)*0)/100),2) -> 0
G31: 24 | H31: Spolu | J31: =SUM(J28:J30) -> 0
G32: F
D33: Odberateľ | G33: 26 | H33: Dodávateľ

Sheet Rekap 11851
A1: Odberateľ: Mesto Vranov nad Topľou | D1: Spracoval: Ing. Ján Halgaš | W1: 30.126
A2: Projektant: | D2: Ks:
A3: Dodávateľ: | D3: Dátum: 26.04.2017
A4: Stavba Oprava komunikácií a chodníkov na území mesta Vranov nad Topľou
A5: Objekt 7 - Oprava chodníka na ul. Dr. C. Daxnera
A8: Prehľad rozpočtových nákladov
A9: Oddiel | B9: Montáž | C9: Materiál | D9: Spolu | E9: Hmotnosť (T) | F9: Suť (T)
A10: Práce HSV
A11: ZEMNÉ PRÁCE | B11: ='SO 11851'!L21 -> 0 | C11: ='SO 11851'!M21 -> 0 | D11: ='SO 11851'!I21 -> 0 | E11: ='SO 11851'!P21 -> 0 | F11: ='SO 11851'!S21 -> 198.99
A12: SPEVNENÉ PLOCHY | B12: ='SO 11851'!L31 -> 0 | C12: ='SO 11851'!M31 -> 0 | D12: ='SO 11851'!I31 -> 0 | E12: ='SO 11851'!P31 -> 224.33 | F12: ='SO 11851'!S31 -> 0
A13: POTRUBNÉ ROZVODY | B13: ='SO 11851'!L35 -> 0 | C13: ='SO 11851'!M35 -> 0 | D13: ='SO 11851'!I35 -> 0 | E13: ='SO 11851'!P35 -> 4.58 | F13: ='SO 11851'!S35 -> 0
A14: OSTATNÉ PRÁCE | B14: ='SO 11851'!L49 -> 0 | C14: ='SO 11851'!M49 -> 0 | D14: ='SO 11851'!I49 -> 0 | E14: ='SO 11851'!P49 -> 29.82 | F14: ='SO 11851'!S49 -> 0
A15: PRESUNY HMÔT | B15: ='SO 11851'!L53 -> 0 | C15: ='SO 11851'!M53 -> 0 | D15: ='SO 11851'!I53 -> 0 | E15: ='SO 11851'!P53 -> 0 | F15: ='SO 11851'!S53 -> 0
A16: Práce HSV | B16: ='SO 11851'!L55 -> 0 | C16: ='SO 11851'!M55 -> 0 | D16: ='SO 11851'!I55 -> 0 | E16: ='SO 11851'!P55 -> 258.73 | F16: ='SO 11851'!S55 -> 198.99
A18: Celkom | B18: ='SO 11851'!L56 -> 0 | C18: ='SO 11851'!M56 -> 0 | D18: ='SO 11851'!I56 -> 0 | E18: ='SO 11851'!P56 -> 258.73 | F18: ='SO 11851'!S56 -> 198.99

Sheet SO 11851
B1: Odberateľ: Mesto Vranov nad Topľou | E1: Spracoval: Ing. Ján Halgaš | W1: 30.126
B2: Projektant: | E2: Ks:
B3: Dodávateľ: | E3: Dátum: 26.04.2017
B4: Stavba Oprava komunikácií a chodníkov na území mesta Vranov nad Topľou
B5: Objekt 7 - Oprava chodníka na ul. Dr. C. Daxnera
B7: Prehľad rozpočtových nákladov
A8: Por.č. | B8: Cenník | C8: Kód položky | D8: Názov | E8: Mj | F8: Množstvo | G8: Cena/Mj | H8: Materiál | I8: Cena celkom | P8: Hmotnosť | S8: Suť
D9: Práce HSV
D10: ZEMNÉ PRÁCE
B11: 221/B 1 | C11: 113107242 | D11: Odstránenie podkladu alebo krytu asfaltového nad 200 m2,hr.nad 50 do 100 mm 0,181 t | E11: m2 | F11: 49 | J11: =ROUND(F11*(N11),2) -> 48.02 | K11: =ROUND(F11*(O11),2) -> 0 | L11: =ROUND(F11*(G11),2) -> 0 | N11: 0.98 | S11: =ROUND(F11*(X11),3) -> 8.869 | X11: 0.181 | Z11: 0
B12: 221/B 1 | C12: 113204111 | D12: Vytrhanie obrúb, s vybúraním lôžka, záhonových 0,040 t | E12: m | F12: 176 | J12: =ROUND(F12*(N12),2) -> 158.4 | K12: =ROUND(F12*(O12),2) -> 0 | L12: =ROUND(F12*(G12),2) -> 0 | N12: 0.9 | Z12: 0
B13: 221/B 1 | C13: 113202111 | D13: Vytrhanie obrúb, s vybúraním lôžka, z krajníkov alebo obrubníkov,145 t | E13: m | F13: 59 | J13: =ROUND(F13*(N13),2) -> 89.09 | K13: =ROUND(F13*(O13),2) -> 0 | L13: =ROUND(F13*(G13),2) -> 0 | N13: 1.51 | Z13: 0
B14: 1/A 1 | C14: 132301101 | D14: Výkop ryhy do šírky 600 mm v horn.4 do 100 m3 | E14: m3 | F14: 19.2 | J14: =ROUND(F14*(N14),2) -> 802.56 | K14: =ROUND(F14*(O14),2) -> 0 | L14: =ROUND(F14*(G14),2) -> 0 | N14: 41.8 | Z14: 0
B15: 1/A 1 | C15: 162501102 | D15: Vodorovné premiestnenie výkopku tr.1-4 do 3000 m | E15: m3 | F15: 8.4 | J15: =ROUND(F15*(N15),2) -> 28.81 | K15: =ROUND(F15*(O15),2) -> 0 | L15: =ROUND(F15*(G15),2) -> 0 | N15: 3.43 | Z15: 0
B16: 1/A 1 | C16: 171201101 | D16: Uloženie sypaniny do násypov s rozprestretím sypaniny vo vrstvách a s hrubým urovnaním nezhutnených | E16: m3 | F16: 8.4 | J16: =ROUND(F16*(N16),2) -> 6.3 | K16: =ROUND(F16*(O16),2) -> 0 | L16: =ROUND(F16*(G16),2) -> 0 | N16: 0.75 | Z16: 0
B17: 231/A 2 | C17: 182001123 | D17: Plošná úprava terénu pri nerovnosti do 150 mm na svahu so sklonom do 1:1 | E17: m2 | F17: 11.8 | J17: =ROUND(F17*(N17),2) -> 28.44 | K17: =ROUND(F17*(O17),2) -> 0 | L17: =ROUND(F17*(G17),2) -> 0 | N17: 2.41 | Z17: 0
B18: 1/A 1 | C18: 174101001 | D18: Zásyp sypaninou so zhutnením jám, šachiet, rýh, zárezov alebo okolo objektov do 100 m3 | E18: m3 | F18: 10.8 | J18: =ROUND(F18*(N18),2) -> 27.32 | K18: =ROUND(F18*(O18),2) -> 0 | L18: =ROUND(F18*(G18),2) -> 0 | N18: 2.53 | Z18: 0
B19: 221/B 1 | C19: 113106121 | D19: Rozoberanie dlažby, z betónových alebo kamenin. dlaždíc, dosiek alebo tvaroviek 0,138 t | E19: m2 | F19: 638 | J19: =ROUND(F19*(N19),2) -> 669.9 | K19: =ROUND(F19*(O19),2) -> 0 | L19: =ROUND(F19*(G19),2) -> 0 | N19: 1.05 | S19: =ROUND(F19*(X19),3) -> 88.044 | X19: 0.138 | Z19: 0
B20: 221/B 1 | C20: 113107211 | D20: Odstránenie podkladu alebo krytu nad 200 m2 z kameniva ťaženého, hr. vrstvy do 100 mm 0,160 t | E20: m2 | F20: 638 | J20: =ROUND(F20*(N20),2) -> 236.06 | K20: =ROUND(F20*(O20),2) -> 0 | L20: =ROUND(F20*(G20),2) -> 0 | N20: 0.37 | S20: =ROUND(F20*(X20),3) -> 102.08 | X20: 0.16 | Z20: 0
D21: ZEMNÉ PRÁCE | L21: =ROUND((SUM(L10:L20))/1,2) -> 0 | M21: =ROUND((SUM(M10:M20))/1,2) -> 0 | P21: =ROUND((SUM(P10:P20))/1,2) -> 0 | S21: =ROUND((SUM(S10:S20))/1,2) -> 198.99
D23: SPEVNENÉ PLOCHY
B24: 221/A 1 | C24: 573231111 | D24: Postrek asfaltový spojovací bez posypu kamenivom z cestnej emulzie v množstve od 0,50 do 0,80 kg/m2 | E24: m2 | F24: 673 | J24: =ROUND(F24*(N24),2) -> 148.06 | K24: =ROUND(F24*(O24),2) -> 0 | L24: =ROUND(F24*(G24),2) -> 0 | N24: 0.22 | P24: =ROUND(F24*(R24),3) -> 0.478 | R24: 0.00071 | Z24: 0
B25: R/R 0 | C25: 577144121 | D25: Doasfaltovanie cesty pri obrubníkoch - Asfaltový betón stredozrný AC 11 - III obrus., STN EN 13108-1, po zhutnení hr. 60 mm | E25: m2 | F25: 35 | J25: =ROUND(F25*(N25),2) -> 318.85 | K25: =ROUND(F25*(O25),2) -> 0 | L25: =ROUND(F25*(G25),2) -> 0 | N25: 9.11 | Z25: 0
B26: 221/A 1 | C26: 577142212 | D26: Asfaltový betón stredozrný AC 11 - III obrus., STN EN 13108-1, po zhutnení hr. 50 mm | E26: m2 | F26: 628.625 | J26: =ROUND(F26*(N26),2) -> 4601.54 | K26: =ROUND(F26*(O26),2) -> 0 | L26: =ROUND(F26*(G26),2) -> 0 | N26: 7.32 | P26: =ROUND(F26*(R26),3) -> 81.508 | R26: 0.12966 | Z26: 0
B27: 221/A 1 | C27: 577131211 | D27: Asfaltový betón stredozrný AC 11 - III obrus., STN EN 13108-1, po zhutnení hr. 40 mm | E27: m2 | F27: 9.375 | J27: =ROUND(F27*(N27),2) -> 52.97 | K27: =ROUND(F27*(O27),2) -> 0 | L27: =ROUND(F27*(G27),2) -> 0 | N27: 5.65 | P27: =ROUND(F27*(R27),3) -> 0.973 | R27: 0.10374 | Z27: 0
B28: 221/A 1 | C28: 564811113 | D28: Podklad zo štrkodrviny hrúbky 70 mm | E28: m2 | F28: 628.625 | J28: =ROUND(F28*(N28),2) -> 1131.53 | K28: =ROUND(F28*(O28),2) -> 0 | L28: =ROUND(F28*(G28),2) -> 0 | N28: 1.8 | P28: =ROUND(F28*(R28),3) -> 84.581 | R28: 0.13455 | Z28: 0
B29: 221/A 1 | C29: 596811111 | D29: Kladenie dlažby komunikácií pre peších do lôžka z kameniva ťaženého fr. 4-8 hr. 40 mm | E29: m2 | F29: 181 | J29: =ROUND(F29*(N29),2) -> 506.8 | K29: =ROUND(F29*(O29),2) -> 0 | L29: =ROUND(F29*(G29),2) -> 0 | N29: 2.8 | P29: =ROUND(F29*(R29),3) -> 23.879 | R29: 0.13193 | Z29: 0
B30: S/S70 | C30: 5922902010 | D30: Dlažba betónová 50/50/5 cm | E30: m2 | F30: 182.81 | J30: =ROUND(F30*(N30),2) -> 2012.74 | K30: =ROUND(F30*(O30),2) -> 0 | M30: =ROUND(F30*(H30),2) -> 0 | N30: 11.01 | P30: =ROUND(F30*(R30),3) -> 32.906 | R30: 0.18 | Z30: 0
D31: SPEVNENÉ PLOCHY | L31: =ROUND((SUM(L23:L30))/1,2) -> 0 | M31: =ROUND((SUM(M23:M30))/1,2) -> 0 | P31: =ROUND((SUM(P23:P30))/1,2) -> 224.33 | S31: =ROUND((SUM(S23:S30))/1,2) -> 0
D33: POTRUBNÉ ROZVODY
B34: 221/C 1 | C34: 899231111 | D34: Výšková úprava uličného vstupu alebo vpuste do 200 mm zvýšením mreže | E34: kus | F34: 10 | J34: =ROUND(F34*(N34),2) -> 549.7 | K34: =ROUND(F34*(O34),2) -> 0 | L34: =ROUND(F34*(G34),2) -> 0 | N34: 54.97 | P34: =ROUND(F34*(R34),3) -> 4.584 | R34: 0.4583713 | Z34: 0
D35: POTRUBNÉ ROZVODY | L35: =ROUND((SUM(L33:L34))/1,2) -> 0 | M35: =ROUND((SUM(M33:M34))/1,2) -> 0 | P35: =ROUND((SUM(P33:P34))/1,2) -> 4.58 | S35: =ROUND((SUM(S33:S34))/1,2) -> 0
D37: OSTATNÉ PRÁCE
B38: 1/A 1 | C38: 171209003 | D38: Poplatok za skládku z kategórie "N" - nebezpečný odpad | E38: t | F38: 8.869 | J38: =ROUND(F38*(N38),2) -> 363.81 | K38: =ROUND(F38*(O38),2) -> 0 | L38: =ROUND(F38*(G38),2) -> 0 | N38: 41.02 | Z38: 0
B39: 221/B 1 | C39: 979087213 | D39: Nakladanie na dopravné prostriedky pre vodorovnú dopravu vybúraných hmôt | E39: t | F39: 139.942 | J39: =ROUND(F39*(N39),2) -> 2188.69 | K39: =ROUND(F39*(O39),2) -> 0 | L39: =ROUND(F39*(G39),2) -> 0 | N39: 15.64 | Z39: 0
B40: 321/B 1 | C40: 979082319 | D40: Príplatok k cenám za každých ďalších aj začatých 1000 m | E40: t | F40: 1679.304 | J40: =ROUND(F40*(N40),2) -> 251.9 | K40: =ROUND(F40*(O40),2) -> 0 | L40: =ROUND(F40*(G40),2) -> 0 | N40: 0.15 | Z40: 0
B41: 321/B 1 | C41: 979082315 | D41: Vodorovná doprava sutiny a vybúraných hmôt bez naloženia ale so zložením do 3000 m | E41: t | F41: 139.942 | J41: =ROUND(F41*(N41),2) -> 415.63 | K41: =ROUND(F41*(O41),2) -> 0 | L41: =ROUND(F41*(G41),2) -> 0 | N41: 2.97 | Z41: 0
B42: 1/A 1 | C42: 171209002 | D42: Poplatok za skladovanie - ostatné | E42: t | F42: 131.073 | J42: =ROUND(F42*(N42),2) -> 1492.92 | K42: =ROUND(F42*(O42),2) -> 0 | L42: =ROUND(F42*(G42),2) -> 0 | N42: 11.39 | Z42: 0
B43: 221/A 1 | C43: 916161111 | D43: Osadenie cestnej obruby z veľkých kociek s bočnou oporou z bet. tr. C 12/15 do lôžka z betónu | E43: m | F43: 59 | J43: =ROUND(F43*(N43),2) -> 237.77 | K43: =ROUND(F43*(O43),2) -> 0 | L43: =ROUND(F43*(G43),2) -> 0 | N43: 4.03 | P43: =ROUND(F43*(R43),3) -> 6.823 | R43: 0.11564064 | Z43: 0
B44: S/S60 | C44: 5838021100 | D44: Obrubník cestný dl. 1,0 m | E44: m | F44: 59.59 | J44: =ROUND(F44*(N44),2) -> 331.32 | K44: =ROUND(F44*(O44),2) -> 0 | M44: =ROUND(F44*(H44),2) -> 0 | N44: 5.56 | P44: =ROUND(F44*(R44),3) -> 3.873 | R44: 0.065 | Z44: 0
B45: 221/A 1 | C45: 916561111 | D45: Osadenie záhon. obrubníka betón., do lôžka z bet. pros. tr. C 10/12,5 s bočnou oporou | E45: m | F45: 181 | J45: =ROUND(F45*(N45),2) -> 651.6 | K45: =ROUND(F45*(O45),2) -> 0 | L45: =ROUND(F45*(G45),2) -> 0 | N45: 3.6 | P45: =ROUND(F45*(R45),3) -> 19.117 | R45: 0.10561946 | Z45: 0
B46: P/P 1 | C46: 592029170010 | D46: PREMAC záhonový obrubník 100/20/5 cm farba sivá | E46: KUS | F46: 182.81 | J46: =ROUND(F46*(N46),2) -> 436.92 | K46: =ROUND(F46*(O46),2) -> 0 | M46: =ROUND(F46*(H46),2) -> 0 | N46: 2.39 | Z46: 0
B47: 221/B 1 | C47: 919735112 | D47: Rezanie existujúceho asfaltového krytu alebo podkladu hľbky nad 50 do 100 mm | E47: m | F47: 61 | J47: =ROUND(F47*(N47),2) -> 323.91 | K47: =ROUND(F47*(O47),2) -> 0 | L47: =ROUND(F47*(G47),2) -> 0 | N47: 5.31 | P47: =ROUND(F47*(R47),3) -> 0.002 | R47: 3.36e-05 | Z47: 0
B48: 221/C 1 | C48: 938909311 | D48: Odstránenie blata, prachu alebo hlineného nánosu, z povrchu podkladu alebo krytu bet. alebo asfalt. | E48: m2 | F48: 9.375 | J48: =ROUND(F48*(N48),2) -> 0.19 | K48: =ROUND(F48*(O48),2) -> 0 | L48: =ROUND(F48*(G48),2) -> 0 | N48: 0.02 | Z48: 0
D49: OSTATNÉ PRÁCE | L49: =ROUND((SUM(L37:L48))/1,2) -> 0 | M49: =ROUND((SUM(M37:M48))/1,2) -> 0 | P49: =ROUND((SUM(P37:P48))/1,2) -> 29.82 | S49: =ROUND((SUM(S37:S48))/1,2) -> 0
D51: PRESUNY HMÔT
B52: 221/C 1 | C52: 998225311 | D52: Presun hmôt pre opravy a údržbu komunikácií a letísk s krytom asfaltovým alebo betónovým | E52: t | F52: 258.72357 | J52: =ROUND(F52*(N52),2) -> 201.8 | K52: =ROUND(F52*(O52),2) -> 0 | L52: =ROUND(F52*(G52),2) -> 0 | N52: 0.78 | Z52: 0
D53: PRESUNY HMÔT | L53: =ROUND((SUM(L51:L52))/1,2) -> 0 | M53: =ROUND((SUM(M51:M52))/1,2) -> 0 | P53: =ROUND((SUM(P51:P52))/1,2) -> 0 | S53: =ROUND((SUM(S51:S52))/1,2) -> 0
D55: Práce HSV | L55: =ROUND((SUM(L9:L54))/2,2) -> 0 | M55: =ROUND((SUM(M9:M54))/2,2) -> 0 | P55: =ROUND((SUM(P9:P54))/2,2) -> 258.73 | S55: =ROUND((SUM(S9:S54))/2,2) -> 198.99
B56: 7 - Oprava chodníka na ul. Dr. C. Daxnera | F56: Celkom | K56: =ROUND((SUM(K9:K55)),2) -> 0 | L56: =ROUND((SUM(L9:L55))/3,2) -> 0 | M56: =ROUND((SUM(M9:M55))/3,2) -> 0 | P56: =ROUND((SUM(P9:P55))/3,2) -> 258.73 | S56: =ROUND((SUM(S9:S55))/3,2) -> 198.99 | Z56: =(SUM(Z9:Z55)) -> 0

Sheet Kryci_list 11853
F1: Krycí list rozpočtu | W1: 30.126
B2: Stavba Oprava komunikácií a chodníkov na území mesta Vranov nad Topľou | G2: Miesto:
B3: Objekt 8 - Oprava chodníka pri RD 857 smerom k ZŠ Juh
I4: Ks:
B5: Zákazka: | F5: Spracoval: Ing. Ján Halgaš | I5: Dňa | J5: 26.04.2017
B6: Odberateľ: Mesto Vranov nad Topľou | G6: IČO:
G7: DIČ:
B8: Dodávateľ: | G8: IČO:
G9: DIČ:
B10: Projektant: | G10: IČO:
G11: DIČ:
B15: A | C15: ZRN | D15: Montáž | E15: Materiál | F15: ZRN spolu | G15: B | H15: Ďalšie náklady
B16: 1 | C16: HSV | D16: ='Rekap 11853'!B17 -> 0 | E16: ='Rekap 11853'!C17 -> 0 | F16: ='Rekap 11853'!D17 -> 0 | G16: 6 | H16: Ostatné náklady | J16: 0
B17: 2 | C17: PSV | G17: 7 | H17: Kompletačná činnosť | J17: ='SO 11853'!Z58 -> 0
B18: 3 | C18: MONT | G18: 8 | H18: HZS | J18: 0
B19: 4 | G19: 9
B20: 5 | C20: Spolu | F20: =SUM(F16:F19) -> 0 | G20: 10 | H20: Spolu | J20: =SUM(J16:J19) -> 0
B21: C | C21: VRN | G21: D | H21: VRN
B22: 11 | C22: Zariadenie staveniska | E22: 0% z [H+P+M] | F22: =((F16*U22*0)+(F17*V22*0)+(F18*W22*0))/100 -> 0 | G22: 16 | H22: Mimoriadne sťaž.podmienky | I22: 0% z [H+P+M] | J22: =((F16*X22*0)+(F17*Y22*0)+(F18*Z22*0))/100 -> 0 | U22: 1 | V22: 1 | W22: 1 | X22: 1 | Y22: 1 | Z22: 1
B23: 12 | C23: Územie so sťaž. podmienk. | E23: 0% z [H+P] | F23: =((F16*U23*0)+(F17*V23*0)+(F18*W23*0))/100 -> 0 | G23: 17 | H23: Horské oblasti | I23: 0% z [H+P+M] | J23: =((F16*X23*0)+(F17*Y23*0)+(F18*Z23*0))/100 -> 0 | U23: 1 | V23: 1 | W23: 0 | X23: 1 | Y23: 1 | Z23: 1
B24: 13 | C24: Prevádzkové vplyvy | E24: 0% z [H+P+M] | F24: =((F16*U24*0)+(F17*V24*0)+(F18*W24*0))/100 -> 0 | G24: 18 | H24: Mimostavenisková doprava | I24: 0% z [H+P] | J24: =((F16*X24*0)+(F17*Y24*0)+(F18*Z24*0))/100 -> 0 | U24: 1 | V24: 1 | W24: 1 | X24: 1 | Y24: 1 | Z24: 0
B25: 14 | G25: 19
B26: 15 | G26: 20 | H26: Spolu | J26: =SUM(J22:J25)+SUM(F22:F25) -> 0
C27: Projektant,rozpočtár | G27: E | H27: Celkové náklady
G28: 21 | H28: Súčet riadkov 5,10,15,20 | J28: =F20+J20+F26+J26 -> 0
G29: 22 | H29: DPH 20% z | I29: =J28-SUM('SO 11853'!K9:'SO 11853'!K57) -> 0 | J29: =ROUND(((ROUND(I29,2)*20)*1/100),2) -> 0
G30: 23 | H30: DPH 0% z | I30: =SUM('SO 11853'!K9:'SO 11853'!K57) -> 0 | J30: =ROUND(((ROUND(I30,2)*0)/100),2) -> 0
G31: 24 | H31: Spolu | J31: =SUM(J28:J30) -> 0
G32: F
D33: Odberateľ | G33: 26 | H33: Dodávateľ

Sheet Rekap 11853
A1: Odberateľ: Mesto Vranov nad Topľou | D1: Spracoval: Ing. Ján Halgaš | W1: 30.126
A2: Projektant: | D2: Ks:
A3: Dodávateľ: | D3: Dátum: 26.04.2017
A4: Stavba Oprava komunikácií a chodníkov na území mesta Vranov nad Topľou
A5: Objekt 8 - Oprava chodníka pri RD 857 smerom k ZŠ Juh
A8: Prehľad rozpočtových nákladov
A9: Oddiel | B9: Montáž | C9: Materiál | D9: Spolu | E9: Hmotnosť (T) | F9: Suť (T)
A10: Práce HSV
A11: ZEMNÉ PRÁCE | B11: ='SO 11853'!L21 -> 0 | C11: ='SO 11853'!M21 -> 0 | D11: ='SO 11853'!I21 -> 0 | E11: ='SO 11853'!P21 -> 0 | F11: ='SO 11853'!S21 -> 54.3
A12: ZÁKLADY | B12: ='SO 11853'!L25 -> 0 | C12: ='SO 11853'!M25 -> 0 | D12: ='SO 11853'!I25 -> 0 | E12: ='SO 11853'!P25 -> 45.18 | F12: ='SO 11853'!S25 -> 0
A13: ZVISLÉ KONŠTRUKCIE | B13: ='SO 11853'!L30 -> 0 | C13: ='SO 11853'!M30 -> 0 | D13: ='SO 11853'!I30 -> 0 | E13: ='SO 11853'!P30 -> 22.88 | F13: ='SO 11853'!S30 -> 0
A14: SPEVNENÉ PLOCHY | B14: ='SO 11853'!L36 -> 0 | C14: ='SO 11853'!M36 -> 0 | D14: ='SO 11853'!I36 -> 0 | E14: ='SO 11853'!P36 -> 25.11 | F14: ='SO 11853'!S36 -> 0
A15: OSTATNÉ PRÁCE | B15: ='SO 11853'!L51 -> 0 | C15: ='SO 11853'!M51 -> 0 | D15: ='SO 11853'!I51 -> 0 | E15: ='SO 11853'!P51 -> 34.46 | F15: ='SO 11853'!S51 -> 41.8
A16: PRESUNY HMÔT | B16: ='SO 11853'!L55 -> 0 | C16: ='SO 11853'!M55 -> 0 | D16: ='SO 11853'!I55 -> 0 | E16: ='SO 11853'!P55 -> 0 | F16: ='SO 11853'!S55 -> 0
A17: Práce HSV | B17: ='SO 11853'!L57 -> 0 | C17: ='SO 11853'!M57 -> 0 | D17: ='SO 11853'!I57 -> 0 | E17: ='SO 11853'!P57 -> 127.63 | F17: ='SO 11853'!S57 -> 96.1
A19: Celkom | B19: ='SO 11853'!L58 -> 0 | C19: ='SO 11853'!M58 -> 0 | D19: ='SO 11853'!I58 -> 0 | E19: ='SO 11853'!P58 -> 127.63 | F19: ='SO 11853'!S58 -> 96.1

Sheet SO 11853
B1: Odberateľ: Mesto Vranov nad Topľou | E1: Spracoval: Ing. Ján Halgaš | W1: 30.126
B2: Projektant: | E2: Ks:
B3: Dodávateľ: | E3: Dátum: 26.04.2017
B4: Stavba Oprava komunikácií a chodníkov na území mesta Vranov nad Topľou
B5: Objekt 8 - Oprava chodníka pri RD 857 smerom k ZŠ Juh
B7: Prehľad rozpočtových nákladov
A8: Por.č. | B8: Cenník | C8: Kód položky | D8: Názov | E8: Mj | F8: Množstvo | G8: Cena/Mj | H8: Materiál | I8: Cena celkom | P8: Hmotnosť | S8: Suť
D9: Práce HSV
D10: ZEMNÉ PRÁCE
B11: 221/B 1 | C11: 113107242 | D11: Odstránenie podkladu alebo krytu asfaltového nad 200 m2,hr.nad 50 do 100 mm 0,181 t | E11: m2 | F11: 300 | J11: =ROUND(F11*(N11),2) -> 294 | K11: =ROUND(F11*(O11),2) -> 0 | L11: =ROUND(F11*(G11),2) -> 0 | N11: 0.98 | S11: =ROUND(F11*(X11),3) -> 54.3 | X11: 0.181 | Z11: 0
B12: 221/B 1 | C12: 113204111 | D12: Vytrhanie obrúb, s vybúraním lôžka, záhonových 0,040 t | E12: m | F12: 120 | J12: =ROUND(F12*(N12),2) -> 108 | K12: =ROUND(F12*(O12),2) -> 0 | L12: =ROUND(F12*(G12),2) -> 0 | N12: 0.9 | Z12: 0
B13: 221/B 1 | C13: 113202111 | D13: Vytrhanie obrúb, s vybúraním lôžka, z krajníkov alebo obrubníkov,145 t | E13: m | F13: 120 | J13: =ROUND(F13*(N13),2) -> 181.2 | K13: =ROUND(F13*(O13),2) -> 0 | L13: =ROUND(F13*(G13),2) -> 0 | N13: 1.51 | Z13: 0
B14: 1/A 1 | C14: 132301101 | D14: Výkop ryhy do šírky 600 mm v horn.4 do 100 m3 | E14: m3 | F14: 47.8 | J14: =ROUND(F14*(N14),2) -> 1998.04 | K14: =ROUND(F14*(O14),2) -> 0 | L14: =ROUND(F14*(G14),2) -> 0 | N14: 41.8 | Z14: 0
B15: 1/A 1 | C15: 162501102 | D15: Vodorovné premiestnenie výkopku tr.1-4 do 3000 m | E15: m3 | F15: 37 | J15: =ROUND(F15*(N15),2) -> 126.91 | K15: =ROUND(F15*(O15),2) -> 0 | L15: =ROUND(F15*(G15),2) -> 0 | N15: 3.43 | Z15: 0
B16: 1/A 1 | C16: 171201101 | D16: Uloženie sypaniny do násypov s rozprestretím sypaniny vo vrstvách a s hrubým urovnaním nezhutnených | E16: m3 | F16: 37 | J16: =ROUND(F16*(N16),2) -> 27.75 | K16: =ROUND(F16*(O16),2) -> 0 | L16: =ROUND(F16*(G16),2) -> 0 | N16: 0.75 | Z16: 0
B17: 231/A 2 | C17: 182001123 | D17: Plošná úprava terénu pri nerovnosti do 150 mm na svahu so sklonom do 1:1 | E17: m2 | F17: 24 | J17: =ROUND(F17*(N17),2) -> 57.84 | K17: =ROUND(F17*(O17),2) -> 0 | L17: =ROUND(F17*(G17),2) -> 0 | N17: 2.41 | Z17: 0
B18: 1/A 1 | C18: 174101001 | D18: Zásyp sypaninou so zhutnením jám, šachiet, rýh, zárezov alebo okolo objektov do 100 m3 | E18: m3 | F18: 46.8 | J18: =ROUND(F18*(N18),2) -> 118.4 | K18: =ROUND(F18*(O18),2) -> 0 | L18: =ROUND(F18*(G18),2) -> 0 | N18: 2.53 | Z18: 0
B19: 1/A 1 | C19: 122201101 | D19: Odkopávka a prekopávka nezapažená v hornine 3,do 100 m3 | E19: m3 | F19: 36 | J19: =ROUND(F19*(N19),2) -> 144.36 | K19: =ROUND(F19*(O19),2) -> 0 | L19: =ROUND(F19*(G19),2) -> 0 | N19: 4.01 | Z19: 0
B20: 1/A 1 | C20: 122201109 | D20: Príplatok k cenám za lepivosť horniny | E20: m3 | F20: 18 | J20: =ROUND(F20*(N20),2) -> 12.24 | K20: =ROUND(F20*(O20),2) -> 0 | L20: =ROUND(F20*(G20),2) -> 0 | N20: 0.68 | Z20: 0
D21: ZEMNÉ PRÁCE | L21: =ROUND((SUM(L10:L20))/1,2) -> 0 | M21: =ROUND((SUM(M10:M20))/1,2) -> 0 | P21: =ROUND((SUM(P10:P20))/1,2) -> 0 | S21: =ROUND((SUM(S10:S20))/1,2) -> 54.3
D23: ZÁKLADY
B24: 11/A 1 | C24: 274313521 | D24: Betón základových pásov, prostý tr.C 12/15 | E24: m3 | F24: 19 | J24: =ROUND(F24*(N24),2) -> 1100.29 | K24: =ROUND(F24*(O24),2) -> 0 | L24: =ROUND(F24*(G24),2) -> 0 | N24: 57.91 | P24: =ROUND(F24*(R24),3) -> 45.18 | R24: 2.3778966 | Z24: 0
D25: ZÁKLADY | L25: =ROUND((SUM(L23:L24))/1,2) -> 0 | M25: =ROUND((SUM(M23:M24))/1,2) -> 0 | P25: =ROUND((SUM(P23:P24))/1,2) -> 45.18 | S25: =ROUND((SUM(S23:S24))/1,2) -> 0
D27: ZVISLÉ KONŠTRUKCIE
B28: 11/A 1 | C28: 311271321 | D28: Murivo nosné PREMAC 50x20x25 s betónovou výplňou hr. 20 cm | E28: m2 | F28: 52 | J28: =ROUND(F28*(N28),2) -> 1172.6 | K28: =ROUND(F28*(O28),2) -> 0 | L28: =ROUND(F28*(G28),2) -> 0 | N28: 22.55 | P28: =ROUND(F28*(R28),3) -> 22.789 | R28: 0.43825944 | Z28: 0
B29: 11/A 1 | C29: 311361825 | D29: Výstuž pre murivo nosné PREMAC s betónovou výplňou z ocele 10505 | E29: t | F29: 0.089 | J29: =ROUND(F29*(N29),2) -> 38.86 | K29: =ROUND(F29*(O29),2) -> 0 | L29: =ROUND(F29*(G29),2) -> 0 | N29: 436.6 | P29: =ROUND(F29*(R29),3) -> 0.089 | R29: 1.002 | Z29: 0
D30: ZVISLÉ KONŠTRUKCIE | L30: =ROUND((SUM(L27:L29))/1,2) -> 0 | M30: =ROUND((SUM(M27:M29))/1,2) -> 0 | P30: =ROUND((SUM(P27:P29))/1,2) -> 22.88 | S30: =ROUND((SUM(S27:S29))/1,2) -> 0
D32: SPEVNENÉ PLOCHY
B33: 221/A 1 | C33: 573231111 | D33: Postrek asfaltový spojovací bez posypu kamenivom z cestnej emulzie v množstve od 0,50 do 0,80 kg/m2 | E33: m2 | F33: 300 | J33: =ROUND(F33*(N33),2) -> 66 | K33: =ROUND(F33*(O33),2) -> 0 | L33: =ROUND(F33*(G33),2) -> 0 | N33: 0.22 | P33: =ROUND(F33*(R33),3) -> 0.213 | R33: 0.00071 | Z33: 0
B34: R/R 0 | C34: 577144121 | D34: Doasfaltovanie cesty pri obrubníkoch - Asfaltový betón stredozrný AC 11 - III obrus., STN EN 13108-1, po zhutnení hr. 60 mm | E34: m2 | F34: 60 | J34: =ROUND(F34*(N34),2) -> 546.6 | K34: =ROUND(F34*(O34),2) -> 0 | L34: =ROUND(F34*(G34),2) -> 0 | N34: 9.11 | Z34: 0
B35: 221/A 1 | C35: 577131211 | D35: Asfaltový betón stredozrný AC 11 - III obrus., STN EN 13108-1, po zhutnení hr. 40 mm | E35: m2 | F35: 240 | J35: =ROUND(F35*(N35),2) -> 1356 | K35: =ROUND(F35*(O35),2) -> 0 | L35: =ROUND(F35*(G35),2) -> 0 | N35: 5.65 | P35: =ROUND(F35*(R35),3) -> 24.898 | R35: 0.10374 | Z35: 0
D36: SPEVNENÉ PLOCHY | L36: =ROUND((SUM(L32:L35))/1,2) -> 0 | M36: =ROUND((SUM(M32:M35))/1,2) -> 0 | P36: =ROUND((SUM(P32:P35))/1,2) -> 25.11 | S36: =ROUND((SUM(S32:S35))/1,2) -> 0
D38: OSTATNÉ PRÁCE
B39: 1/A 1 | C39: 171209003 | D39: Poplatok za skládku z kategórie "N" - nebezpečný odpad | E39: t | F39: 43.44 | J39: =ROUND(F39*(N39),2) -> 1781.91 | K39: =ROUND(F39*(O39),2) -> 0 | L39: =ROUND(F39*(G39),2) -> 0 | N39: 41.02 | Z39: 0
B40: 221/B 1 | C40: 979087213 | D40: Nakladanie na dopravné prostriedky pre vodorovnú dopravu vybúraných hmôt | E40: t | F40: 123.76 | J40: =ROUND(F40*(N40),2) -> 1935.61 | K40: =ROUND(F40*(O40),2) -> 0 | L40: =ROUND(F40*(G40),2) -> 0 | N40: 15.64 | Z40: 0
B41: 321/B 1 | C41: 979082319 | D41: Príplatok k cenám za každých ďalších aj začatých 1000 m | E41: t | F41: 1485.12 | J41: =ROUND(F41*(N41),2) -> 222.77 | K41: =ROUND(F41*(O41),2) -> 0 | L41: =ROUND(F41*(G41),2) -> 0 | N41: 0.15 | Z41: 0
B42: 321/B 1 | C42: 979082315 | D42: Vodorovná doprava sutiny a vybúraných hmôt bez naloženia ale so zložením do 3000 m | E42: t | F42: 123.76 | J42: =ROUND(F42*(N42),2) -> 367.57 | K42: =ROUND(F42*(O42),2) -> 0 | L42: =ROUND(F42*(G42),2) -> 0 | N42: 2.97 | Z42: 0
B43: 1/A 1 | C43: 171209002 | D43: Poplatok za skladovanie - ostatné | E43: t | F43: 80.32 | J43: =ROUND(F43*(N43),2) -> 914.84 | K43: =ROUND(F43*(O43),2) -> 0 | L43: =ROUND(F43*(G43),2) -> 0 | N43: 11.39 | Z43: 0
B44: 221/A 1 | C44: 916161111 | D44: Osadenie cestnej obruby z veľkých kociek s bočnou oporou z bet. tr. C 12/15 do lôžka z betónu | E44: m | F44: 120 | J44: =ROUND(F44*(N44),2) -> 483.6 | K44: =ROUND(F44*(O44),2) -> 0 | L44: =ROUND(F44*(G44),2) -> 0 | N44: 4.03 | P44: =ROUND(F44*(R44),3) -> 13.877 | R44: 0.11564064 | Z44: 0
B45: S/S60 | C45: 5838021100 | D45: Obrubník cestný dl. 1,0 m | E45: m | F45: 121.2 | J45: =ROUND(F45*(N45),2) -> 673.87 | K45: =ROUND(F45*(O45),2) -> 0 | M45: =ROUND(F45*(H45),2) -> 0 | N45: 5.56 | P45: =ROUND(F45*(R45),3) -> 7.878 | R45: 0.065 | Z45: 0
B46: 221/A 1 | C46: 916561111 | D46: Osadenie záhon. obrubníka betón., do lôžka z bet. pros. tr. C 10/12,5 s bočnou oporou | E46: m | F46: 120 | J46: =ROUND(F46*(N46),2) -> 432 | K46: =ROUND(F46*(O46),2) -> 0 | L46: =ROUND(F46*(G46),2) -> 0 | N46: 3.6 | P46: =ROUND(F46*(R46),3) -> 12.674 | R46: 0.10561946 | Z46: 0
B47: P/P 1 | C47: 592029170010 | D47: PREMAC záhonový obrubník 100/20/5 cm farba sivá | E47: KUS | F47: 121.2 | J47: =ROUND(F47*(N47),2) -> 289.67 | K47: =ROUND(F47*(O47),2) -> 0 | M47: =ROUND(F47*(H47),2) -> 0 | N47: 2.39 | Z47: 0
B48: 221/B 1 | C48: 919735112 | D48: Rezanie existujúceho asfaltového krytu alebo podkladu hľbky nad 50 do 100 mm | E48: m | F48: 124 | J48: =ROUND(F48*(N48),2) -> 658.44 | K48: =ROUND(F48*(O48),2) -> 0 | L48: =ROUND(F48*(G48),2) -> 0 | N48: 5.31 | P48: =ROUND(F48*(R48),3) -> 0.004 | R48: 3.36e-05 | Z48: 0
B49: 221/C 1 | C49: 938909311 | D49: Odstránenie blata, prachu alebo hlineného nánosu, z povrchu podkladu alebo krytu bet. alebo asfalt. | E49: m2 | F49: 300 | J49: =ROUND(F49*(N49),2) -> 6 | K49: =ROUND(F49*(O49),2) -> 0 | L49: =ROUND(F49*(G49),2) -> 0 | N49: 0.02 | Z49: 0
B50: 13/B 1 | C50: 962042321 | D50: Búranie muriva z betónu prostého nadzáklad. -2,200t | E50: m3 | F50: 19 | J50: =ROUND(F50*(N50),2) -> 975.08 | K50: =ROUND(F50*(O50),2) -> 0 | L50: =ROUND(F50*(G50),2) -> 0 | N50: 51.32 | P50: =ROUND(F50*(R50),3) -> 0.029 | R50: 0.0015 | S50: =ROUND(F50*(X50),3) -> 41.8 | X50: 2.2 | Z50: 0
D51: OSTATNÉ PRÁCE | L51: =ROUND((SUM(L38:L50))/1,2) -> 0 | M51: =ROUND((SUM(M38:M50))/1,2) -> 0 | P51: =ROUND((SUM(P38:P50))/1,2) -> 34.46 | S51: =ROUND((SUM(S38:S50))/1,2) -> 41.8
D53: PRESUNY HMÔT
B54: 221/C 1 | C54: 998225311 | D54: Presun hmôt pre opravy a údržbu komunikácií a letísk s krytom asfaltovým alebo betónovým | E54: t | F54: 127.63118 | J54: =ROUND(F54*(N54),2) -> 99.55 | K54: =ROUND(F54*(O54),2) -> 0 | L54: =ROUND(F54*(G54),2) -> 0 | N54: 0.78 | Z54: 0
D55: PRESUNY HMÔT | L55: =ROUND((SUM(L53:L54))/1,2) -> 0 | M55: =ROUND((SUM(M53:M54))/1,2) -> 0 | P55: =ROUND((SUM(P53:P54))/1,2) -> 0 | S55: =ROUND((SUM(S53:S54))/1,2) -> 0
D57: Práce HSV | L57: =ROUND((SUM(L9:L56))/2,2) -> 0 | M57: =ROUND((SUM(M9:M56))/2,2) -> 0 | P57: =ROUND((SUM(P9:P56))/2,2) -> 127.63 | S57: =ROUND((SUM(S9:S56))/2,2) -> 96.1
B58: 8 - Oprava chodníka pri RD 857 smerom k ZŠ Juh | F58: Celkom | K58: =ROUND((SUM(K9:K57)),2) -> 0 | L58: =ROUND((SUM(L9:L57))/3,2) -> 0 | M58: =ROUND((SUM(M9:M57))/3,2) -> 0 | P58: =ROUND((SUM(P9:P57))/3,2) -> 127.63 | S58: =ROUND((SUM(S9:S57))/3,2) -> 96.1 | Z58: =(SUM(Z9:Z57)) -> 0

Sheet Kryci_list 11855
F1: Krycí list rozpočtu | W1: 30.126
B2: Stavba Oprava komunikácií a chodníkov na území mesta Vranov nad Topľou | G2: Miesto:
B3: Objekt 9 - Oprava chodníka na ul. Viničná
I4: Ks:
B5: Zákazka: | F5: Spracoval: Ing. Ján Halgaš | I5: Dňa | J5: 26.04.2017
B6: Odberateľ: Mesto Vranov nad Topľou | G6: IČO:
G7: DIČ:
B8: Dodávateľ: | G8: IČO:
G9: DIČ:
B10: Projektant: | G10: IČO:
G11: DIČ:
B15: A | C15: ZRN | D15: Montáž | E15: Materiál | F15: ZRN spolu | G15: B | H15: Ďalšie náklady
B16: 1 | C16: HSV | D16: ='Rekap 11855'!B16 -> 0 | E16: ='Rekap 11855'!C16 -> 0 | F16: ='Rekap 11855'!D16 -> 0 | G16: 6 | H16: Ostatné náklady | J16: 0
B17: 2 | C17: PSV | G17: 7 | H17: Kompletačná činnosť | J17: ='SO 11855'!Z46 -> 0
B18: 3 | C18: MONT | G18: 8 | H18: HZS | J18: 0
B19: 4 | G19: 9
B20: 5 | C20: Spolu | F20: =SUM(F16:F19) -> 0 | G20: 10 | H20: Spolu | J20: =SUM(J16:J19) -> 0
B21: C | C21: VRN | G21: D | H21: VRN
B22: 11 | C22: Zariadenie staveniska | E22: 0% z [H+P+M] | F22: =((F16*U22*0)+(F17*V22*0)+(F18*W22*0))/100 -> 0 | G22: 16 | H22: Mimoriadne sťaž.podmienky | I22: 0% z [H+P+M] | J22: =((F16*X22*0)+(F17*Y22*0)+(F18*Z22*0))/100 -> 0 | U22: 1 | V22: 1 | W22: 1 | X22: 1 | Y22: 1 | Z22: 1
B23: 12 | C23: Územie so sťaž. podmienk. | E23: 0% z [H+P] | F23: =((F16*U23*0)+(F17*V23*0)+(F18*W23*0))/100 -> 0 | G23: 17 | H23: Horské oblasti | I23: 0% z [H+P+M] | J23: =((F16*X23*0)+(F17*Y23*0)+(F18*Z23*0))/100 -> 0 | U23: 1 | V23: 1 | W23: 0 | X23: 1 | Y23: 1 | Z23: 1
B24: 13 | C24: Prevádzkové vplyvy | E24: 0% z [H+P+M] | F24: =((F16*U24*0)+(F17*V24*0)+(F18*W24*0))/100 -> 0 | G24: 18 | H24: Mimostavenisková doprava | I24: 0% z [H+P] | J24: =((F16*X24*0)+(F17*Y24*0)+(F18*Z24*0))/100 -> 0 | U24: 1 | V24: 1 | W24: 1 | X24: 1 | Y24: 1 | Z24: 0
B25: 14 | G25: 19
B26: 15 | G26: 20 | H26: Spolu | J26: =SUM(J22:J25)+SUM(F22:F25) -> 0
C27: Projektant,rozpočtár | G27: E | H27: Celkové náklady
G28: 21 | H28: Súčet riadkov 5,10,15,20 | J28: =F20+J20+F26+J26 -> 0
G29: 22 | H29: DPH 20% z | I29: =J28-SUM('SO 11855'!K9:'SO 11855'!K45) -> 0 | J29: =ROUND(((ROUND(I29,2)*20)*1/100),2) -> 0
G30: 23 | H30: DPH 0% z | I30: =SUM('SO 11855'!K9:'SO 11855'!K45) -> 0 | J30: =ROUND(((ROUND(I30,2)*0)/100),2) -> 0
G31: 24 | H31: Spolu | J31: =SUM(J28:J30) -> 0
G32: F
D33: Odberateľ | G33: 26 | H33: Dodávateľ

Sheet Rekap 11855
A1: Odberateľ: Mesto Vranov nad Topľou | D1: Spracoval: Ing. Ján Halgaš | W1: 30.126
A2: Projektant: | D2: Ks:
A3: Dodávateľ: | D3: Dátum: 26.04.2017
A4: Stavba Oprava komunikácií a chodníkov na území mesta Vranov nad Topľou
A5: Objekt 9 - Oprava chodníka na ul. Viničná
A8: Prehľad rozpočtových nákladov
A9: Oddiel | B9: Montáž | C9: Materiál | D9: Spolu | E9: Hmotnosť (T) | F9: Suť (T)
A10: Práce HSV
A11: ZEMNÉ PRÁCE | B11: ='SO 11855'!L18 -> 0 | C11: ='SO 11855'!M18 -> 0 | D11: ='SO 11855'!I18 -> 0 | E11: ='SO 11855'!P18 -> 0 | F11: ='SO 11855'!S18 -> 80.09
A12: SPEVNENÉ PLOCHY | B12: ='SO 11855'!L23 -> 0 | C12: ='SO 11855'!M23 -> 0 | D12: ='SO 11855'!I23 -> 0 | E12: ='SO 11855'!P23 -> 46.22 | F12: ='SO 11855'!S23 -> 0
A13: POTRUBNÉ ROZVODY | B13: ='SO 11855'!L27 -> 0 | C13: ='SO 11855'!M27 -> 0 | D13: ='SO 11855'!I27 -> 0 | E13: ='SO 11855'!P27 -> 4.58 | F13: ='SO 11855'!S27 -> 0
A14: OSTATNÉ PRÁCE | B14: ='SO 11855'!L39 -> 0 | C14: ='SO 11855'!M39 -> 0 | D14: ='SO 11855'!I39 -> 0 | E14: ='SO 11855'!P39 -> 31.16 | F14: ='SO 11855'!S39 -> 0
A15: PRESUNY HMÔT | B15: ='SO 11855'!L43 -> 0 | C15: ='SO 11855'!M43 -> 0 | D15: ='SO 11855'!I43 -> 0 | E15: ='SO 11855'!P43 -> 0 | F15: ='SO 11855'!S43 -> 0
A16: Práce HSV | B16: ='SO 11855'!L45 -> 0 | C16: ='SO 11855'!M45 -> 0 | D16: ='SO 11855'!I45 -> 0 | E16: ='SO 11855'!P45 -> 81.96 | F16: ='SO 11855'!S45 -> 80.09
A18: Celkom | B18: ='SO 11855'!L46 -> 0 | C18: ='SO 11855'!M46 -> 0 | D18: ='SO 11855'!I46 -> 0 | E18: ='SO 11855'!P46 -> 81.96 | F18: ='SO 11855'!S46 -> 80.09

Sheet SO 11855
B1: Odberateľ: Mesto Vranov nad Topľou | E1: Spracoval: Ing. Ján Halgaš | W1: 30.126
B2: Projektant: | E2: Ks:
B3: Dodávateľ: | E3: Dátum: 26.04.2017
B4: Stavba Oprava komunikácií a chodníkov na území mesta Vranov nad Topľou
B5: Objekt 9 - Oprava chodníka na ul. Viničná
B7: Prehľad rozpočtových nákladov
A8: Por.č. | B8: Cenník | C8: Kód položky | D8: Názov | E8: Mj | F8: Množstvo | G8: Cena/Mj | H8: Materiál | I8: Cena celkom | P8: Hmotnosť | S8: Suť
D9: Práce HSV
D10: ZEMNÉ PRÁCE
B11: 221/B 1 | C11: 113107242 | D11: Odstránenie podkladu alebo krytu asfaltového nad 200 m2,hr.nad 50 do 100 mm 0,181 t | E11: m2 | F11: 442.5 | J11: =ROUND(F11*(N11),2) -> 433.65 | K11: =ROUND(F11*(O11),2) -> 0 | L11: =ROUND(F11*(G11),2) -> 0 | N11: 0.98 | S11: =ROUND(F11*(X11),3) -> 80.093 | X11: 0.181 | Z11: 0
B12: 221/B 1 | C12: 113204111 | D12: Vytrhanie obrúb, s vybúraním lôžka, záhonových 0,040 t | E12: m | F12: 295 | J12: =ROUND(F12*(N12),2) -> 265.5 | K12: =ROUND(F12*(O12),2) -> 0 | L12: =ROUND(F12*(G12),2) -> 0 | N12: 0.9 | Z12: 0
B13: 1/A 1 | C13: 132301101 | D13: Výkop ryhy do šírky 600 mm v horn.4 do 100 m3 | E13: m3 | F13: 23.6 | J13: =ROUND(F13*(N13),2) -> 986.48 | K13: =ROUND(F13*(O13),2) -> 0 | L13: =ROUND(F13*(G13),2) -> 0 | N13: 41.8 | Z13: 0
B14: 1/A 1 | C14: 162501102 | D14: Vodorovné premiestnenie výkopku tr.1-4 do 3000 m | E14: m3 | F14: 10.325 | J14: =ROUND(F14*(N14),2) -> 35.41 | K14: =ROUND(F14*(O14),2) -> 0 | L14: =ROUND(F14*(G14),2) -> 0 | N14: 3.43 | Z14: 0
B15: 1/A 1 | C15: 171201101 | D15: Uloženie sypaniny do násypov s rozprestretím sypaniny vo vrstvách a s hrubým urovnaním nezhutnených | E15: m3 | F15: 10.325 | J15: =ROUND(F15*(N15),2) -> 7.74 | K15: =ROUND(F15*(O15),2) -> 0 | L15: =ROUND(F15*(G15),2) -> 0 | N15: 0.75 | Z15: 0
B16: 231/A 2 | C16: 182001123 | D16: Plošná úprava terénu pri nerovnosti do 150 mm na svahu so sklonom do 1:1 | E16: m2 | F16: 59 | J16: =ROUND(F16*(N16),2) -> 142.19 | K16: =ROUND(F16*(O16),2) -> 0 | L16: =ROUND(F16*(G16),2) -> 0 | N16: 2.41 | Z16: 0
B17: 1/A 1 | C17: 174101001 | D17: Zásyp sypaninou so zhutnením jám, šachiet, rýh, zárezov alebo okolo objektov do 100 m3 | E17: m3 | F17: 13.275 | J17: =ROUND(F17*(N17),2) -> 33.59 | K17: =ROUND(F17*(O17),2) -> 0 | L17: =ROUND(F17*(G17),2) -> 0 | N17: 2.53 | Z17: 0
D18: ZEMNÉ PRÁCE | L18: =ROUND((SUM(L10:L17))/1,2) -> 0 | M18: =ROUND((SUM(M10:M17))/1,2) -> 0 | P18: =ROUND((SUM(P10:P17))/1,2) -> 0 | S18: =ROUND((SUM(S10:S17))/1,2) -> 80.09
D20: SPEVNENÉ PLOCHY
B21: 221/A 1 | C21: 573231111 | D21: Postrek asfaltový spojovací bez posypu kamenivom z cestnej emulzie v množstve od 0,50 do 0,80 kg/m2 | E21: m2 | F21: 442.5 | J21: =ROUND(F21*(N21),2) -> 97.35 | K21: =ROUND(F21*(O21),2) -> 0 | L21: =ROUND(F21*(G21),2) -> 0 | N21: 0.22 | P21: =ROUND(F21*(R21),3) -> 0.314 | R21: 0.00071 | Z21: 0
B22: 221/A 1 | C22: 577131211 | D22: Asfaltový betón stredozrný AC 11 - III obrus., STN EN 13108-1, po zhutnení hr. 40 mm | E22: m2 | F22: 442.5 | J22: =ROUND(F22*(N22),2) -> 2500.13 | K22: =ROUND(F22*(O22),2) -> 0 | L22: =ROUND(F22*(G22),2) -> 0 | N22: 5.65 | P22: =ROUND(F22*(R22),3) -> 45.905 | R22: 0.10374 | Z22: 0
D23: SPEVNENÉ PLOCHY | L23: =ROUND((SUM(L20:L22))/1,2) -> 0 | M23: =ROUND((SUM(M20:M22))/1,2) -> 0 | P23: =ROUND((SUM(P20:P22))/1,2) -> 46.22 | S23: =ROUND((SUM(S20:S22))/1,2) -> 0
D25: POTRUBNÉ ROZVODY
B26: 221/C 1 | C26: 899231111 | D26: Výšková úprava uličného vstupu alebo vpuste do 200 mm zvýšením mreže | E26: kus | F26: 10 | J26: =ROUND(F26*(N26),2) -> 549.7 | K26: =ROUND(F26*(O26),2) -> 0 | L26: =ROUND(F26*(G26),2) -> 0 | N26: 54.97 | P26: =ROUND(F26*(R26),3) -> 4.584 | R26: 0.4583713 | Z26: 0
D27: POTRUBNÉ ROZVODY | L27: =ROUND((SUM(L25:L26))/1,2) -> 0 | M27: =ROUND((SUM(M25:M26))/1,2) -> 0 | P27: =ROUND((SUM(P25:P26))/1,2) -> 4.58 | S27: =ROUND((SUM(S25:S26))/1,2) -> 0
D29: OSTATNÉ PRÁCE
B30: 1/A 1 | C30: 171209003 | D30: Poplatok za skládku z kategórie "N" - nebezpečný odpad | E30: t | F30: 80.0925 | J30: =ROUND(F30*(N30),2) -> 3285.39 | K30: =ROUND(F30*(O30),2) -> 0 | L30: =ROUND(F30*(G30),2) -> 0 | N30: 41.02 | Z30: 0
B31: 221/B 1 | C31: 979087213 | D31: Nakladanie na dopravné prostriedky pre vodorovnú dopravu vybúraných hmôt | E31: t | F31: 91.893 | J31: =ROUND(F31*(N31),2) -> 1437.21 | K31: =ROUND(F31*(O31),2) -> 0 | L31: =ROUND(F31*(G31),2) -> 0 | N31: 15.64 | Z31: 0
B32: 321/B 1 | C32: 979082319 | D32: Príplatok k cenám za každých ďalších aj začatých 1000 m | E32: t | F32: 1102.716 | J32: =ROUND(F32*(N32),2) -> 165.41 | K32: =ROUND(F32*(O32),2) -> 0 | L32: =ROUND(F32*(G32),2) -> 0 | N32: 0.15 | Z32: 0
B33: 321/B 1 | C33: 979082315 | D33: Vodorovná doprava sutiny a vybúraných hmôt bez naloženia ale so zložením do 3000 m | E33: t | F33: 91.893 | J33: =ROUND(F33*(N33),2) -> 272.92 | K33: =ROUND(F33*(O33),2) -> 0 | L33: =ROUND(F33*(G33),2) -> 0 | N33: 2.97 | Z33: 0
B34: 1/A 1 | C34: 171209002 | D34: Poplatok za skladovanie - ostatné | E34: t | F34: 11.8 | J34: =ROUND(F34*(N34),2) -> 134.4 | K34: =ROUND(F34*(O34),2) -> 0 | L34: =ROUND(F34*(G34),2) -> 0 | N34: 11.39 | Z34: 0
B35: 221/A 1 | C35: 916561111 | D35: Osadenie záhon. obrubníka betón., do lôžka z bet. pros. tr. C 10/12,5 s bočnou oporou | E35: m | F35: 295 | J35: =ROUND(F35*(N35),2) -> 1062 | K35: =ROUND(F35*(O35),2) -> 0 | L35: =ROUND(F35*(G35),2) -> 0 | N35: 3.6 | P35: =ROUND(F35*(R35),3) -> 31.158 | R35: 0.10561946 | Z35: 0
B36: P/P 1 | C36: 592029170010 | D36: PREMAC záhonový obrubník 100/20/5 cm farba sivá | E36: KUS | F36: 297.95 | J36: =ROUND(F36*(N36),2) -> 712.1 | K36: =ROUND(F36*(O36),2) -> 0 | M36: =ROUND(F36*(H36),2) -> 0 | N36: 2.39 | Z36: 0
B37: 221/B 1 | C37: 919735112 | D37: Rezanie existujúceho asfaltového krytu alebo podkladu hľbky nad 50 do 100 mm | E37: m | F37: 6 | J37: =ROUND(F37*(N37),2) -> 31.86 | K37: =ROUND(F37*(O37),2) -> 0 | L37: =ROUND(F37*(G37),2) -> 0 | N37: 5.31 | P37: =ROUND(F37*(R37),3) -> 0 | R37: 3.36e-05 | Z37: 0
B38: 221/C 1 | C38: 938909311 | D38: Odstránenie blata, prachu alebo hlineného nánosu, z povrchu podkladu alebo krytu bet. alebo asfalt. | E38: m2 | F38: 442.5 | J38: =ROUND(F38*(N38),2) -> 8.85 | K38: =ROUND(F38*(O38),2) -> 0 | L38: =ROUND(F38*(G38),2) -> 0 | N38: 0.02 | Z38: 0
D39: OSTATNÉ PRÁCE | L39: =ROUND((SUM(L29:L38))/1,2) -> 0 | M39: =ROUND((SUM(M29:M38))/1,2) -> 0 | P39: =ROUND((SUM(P29:P38))/1,2) -> 31.16 | S39: =ROUND((SUM(S29:S38))/1,2) -> 0
D41: PRESUNY HMÔT
B42: 221/C 1 | C42: 998225311 | D42: Presun hmôt pre opravy a údržbu komunikácií a letísk s krytom asfaltovým alebo betónovým | E42: t | F42: 81.960781 | J42: =ROUND(F42*(N42),2) -> 63.93 | K42: =ROUND(F42*(O42),2) -> 0 | L42: =ROUND(F42*(G42),2) -> 0 | N42: 0.78 | Z42: 0
D43: PRESUNY HMÔT | L43: =ROUND((SUM(L41:L42))/1,2) -> 0 | M43: =ROUND((SUM(M41:M42))/1,2) -> 0 | P43: =ROUND((SUM(P41:P42))/1,2) -> 0 | S43: =ROUND((SUM(S41:S42))/1,2) -> 0
D45: Práce HSV | L45: =ROUND((SUM(L9:L44))/2,2) -> 0 | M45: =ROUND((SUM(M9:M44))/2,2) -> 0 | P45: =ROUND((SUM(P9:P44))/2,2) -> 81.96 | S45: =ROUND((SUM(S9:S44))/2,2) -> 80.09
B46: 9 - Oprava chodníka na ul. Viničná | F46: Celkom | K46: =ROUND((SUM(K9:K45)),2) -> 0 | L46: =ROUND((SUM(L9:L45))/3,2) -> 0 | M46: =ROUND((SUM(M9:M45))/3,2) -> 0 | P46: =ROUND((SUM(P9:P45))/3,2) -> 81.96 | S46: =ROUND((SUM(S9:S45))/3,2) -> 80.09 | Z46: =(SUM(Z9:Z45)) -> 0

Sheet Kryci_list 11857
F1: Krycí list rozpočtu | W1: 30.126
B2: Stavba Oprava komunikácií a chodníkov na území mesta Vranov nad Topľou | G2: Miesto:
B3: Objekt 10 - Oprava chodníka na ul. Gen. Svobodu
I4: Ks:
B5: Zákazka: | F5: Spracoval: Ing. Ján Halgaš | I5: Dňa | J5: 26.04.2017
B6: Odberateľ: Mesto Vranov nad Topľou | G6: IČO:
G7: DIČ:
B8: Dodávateľ: | G8: IČO:
G9: DIČ:
B10: Projektant: | G10: IČO:
G11: DIČ:
B15: A | C15: ZRN | D15: Montáž | E15: Materiál | F15: ZRN spolu | G15: B | H15: Ďalšie náklady
B16: 1 | C16: HSV | D16: ='Rekap 11857'!B16 -> 0 | E16: ='Rekap 11857'!C16 -> 0 | F16: ='Rekap 11857'!D16 -> 0 | G16: 6 | H16: Ostatné náklady | J16: 0
B17: 2 | C17: PSV | G17: 7 | H17: Kompletačná činnosť | J17: ='SO 11857'!Z46 -> 0
B18: 3 | C18: MONT | G18: 8 | H18: HZS | J18: 0
B19: 4 | G19: 9
B20: 5 | C20: Spolu | F20: =SUM(F16:F19) -> 0 | G20: 10 | H20: Spolu | J20: =SUM(J16:J19) -> 0
B21: C | C21: VRN | G21: D | H21: VRN
B22: 11 | C22: Zariadenie staveniska | E22: 0% z [H+P+M] | F22: =((F16*U22*0)+(F17*V22*0)+(F18*W22*0))/100 -> 0 | G22: 16 | H22: Mimoriadne sťaž.podmienky | I22: 0% z [H+P+M] | J22: =((F16*X22*0)+(F17*Y22*0)+(F18*Z22*0))/100 -> 0 | U22: 1 | V22: 1 | W22: 1 | X22: 1 | Y22: 1 | Z22: 1
B23: 12 | C23: Územie so sťaž. podmienk. | E23: 0% z [H+P] | F23: =((F16*U23*0)+(F17*V23*0)+(F18*W23*0))/100 -> 0 | G23: 17 | H23: Horské oblasti | I23: 0% z [H+P+M] | J23: =((F16*X23*0)+(F17*Y23*0)+(F18*Z23*0))/100 -> 0 | U23: 1 | V23: 1 | W23: 0 | X23: 1 | Y23: 1 | Z23: 1
B24: 13 | C24: Prevádzkové vplyvy | E24: 0% z [H+P+M] | F24: =((F16*U24*0)+(F17*V24*0)+(F18*W24*0))/100 -> 0 | G24: 18 | H24: Mimostavenisková doprava | I24: 0% z [H+P] | J24: =((F16*X24*0)+(F17*Y24*0)+(F18*Z24*0))/100 -> 0 | U24: 1 | V24: 1 | W24: 1 | X24: 1 | Y24: 1 | Z24: 0
B25: 14 | G25: 19
B26: 15 | G26: 20 | H26: Spolu | J26: =SUM(J22:J25)+SUM(F22:F25) -> 0
C27: Projektant,rozpočtár | G27: E | H27: Celkové náklady
G28: 21 | H28: Súčet riadkov 5,10,15,20 | J28: =F20+J20+F26+J26 -> 0
G29: 22 | H29: DPH 20% z | I29: =J28-SUM('SO 11857'!K9:'SO 11857'!K45) -> 0 | J29: =ROUND(((ROUND(I29,2)*20)*1/100),2) -> 0
G30: 23 | H30: DPH 0% z | I30: =SUM('SO 11857'!K9:'SO 11857'!K45) -> 0 | J30: =ROUND(((ROUND(I30,2)*0)/100),2) -> 0
G31: 24 | H31: Spolu | J31: =SUM(J28:J30) -> 0
G32: F
D33: Odberateľ | G33: 26 | H33: Dodávateľ

Sheet Rekap 11857
A1: Odberateľ: Mesto Vranov nad Topľou | D1: Spracoval: Ing. Ján Halgaš | W1: 30.126
A2: Projektant: | D2: Ks:
A3: Dodávateľ: | D3: Dátum: 26.04.2017
A4: Stavba Oprava komunikácií a chodníkov na území mesta Vranov nad Topľou
A5: Objekt 10 - Oprava chodníka na ul. Gen. Svobodu
A8: Prehľad rozpočtových nákladov
A9: Oddiel | B9: Montáž | C9: Materiál | D9: Spolu | E9: Hmotnosť (T) | F9: Suť (T)
A10: Práce HSV
A11: ZEMNÉ PRÁCE | B11: ='SO 11857'!L18 -> 0 | C11: ='SO 11857'!M18 -> 0 | D11: ='SO 11857'!I18 -> 0 | E11: ='SO 11857'!P18 -> 0 | F11: ='SO 11857'!S18 -> 103.17
A12: SPEVNENÉ PLOCHY | B12: ='SO 11857'!L23 -> 0 | C12: ='SO 11857'!M23 -> 0 | D12: ='SO 11857'!I23 -> 0 | E12: ='SO 11857'!P23 -> 59.54 | F12: ='SO 11857'!S23 -> 0
A13: POTRUBNÉ ROZVODY | B13: ='SO 11857'!L27 -> 0 | C13: ='SO 11857'!M27 -> 0 | D13: ='SO 11857'!I27 -> 0 | E13: ='SO 11857'!P27 -> 2.29 | F13: ='SO 11857'!S27 -> 0
A14: OSTATNÉ PRÁCE | B14: ='SO 11857'!L39 -> 0 | C14: ='SO 11857'!M39 -> 0 | D14: ='SO 11857'!I39 -> 0 | E14: ='SO 11857'!P39 -> 40.14 | F14: ='SO 11857'!S39 -> 0
A15: PRESUNY HMÔT | B15: ='SO 11857'!L43 -> 0 | C15: ='SO 11857'!M43 -> 0 | D15: ='SO 11857'!I43 -> 0 | E15: ='SO 11857'!P43 -> 0 | F15: ='SO 11857'!S43 -> 0
A16: Práce HSV | B16: ='SO 11857'!L45 -> 0 | C16: ='SO 11857'!M45 -> 0 | D16: ='SO 11857'!I45 -> 0 | E16: ='SO 11857'!P45 -> 101.97 | F16: ='SO 11857'!S45 -> 103.17
A18: Celkom | B18: ='SO 11857'!L46 -> 0 | C18: ='SO 11857'!M46 -> 0 | D18: ='SO 11857'!I46 -> 0 | E18: ='SO 11857'!P46 -> 101.97 | F18: ='SO 11857'!S46 -> 103.17

Sheet SO 11857
B1: Odberateľ: Mesto Vranov nad Topľou | E1: Spracoval: Ing. Ján Halgaš | W1: 30.126
B2: Projektant: | E2: Ks:
B3: Dodávateľ: | E3: Dátum: 26.04.2017
B4: Stavba Oprava komunikácií a chodníkov na území mesta Vranov nad Topľou
B5: Objekt 10 - Oprava chodníka na ul. Gen. Svobodu
B7: Prehľad rozpočtových nákladov
A8: Por.č. | B8: Cenník | C8: Kód položky | D8: Názov | E8: Mj | F8: Množstvo | G8: Cena/Mj | H8: Materiál | I8: Cena celkom | P8: Hmotnosť | S8: Suť
D9: Práce HSV
D10: ZEMNÉ PRÁCE
B11: 221/B 1 | C11: 113107242 | D11: Odstránenie podkladu alebo krytu asfaltového nad 200 m2,hr.nad 50 do 100 mm 0,181 t | E11: m2 | F11: 570 | J11: =ROUND(F11*(N11),2) -> 558.6 | K11: =ROUND(F11*(O11),2) -> 0 | L11: =ROUND(F11*(G11),2) -> 0 | N11: 0.98 | S11: =ROUND(F11*(X11),3) -> 103.17 | X11: 0.181 | Z11: 0
B12: 221/B 1 | C12: 113204111 | D12: Vytrhanie obrúb, s vybúraním lôžka, záhonových 0,040 t | E12: m | F12: 380 | J12: =ROUND(F12*(N12),2) -> 342 | K12: =ROUND(F12*(O12),2) -> 0 | L12: =ROUND(F12*(G12),2) -> 0 | N12: 0.9 | Z12: 0
B13: 1/A 1 | C13: 132301101 | D13: Výkop ryhy do šírky 600 mm v horn.4 do 100 m3 | E13: m3 | F13: 30.4 | J13: =ROUND(F13*(N13),2) -> 1270.72 | K13: =ROUND(F13*(O13),2) -> 0 | L13: =ROUND(F13*(G13),2) -> 0 | N13: 41.8 | Z13: 0
B14: 1/A 1 | C14: 162501102 | D14: Vodorovné premiestnenie výkopku tr.1-4 do 3000 m | E14: m3 | F14: 13.3 | J14: =ROUND(F14*(N14),2) -> 45.62 | K14: =ROUND(F14*(O14),2) -> 0 | L14: =ROUND(F14*(G14),2) -> 0 | N14: 3.43 | Z14: 0
B15: 1/A 1 | C15: 171201101 | D15: Uloženie sypaniny do násypov s rozprestretím sypaniny vo vrstvách a s hrubým urovnaním nezhutnených | E15: m3 | F15: 13.3 | J15: =ROUND(F15*(N15),2) -> 9.98 | K15: =ROUND(F15*(O15),2) -> 0 | L15: =ROUND(F15*(G15),2) -> 0 | N15: 0.75 | Z15: 0
B16: 231/A 2 | C16: 182001123 | D16: Plošná úprava terénu pri nerovnosti do 150 mm na svahu so sklonom do 1:1 | E16: m2 | F16: 76 | J16: =ROUND(F16*(N16),2) -> 183.16 | K16: =ROUND(F16*(O16),2) -> 0 | L16: =ROUND(F16*(G16),2) -> 0 | N16: 2.41 | Z16: 0
B17: 1/A 1 | C17: 174101001 | D17: Zásyp sypaninou so zhutnením jám, šachiet, rýh, zárezov alebo okolo objektov do 100 m3 | E17: m3 | F17: 17.1 | J17: =ROUND(F17*(N17),2) -> 43.26 | K17: =ROUND(F17*(O17),2) -> 0 | L17: =ROUND(F17*(G17),2) -> 0 | N17: 2.53 | Z17: 0
D18: ZEMNÉ PRÁCE | L18: =ROUND((SUM(L10:L17))/1,2) -> 0 | M18: =ROUND((SUM(M10:M17))/1,2) -> 0 | P18: =ROUND((SUM(P10:P17))/1,2) -> 0 | S18: =ROUND((SUM(S10:S17))/1,2) -> 103.17
D20: SPEVNENÉ PLOCHY
B21: 221/A 1 | C21: 573231111 | D21: Postrek asfaltový spojovací bez posypu kamenivom z cestnej emulzie v množstve od 0,50 do 0,80 kg/m2 | E21: m2 | F21: 570 | J21: =ROUND(F21*(N21),2) -> 125.4 | K21: =ROUND(F21*(O21),2) -> 0 | L21: =ROUND(F21*(G21),2) -> 0 | N21: 0.22 | P21: =ROUND(F21*(R21),3) -> 0.405 | R21: 0.00071 | Z21: 0
B22: 221/A 1 | C22: 577131211 | D22: Asfaltový betón stredozrný AC 11 - III obrus., STN EN 13108-1, po zhutnení hr. 40 mm | E22: m2 | F22: 570 | J22: =ROUND(F22*(N22),2) -> 3220.5 | K22: =ROUND(F22*(O22),2) -> 0 | L22: =ROUND(F22*(G22),2) -> 0 | N22: 5.65 | P22: =ROUND(F22*(R22),3) -> 59.132 | R22: 0.10374 | Z22: 0
D23: SPEVNENÉ PLOCHY | L23: =ROUND((SUM(L20:L22))/1,2) -> 0 | M23: =ROUND((SUM(M20:M22))/1,2) -> 0 | P23: =ROUND((SUM(P20:P22))/1,2) -> 59.54 | S23: =ROUND((SUM(S20:S22))/1,2) -> 0
D25: POTRUBNÉ ROZVODY
B26: 221/C 1 | C26: 899231111 | D26: Výšková úprava uličného vstupu alebo vpuste do 200 mm zvýšením mreže | E26: kus | F26: 5 | J26: =ROUND(F26*(N26),2) -> 274.85 | K26: =ROUND(F26*(O26),2) -> 0 | L26: =ROUND(F26*(G26),2) -> 0 | N26: 54.97 | P26: =ROUND(F26*(R26),3) -> 2.292 | R26: 0.4583713 | Z26: 0
D27: POTRUBNÉ ROZVODY | L27: =ROUND((SUM(L25:L26))/1,2) -> 0 | M27: =ROUND((SUM(M25:M26))/1,2) -> 0 | P27: =ROUND((SUM(P25:P26))/1,2) -> 2.29 | S27: =ROUND((SUM(S25:S26))/1,2) -> 0
D29: OSTATNÉ PRÁCE
B30: 1/A 1 | C30: 171209003 | D30: Poplatok za skládku z kategórie "N" - nebezpečný odpad | E30: t | F30: 103.17 | J30: =ROUND(F30*(N30),2) -> 4232.03 | K30: =ROUND(F30*(O30),2) -> 0 | L30: =ROUND(F30*(G30),2) -> 0 | N30: 41.02 | Z30: 0
B31: 221/B 1 | C31: 979087213 | D31: Nakladanie na dopravné prostriedky pre vodorovnú dopravu vybúraných hmôt | E31: t | F31: 118.37 | J31: =ROUND(F31*(N31),2) -> 1851.31 | K31: =ROUND(F31*(O31),2) -> 0 | L31: =ROUND(F31*(G31),2) -> 0 | N31: 15.64 | Z31: 0
B32: 321/B 1 | C32: 979082319 | D32: Príplatok k cenám za každých ďalších aj začatých 1000 m | E32: t | F32: 1420.44 | J32: =ROUND(F32*(N32),2) -> 213.07 | K32: =ROUND(F32*(O32),2) -> 0 | L32: =ROUND(F32*(G32),2) -> 0 | N32: 0.15 | Z32: 0
B33: 321/B 1 | C33: 979082315 | D33: Vodorovná doprava sutiny a vybúraných hmôt bez naloženia ale so zložením do 3000 m | E33: t | F33: 118.37 | J33: =ROUND(F33*(N33),2) -> 351.56 | K33: =ROUND(F33*(O33),2) -> 0 | L33: =ROUND(F33*(G33),2) -> 0 | N33: 2.97 | Z33: 0
B34: 1/A 1 | C34: 171209002 | D34: Poplatok za skladovanie - ostatné | E34: t | F34: 15.2 | J34: =ROUND(F34*(N34),2) -> 173.13 | K34: =ROUND(F34*(O34),2) -> 0 | L34: =ROUND(F34*(G34),2) -> 0 | N34: 11.39 | Z34: 0
B35: 221/A 1 | C35: 916561111 | D35: Osadenie záhon. obrubníka betón., do lôžka z bet. pros. tr. C 10/12,5 s bočnou oporou | E35: m | F35: 380 | J35: =ROUND(F35*(N35),2) -> 1368 | K35: =ROUND(F35*(O35),2) -> 0 | L35: =ROUND(F35*(G35),2) -> 0 | N35: 3.6 | P35: =ROUND(F35*(R35),3) -> 40.135 | R35: 0.10561946 | Z35: 0
B36: P/P 1 | C36: 592029170010 | D36: PREMAC záhonový obrubník 100/20/5 cm farba sivá | E36: KUS | F36: 383.8 | J36: =ROUND(F36*(N36),2) -> 917.28 | K36: =ROUND(F36*(O36),2) -> 0 | M36: =ROUND(F36*(H36),2) -> 0 | N36: 2.39 | Z36: 0
B37: 221/B 1 | C37: 919735112 | D37: Rezanie existujúceho asfaltového krytu alebo podkladu hľbky nad 50 do 100 mm | E37: m | F37: 3 | J37: =ROUND(F37*(N37),2) -> 15.93 | K37: =ROUND(F37*(O37),2) -> 0 | L37: =ROUND(F37*(G37),2) -> 0 | N37: 5.31 | P37: =ROUND(F37*(R37),3) -> 0 | R37: 3.36e-05 | Z37: 0
B38: 221/C 1 | C38: 938909311 | D38: Odstránenie blata, prachu alebo hlineného nánosu, z povrchu podkladu alebo krytu bet. alebo asfalt. | E38: m2 | F38: 570 | J38: =ROUND(F38*(N38),2) -> 11.4 | K38: =ROUND(F38*(O38),2) -> 0 | L38: =ROUND(F38*(G38),2) -> 0 | N38: 0.02 | Z38: 0
D39: OSTATNÉ PRÁCE | L39: =ROUND((SUM(L29:L38))/1,2) -> 0 | M39: =ROUND((SUM(M29:M38))/1,2) -> 0 | P39: =ROUND((SUM(P29:P38))/1,2) -> 40.14 | S39: =ROUND((SUM(S29:S38))/1,2) -> 0
D41: PRESUNY HMÔT
B42: 221/C 1 | C42: 998225311 | D42: Presun hmôt pre opravy a údržbu komunikácií a letísk s krytom asfaltovým alebo betónovým | E42: t | F42: 101.96385 | J42: =ROUND(F42*(N42),2) -> 79.53 | K42: =ROUND(F42*(O42),2) -> 0 | L42: =ROUND(F42*(G42),2) -> 0 | N42: 0.78 | Z42: 0
D43: PRESUNY HMÔT | L43: =ROUND((SUM(L41:L42))/1,2) -> 0 | M43: =ROUND((SUM(M41:M42))/1,2) -> 0 | P43: =ROUND((SUM(P41:P42))/1,2) -> 0 | S43: =ROUND((SUM(S41:S42))/1,2) -> 0
D45: Práce HSV | L45: =ROUND((SUM(L9:L44))/2,2) -> 0 | M45: =ROUND((SUM(M9:M44))/2,2) -> 0 | P45: =ROUND((SUM(P9:P44))/2,2) -> 101.97 | S45: =ROUND((SUM(S9:S44))/2,2) -> 103.17
B46: 10 - Oprava chodníka na ul. Gen. Svobodu | F46: Celkom | K46: =ROUND((SUM(K9:K45)),2) -> 0 | L46: =ROUND((SUM(L9:L45))/3,2) -> 0 | M46: =ROUND((SUM(M9:M45))/3,2) -> 0 | P46: =ROUND((SUM(P9:P45))/3,2) -> 101.97 | S46: =ROUND((SUM(S9:S45))/3,2) -> 103.17 | Z46: =(SUM(Z9:Z45)) -> 0

Sheet Kryci_list 11859
F1: Krycí list rozpočtu | W1: 30.126
B2: Stavba Oprava komunikácií a chodníkov na území mesta Vranov nad Topľou | G2: Miesto:
B3: Objekt 11 - Oprava komunikácie na ul. Slnečná
I4: Ks:
B5: Zákazka: | F5: Spracoval: Ing. Ján Halgaš | I5: Dňa | J5: 26.04.2017
B6: Odberateľ: Mesto Vranov nad Topľou | G6: IČO:
G7: DIČ:
B8: Dodávateľ: | G8: IČO:
G9: DIČ:
B10: Projektant: | G10: IČO:
G11: DIČ:
B15: A | C15: ZRN | D15: Montáž | E15: Materiál | F15: ZRN spolu | G15: B | H15: Ďalšie náklady
B16: 1 | C16: HSV | D16: ='Rekap 11859'!B16 -> 0 | E16: ='Rekap 11859'!C16 -> 0 | F16: ='Rekap 11859'!D16 -> 0 | G16: 6 | H16: Ostatné náklady | J16: 0
B17: 2 | C17: PSV | G17: 7 | H17: Kompletačná činnosť | J17: ='SO 11859'!Z46 -> 0
B18: 3 | C18: MONT | G18: 8 | H18: HZS | J18: 0
B19: 4 | G19: 9
B20: 5 | C20: Spolu | F20: =SUM(F16:F19) -> 0 | G20: 10 | H20: Spolu | J20: =SUM(J16:J19) -> 0
B21: C | C21: VRN | G21: D | H21: VRN
B22: 11 | C22: Zariadenie staveniska | E22: 0% z [H+P+M] | F22: =((F16*U22*0)+(F17*V22*0)+(F18*W22*0))/100 -> 0 | G22: 16 | H22: Mimoriadne sťaž.podmienky | I22: 0% z [H+P+M] | J22: =((F16*X22*0)+(F17*Y22*0)+(F18*Z22*0))/100 -> 0 | U22: 1 | V22: 1 | W22: 1 | X22: 1 | Y22: 1 | Z22: 1
B23: 12 | C23: Územie so sťaž. podmienk. | E23: 0% z [H+P] | F23: =((F16*U23*0)+(F17*V23*0)+(F18*W23*0))/100 -> 0 | G23: 17 | H23: Horské oblasti | I23: 0% z [H+P+M] | J23: =((F16*X23*0)+(F17*Y23*0)+(F18*Z23*0))/100 -> 0 | U23: 1 | V23: 1 | W23: 0 | X23: 1 | Y23: 1 | Z23: 1
B24: 13 | C24: Prevádzkové vplyvy | E24: 0% z [H+P+M] | F24: =((F16*U24*0)+(F17*V24*0)+(F18*W24*0))/100 -> 0 | G24: 18 | H24: Mimostavenisková doprava | I24: 0% z [H+P] | J24: =((F16*X24*0)+(F17*Y24*0)+(F18*Z24*0))/100 -> 0 | U24: 1 | V24: 1 | W24: 1 | X24: 1 | Y24: 1 | Z24: 0
B25: 14 | G25: 19
B26: 15 | G26: 20 | H26: Spolu | J26: =SUM(J22:J25)+SUM(F22:F25) -> 0
C27: Projektant,rozpočtár | G27: E | H27: Celkové náklady
G28: 21 | H28: Súčet riadkov 5,10,15,20 | J28: =F20+J20+F26+J26 -> 0
G29: 22 | H29: DPH 20% z | I29: =J28-SUM('SO 11859'!K9:'SO 11859'!K45) -> 0 | J29: =ROUND(((ROUND(I29,2)*20)*1/100),2) -> 0
G30: 23 | H30: DPH 0% z | I30: =SUM('SO 11859'!K9:'SO 11859'!K45) -> 0 | J30: =ROUND(((ROUND(I30,2)*0)/100),2) -> 0
G31: 24 | H31: Spolu | J31: =SUM(J28:J30) -> 0
G32: F
D33: Odberateľ | G33: 26 | H33: Dodávateľ

Sheet Rekap 11859
A1: Odberateľ: Mesto Vranov nad Topľou | D1: Spracoval: Ing. Ján Halgaš | W1: 30.126
A2: Projektant: | D2: Ks:
A3: Dodávateľ: | D3: Dátum: 26.04.2017
A4: Stavba Oprava komunikácií a chodníkov na území mesta Vranov nad Topľou
A5: Objekt 11 - Oprava komunikácie na ul. Slnečná
A8: Prehľad rozpočtových nákladov
A9: Oddiel | B9: Montáž | C9: Materiál | D9: Spolu | E9: Hmotnosť (T) | F9: Suť (T)
A10: Práce HSV
A11: ZEMNÉ PRÁCE | B11: ='SO 11859'!L18 -> 0 | C11: ='SO 11859'!M18 -> 0 | D11: ='SO 11859'!I18 -> 0 | E11: ='SO 11859'!P18 -> 0.45 | F11: ='SO 11859'!S18 -> 267.46
A12: SPEVNENÉ PLOCHY | B12: ='SO 11859'!L23 -> 0 | C12: ='SO 11859'!M23 -> 0 | D12: ='SO 11859'!I23 -> 0 | E12: ='SO 11859'!P23 -> 274.56 | F12: ='SO 11859'!S23 -> 0
A13: POTRUBNÉ ROZVODY | B13: ='SO 11859'!L27 -> 0 | C13: ='SO 11859'!M27 -> 0 | D13: ='SO 11859'!I27 -> 0 | E13: ='SO 11859'!P27 -> 1.72 | F13: ='SO 11859'!S27 -> 0
A14: OSTATNÉ PRÁCE | B14: ='SO 11859'!L39 -> 0 | C14: ='SO 11859'!M39 -> 0 | D14: ='SO 11859'!I39 -> 0 | E14: ='SO 11859'!P39 -> 69.62 | F14: ='SO 11859'!S39 -> 0
A15: PRESUNY HMÔT | B15: ='SO 11859'!L43 -> 0 | C15: ='SO 11859'!M43 -> 0 | D15: ='SO 11859'!I43 -> 0 | E15: ='SO 11859'!P43 -> 0 | F15: ='SO 11859'!S43 -> 0
A16: Práce HSV | B16: ='SO 11859'!L45 -> 0 | C16: ='SO 11859'!M45 -> 0 | D16: ='SO 11859'!I45 -> 0 | E16: ='SO 11859'!P45 -> 346.35 | F16: ='SO 11859'!S45 -> 267.46
A18: Celkom | B18: ='SO 11859'!L46 -> 0 | C18: ='SO 11859'!M46 -> 0 | D18: ='SO 11859'!I46 -> 0 | E18: ='SO 11859'!P46 -> 346.35 | F18: ='SO 11859'!S46 -> 267.46

Sheet SO 11859
B1: Odberateľ: Mesto Vranov nad Topľou | E1: Spracoval: Ing. Ján Halgaš | W1: 30.126
B2: Projektant: | E2: Ks:
B3: Dodávateľ: | E3: Dátum: 26.04.2017
B4: Stavba Oprava komunikácií a chodníkov na území mesta Vranov nad Topľou
B5: Objekt 11 - Oprava komunikácie na ul. Slnečná
B7: Prehľad rozpočtových nákladov
A8: Por.č. | B8: Cenník | C8: Kód položky | D8: Názov | E8: Mj | F8: Množstvo | G8: Cena/Mj | H8: Materiál | I8: Cena celkom | P8: Hmotnosť | S8: Suť
D9: Práce HSV
D10: ZEMNÉ PRÁCE
B11: 221/B 1 | C11: 113202111 | D11: Vytrhanie obrúb, s vybúraním lôžka, z krajníkov alebo obrubníkov,145 t | E11: m | F11: 384 | J11: =ROUND(F11*(N11),2) -> 579.84 | K11: =ROUND(F11*(O11),2) -> 0 | L11: =ROUND(F11*(G11),2) -> 0 | N11: 1.51 | Z11: 0
B12: 1/A 1 | C12: 132301101 | D12: Výkop ryhy do šírky 600 mm v horn.4 do 100 m3 | E12: m3 | F12: 30.4 | J12: =ROUND(F12*(N12),2) -> 1270.72 | K12: =ROUND(F12*(O12),2) -> 0 | L12: =ROUND(F12*(G12),2) -> 0 | N12: 41.8 | Z12: 0
B13: 1/A 1 | C13: 162501102 | D13: Vodorovné premiestnenie výkopku tr.1-4 do 3000 m | E13: m3 | F13: 13.3 | J13: =ROUND(F13*(N13),2) -> 45.62 | K13: =ROUND(F13*(O13),2) -> 0 | L13: =ROUND(F13*(G13),2) -> 0 | N13: 3.43 | Z13: 0
B14: 1/A 1 | C14: 171201101 | D14: Uloženie sypaniny do násypov s rozprestretím sypaniny vo vrstvách a s hrubým urovnaním nezhutnených | E14: m3 | F14: 13.3 | J14: =ROUND(F14*(N14),2) -> 9.98 | K14: =ROUND(F14*(O14),2) -> 0 | L14: =ROUND(F14*(G14),2) -> 0 | N14: 0.75 | Z14: 0
B15: 231/A 2 | C15: 182001123 | D15: Plošná úprava terénu pri nerovnosti do 150 mm na svahu so sklonom do 1:1 | E15: m2 | F15: 76 | J15: =ROUND(F15*(N15),2) -> 183.16 | K15: =ROUND(F15*(O15),2) -> 0 | L15: =ROUND(F15*(G15),2) -> 0 | N15: 2.41 | Z15: 0
B16: 1/A 1 | C16: 174101001 | D16: Zásyp sypaninou so zhutnením jám, šachiet, rýh, zárezov alebo okolo objektov do 100 m3 | E16: m3 | F16: 17.1 | J16: =ROUND(F16*(N16),2) -> 43.26 | K16: =ROUND(F16*(O16),2) -> 0 | L16: =ROUND(F16*(G16),2) -> 0 | N16: 2.53 | Z16: 0
B17: 221/B 1 | C17: 113151214 | D17: Odstránenie asfaltového podkladu alebo krytu frézovaním, v ploche nad 500 m2,pruh nad 750 mm,hr.50 mm, -0,12700t | E17: m2 | F17: 2106 | J17: =ROUND(F17*(N17),2) -> 5981.04 | K17: =ROUND(F17*(O17),2) -> 0 | L17: =ROUND(F17*(G17),2) -> 0 | N17: 2.84 | P17: =ROUND(F17*(R17),3) -> 0.449 | R17: 0.00021314 | S17: =ROUND(F17*(X17),3) -> 267.462 | X17: 0.127 | Z17: 0
D18: ZEMNÉ PRÁCE | L18: =ROUND((SUM(L10:L17))/1,2) -> 0 | M18: =ROUND((SUM(M10:M17))/1,2) -> 0 | P18: =ROUND((SUM(P10:P17))/1,2) -> 0.45 | S18: =ROUND((SUM(S10:S17))/1,2) -> 267.46
D20: SPEVNENÉ PLOCHY
B21: 221/A 1 | C21: 573231111 | D21: Postrek asfaltový spojovací bez posypu kamenivom z cestnej emulzie v množstve od 0,50 do 0,80 kg/m2 | E21: m2 | F21: 2106 | J21: =ROUND(F21*(N21),2) -> 463.32 | K21: =ROUND(F21*(O21),2) -> 0 | L21: =ROUND(F21*(G21),2) -> 0 | N21: 0.22 | P21: =ROUND(F21*(R21),3) -> 1.495 | R21: 0.00071 | Z21: 0
B22: 221/A 1 | C22: 577142212 | D22: Asfaltový betón stredozrný AC 11 - III obrus., STN EN 13108-1, po zhutnení hr. 50 mm | E22: m2 | F22: 2106 | J22: =ROUND(F22*(N22),2) -> 15415.92 | K22: =ROUND(F22*(O22),2) -> 0 | L22: =ROUND(F22*(G22),2) -> 0 | N22: 7.32 | P22: =ROUND(F22*(R22),3) -> 273.064 | R22: 0.12966 | Z22: 0
D23: SPEVNENÉ PLOCHY | L23: =ROUND((SUM(L20:L22))/1,2) -> 0 | M23: =ROUND((SUM(M20:M22))/1,2) -> 0 | P23: =ROUND((SUM(P20:P22))/1,2) -> 274.56 | S23: =ROUND((SUM(S20:S22))/1,2) -> 0
D25: POTRUBNÉ ROZVODY
B26: 221/C 1 | C26: 899331111 | D26: Výšková úprava uličného vstupu alebo vpuste do 200 mm zvýšením poklopu | E26: kus | F26: 4 | J26: =ROUND(F26*(N26),2) -> 208.52 | K26: =ROUND(F26*(O26),2) -> 0 | L26: =ROUND(F26*(G26),2) -> 0 | N26: 52.13 | P26: =ROUND(F26*(R26),3) -> 1.721 | R26: 0.43017606 | Z26: 0
D27: POTRUBNÉ ROZVODY | L27: =ROUND((SUM(L25:L26))/1,2) -> 0 | M27: =ROUND((SUM(M25:M26))/1,2) -> 0 | P27: =ROUND((SUM(P25:P26))/1,2) -> 1.72 | S27: =ROUND((SUM(S25:S26))/1,2) -> 0
D29: OSTATNÉ PRÁCE
B30: 1/A 1 | C30: 171209003 | D30: Poplatok za skládku z kategórie "N" - nebezpečný odpad | E30: t | F30: 267.462 | J30: =ROUND(F30*(N30),2) -> 10971.29 | K30: =ROUND(F30*(O30),2) -> 0 | L30: =ROUND(F30*(G30),2) -> 0 | N30: 41.02 | Z30: 0
B31: 221/B 1 | C31: 979087213 | D31: Nakladanie na dopravné prostriedky pre vodorovnú dopravu vybúraných hmôt | E31: t | F31: 323.142 | J31: =ROUND(F31*(N31),2) -> 5053.94 | K31: =ROUND(F31*(O31),2) -> 0 | L31: =ROUND(F31*(G31),2) -> 0 | N31: 15.64 | Z31: 0
B32: 321/B 1 | C32: 979082319 | D32: Príplatok k cenám za každých ďalších aj začatých 1000 m | E32: t | F32: 3877.704 | J32: =ROUND(F32*(N32),2) -> 581.66 | K32: =ROUND(F32*(O32),2) -> 0 | L32: =ROUND(F32*(G32),2) -> 0 | N32: 0.15 | Z32: 0
B33: 321/B 1 | C33: 979082315 | D33: Vodorovná doprava sutiny a vybúraných hmôt bez naloženia ale so zložením do 3000 m | E33: t | F33: 323.142 | J33: =ROUND(F33*(N33),2) -> 959.73 | K33: =ROUND(F33*(O33),2) -> 0 | L33: =ROUND(F33*(G33),2) -> 0 | N33: 2.97 | Z33: 0
B34: 1/A 1 | C34: 171209002 | D34: Poplatok za skladovanie - ostatné | E34: t | F34: 55.68 | J34: =ROUND(F34*(N34),2) -> 634.2 | K34: =ROUND(F34*(O34),2) -> 0 | L34: =ROUND(F34*(G34),2) -> 0 | N34: 11.39 | Z34: 0
B35: 221/A 1 | C35: 916161111 | D35: Osadenie cestnej obruby z veľkých kociek s bočnou oporou z bet. tr. C 12/15 do lôžka z betónu | E35: m | F35: 384 | J35: =ROUND(F35*(N35),2) -> 1547.52 | K35: =ROUND(F35*(O35),2) -> 0 | L35: =ROUND(F35*(G35),2) -> 0 | N35: 4.03 | P35: =ROUND(F35*(R35),3) -> 44.406 | R35: 0.11564064 | Z35: 0
B36: S/S60 | C36: 5838021100 | D36: Obrubník cestný dl. 1,0 m | E36: m | F36: 387.84 | J36: =ROUND(F36*(N36),2) -> 2156.39 | K36: =ROUND(F36*(O36),2) -> 0 | M36: =ROUND(F36*(H36),2) -> 0 | N36: 5.56 | P36: =ROUND(F36*(R36),3) -> 25.21 | R36: 0.065 | Z36: 0
B37: 221/B 1 | C37: 919735112 | D37: Rezanie existujúceho asfaltového krytu alebo podkladu hľbky nad 50 do 100 mm | E37: m | F37: 11 | J37: =ROUND(F37*(N37),2) -> 58.41 | K37: =ROUND(F37*(O37),2) -> 0 | L37: =ROUND(F37*(G37),2) -> 0 | N37: 5.31 | P37: =ROUND(F37*(R37),3) -> 0 | R37: 3.36e-05 | Z37: 0
B38: 221/C 1 | C38: 938909311 | D38: Odstránenie blata, prachu alebo hlineného nánosu, z povrchu podkladu alebo krytu bet. alebo asfalt. | E38: m2 | F38: 2106 | J38: =ROUND(F38*(N38),2) -> 42.12 | K38: =ROUND(F38*(O38),2) -> 0 | L38: =ROUND(F38*(G38),2) -> 0 | N38: 0.02 | Z38: 0
D39: OSTATNÉ PRÁCE | L39: =ROUND((SUM(L29:L38))/1,2) -> 0 | M39: =ROUND((SUM(M29:M38))/1,2) -> 0 | P39: =ROUND((SUM(P29:P38))/1,2) -> 69.62 | S39: =ROUND((SUM(S29:S38))/1,2) -> 0
D41: PRESUNY HMÔT
B42: 221/C 1 | C42: 998225311 | D42: Presun hmôt pre opravy a údržbu komunikácií a letísk s krytom asfaltovým alebo betónovým | E42: t | F42: 346.34477 | J42: =ROUND(F42*(N42),2) -> 270.15 | K42: =ROUND(F42*(O42),2) -> 0 | L42: =ROUND(F42*(G42),2) -> 0 | N42: 0.78 | Z42: 0
D43: PRESUNY HMÔT | L43: =ROUND((SUM(L41:L42))/1,2) -> 0 | M43: =ROUND((SUM(M41:M42))/1,2) -> 0 | P43: =ROUND((SUM(P41:P42))/1,2) -> 0 | S43: =ROUND((SUM(S41:S42))/1,2) -> 0
D45: Práce HSV | L45: =ROUND((SUM(L9:L44))/2,2) -> 0 | M45: =ROUND((SUM(M9:M44))/2,2) -> 0 | P45: =ROUND((SUM(P9:P44))/2,2) -> 346.35 | S45: =ROUND((SUM(S9:S44))/2,2) -> 267.46
B46: 11 - Oprava komunikácie na ul. Slnečná | F46: Celkom | K46: =ROUND((SUM(K9:K45)),2) -> 0 | L46: =ROUND((SUM(L9:L45))/3,2) -> 0 | M46: =ROUND((SUM(M9:M45))/3,2) -> 0 | P46: =ROUND((SUM(P9:P45))/3,2) -> 346.35 | S46: =ROUND((SUM(S9:S45))/3,2) -> 267.46 | Z46: =(SUM(Z9:Z45)) -> 0

Sheet Kryci_list 11892
F1: Krycí list rozpočtu | W1: 30.126
B2: Stavba Oprava komunikácií a chodníkov na území mesta Vranov nad Topľou | G2: Miesto:
B3: Objekt 12 - Oprava chodníka pri SOU, ul. Bernolákova
I4: Ks:
B5: Zákazka: | F5: Spracoval: Ing. Ján Halgaš | I5: Dňa | J5: 26.04.2017
B6: Odberateľ: Mesto Vranov nad Topľou | G6: IČO:
G7: DIČ:
B8: Dodávateľ: | G8: IČO:
G9: DIČ:
B10: Projektant: | G10: IČO:
G11: DIČ:
B15: A | C15: ZRN | D15: Montáž | E15: Materiál | F15: ZRN spolu | G15: B | H15: Ďalšie náklady
B16: 1 | C16: HSV | D16: ='Rekap 11892'!B16 -> 0 | E16: ='Rekap 11892'!C16 -> 0 | F16: ='Rekap 11892'!D16 -> 0 | G16: 6 | H16: Ostatné náklady | J16: 0
B17: 2 | C17: PSV | G17: 7 | H17: Kompletačná činnosť | J17: ='SO 11892'!Z46 -> 0
B18: 3 | C18: MONT | G18: 8 | H18: HZS | J18: 0
B19: 4 | G19: 9
B20: 5 | C20: Spolu | F20: =SUM(F16:F19) -> 0 | G20: 10 | H20: Spolu | J20: =SUM(J16:J19) -> 0
B21: C | C21: VRN | G21: D | H21: VRN
B22: 11 | C22: Zariadenie staveniska | E22: 0% z [H+P+M] | F22: =((F16*U22*0)+(F17*V22*0)+(F18*W22*0))/100 -> 0 | G22: 16 | H22: Mimoriadne sťaž.podmienky | I22: 0% z [H+P+M] | J22: =((F16*X22*0)+(F17*Y22*0)+(F18*Z22*0))/100 -> 0 | U22: 1 | V22: 1 | W22: 1 | X22: 1 | Y22: 1 | Z22: 1
B23: 12 | C23: Územie so sťaž. podmienk. | E23: 0% z [H+P] | F23: =((F16*U23*0)+(F17*V23*0)+(F18*W23*0))/100 -> 0 | G23: 17 | H23: Horské oblasti | I23: 0% z [H+P+M] | J23: =((F16*X23*0)+(F17*Y23*0)+(F18*Z23*0))/100 -> 0 | U23: 1 | V23: 1 | W23: 0 | X23: 1 | Y23: 1 | Z23: 1
B24: 13 | C24: Prevádzkové vplyvy | E24: 0% z [H+P+M] | F24: =((F16*U24*0)+(F17*V24*0)+(F18*W24*0))/100 -> 0 | G24: 18 | H24: Mimostavenisková doprava | I24: 0% z [H+P] | J24: =((F16*X24*0)+(F17*Y24*0)+(F18*Z24*0))/100 -> 0 | U24: 1 | V24: 1 | W24: 1 | X24: 1 | Y24: 1 | Z24: 0
B25: 14 | G25: 19
B26: 15 | G26: 20 | H26: Spolu | J26: =SUM(J22:J25)+SUM(F22:F25) -> 0
C27: Projektant,rozpočtár | G27: E | H27: Celkové náklady
G28: 21 | H28: Súčet riadkov 5,10,15,20 | J28: =F20+J20+F26+J26 -> 0
G29: 22 | H29: DPH 20% z | I29: =J28-SUM('SO 11892'!K9:'SO 11892'!K45) -> 0 | J29: =ROUND(((ROUND(I29,2)*20)*1/100),2) -> 0
G30: 23 | H30: DPH 0% z | I30: =SUM('SO 11892'!K9:'SO 11892'!K45) -> 0 | J30: =ROUND(((ROUND(I30,2)*0)/100),2) -> 0
G31: 24 | H31: Spolu | J31: =SUM(J28:J30) -> 0
G32: F
D33: Odberateľ | G33: 26 | H33: Dodávateľ

Sheet Rekap 11892
A1: Odberateľ: Mesto Vranov nad Topľou | D1: Spracoval: Ing. Ján Halgaš | W1: 30.126
A2: Projektant: | D2: Ks:
A3: Dodávateľ: | D3: Dátum: 26.04.2017
A4: Stavba Oprava komunikácií a chodníkov na území mesta Vranov nad Topľou
A5: Objekt 12 - Oprava chodníka pri SOU, ul. Bernolákova
A8: Prehľad rozpočtových nákladov
A9: Oddiel | B9: Montáž | C9: Materiál | D9: Spolu | E9: Hmotnosť (T) | F9: Suť (T)
A10: Práce HSV
A11: ZEMNÉ PRÁCE | B11: ='SO 11892'!L18 -> 0 | C11: ='SO 11892'!M18 -> 0 | D11: ='SO 11892'!I18 -> 0 | E11: ='SO 11892'!P18 -> 0 | F11: ='SO 11892'!S18 -> 97.29
A12: SPEVNENÉ PLOCHY | B12: ='SO 11892'!L23 -> 0 | C12: ='SO 11892'!M23 -> 0 | D12: ='SO 11892'!I23 -> 0 | E12: ='SO 11892'!P23 -> 56.14 | F12: ='SO 11892'!S23 -> 0
A13: POTRUBNÉ ROZVODY | B13: ='SO 11892'!L27 -> 0 | C13: ='SO 11892'!M27 -> 0 | D13: ='SO 11892'!I27 -> 0 | E13: ='SO 11892'!P27 -> 2.29 | F13: ='SO 11892'!S27 -> 0
A14: OSTATNÉ PRÁCE | B14: ='SO 11892'!L39 -> 0 | C14: ='SO 11892'!M39 -> 0 | D14: ='SO 11892'!I39 -> 0 | E14: ='SO 11892'!P39 -> 45.42 | F14: ='SO 11892'!S39 -> 0
A15: PRESUNY HMÔT | B15: ='SO 11892'!L43 -> 0 | C15: ='SO 11892'!M43 -> 0 | D15: ='SO 11892'!I43 -> 0 | E15: ='SO 11892'!P43 -> 0 | F15: ='SO 11892'!S43 -> 0
A16: Práce HSV | B16: ='SO 11892'!L45 -> 0 | C16: ='SO 11892'!M45 -> 0 | D16: ='SO 11892'!I45 -> 0 | E16: ='SO 11892'!P45 -> 103.85 | F16: ='SO 11892'!S45 -> 97.29
A18: Celkom | B18: ='SO 11892'!L46 -> 0 | C18: ='SO 11892'!M46 -> 0 | D18: ='SO 11892'!I46 -> 0 | E18: ='SO 11892'!P46 -> 103.85 | F18: ='SO 11892'!S46 -> 97.29

Sheet SO 11892
B1: Odberateľ: Mesto Vranov nad Topľou | E1: Spracoval: Ing. Ján Halgaš | W1: 30.126
B2: Projektant: | E2: Ks:
B3: Dodávateľ: | E3: Dátum: 26.04.2017
B4: Stavba Oprava komunikácií a chodníkov na území mesta Vranov nad Topľou
B5: Objekt 12 - Oprava chodníka pri SOU, ul. Bernolákova
B7: Prehľad rozpočtových nákladov
A8: Por.č. | B8: Cenník | C8: Kód položky | D8: Názov | E8: Mj | F8: Množstvo | G8: Cena/Mj | H8: Materiál | I8: Cena celkom | P8: Hmotnosť | S8: Suť
D9: Práce HSV
D10: ZEMNÉ PRÁCE
B11: 221/B 1 | C11: 113107242 | D11: Odstránenie podkladu alebo krytu asfaltového nad 200 m2,hr.nad 50 do 100 mm 0,181 t | E11: m2 | F11: 537.5 | J11: =ROUND(F11*(N11),2) -> 526.75 | K11: =ROUND(F11*(O11),2) -> 0 | L11: =ROUND(F11*(G11),2) -> 0 | N11: 0.98 | S11: =ROUND(F11*(X11),3) -> 97.288 | X11: 0.181 | Z11: 0
B12: 221/B 1 | C12: 113204111 | D12: Vytrhanie obrúb, s vybúraním lôžka, záhonových 0,040 t | E12: m | F12: 430 | J12: =ROUND(F12*(N12),2) -> 387 | K12: =ROUND(F12*(O12),2) -> 0 | L12: =ROUND(F12*(G12),2) -> 0 | N12: 0.9 | Z12: 0
B13: 1/A 1 | C13: 132301101 | D13: Výkop ryhy do šírky 600 mm v horn.4 do 100 m3 | E13: m3 | F13: 34.4 | J13: =ROUND(F13*(N13),2) -> 1437.92 | K13: =ROUND(F13*(O13),2) -> 0 | L13: =ROUND(F13*(G13),2) -> 0 | N13: 41.8 | Z13: 0
B14: 1/A 1 | C14: 162501102 | D14: Vodorovné premiestnenie výkopku tr.1-4 do 3000 m | E14: m3 | F14: 15.05 | J14: =ROUND(F14*(N14),2) -> 51.62 | K14: =ROUND(F14*(O14),2) -> 0 | L14: =ROUND(F14*(G14),2) -> 0 | N14: 3.43 | Z14: 0
B15: 1/A 1 | C15: 171201101 | D15: Uloženie sypaniny do násypov s rozprestretím sypaniny vo vrstvách a s hrubým urovnaním nezhutnených | E15: m3 | F15: 15.05 | J15: =ROUND(F15*(N15),2) -> 11.29 | K15: =ROUND(F15*(O15),2) -> 0 | L15: =ROUND(F15*(G15),2) -> 0 | N15: 0.75 | Z15: 0
B16: 231/A 2 | C16: 182001123 | D16: Plošná úprava terénu pri nerovnosti do 150 mm na svahu so sklonom do 1:1 | E16: m2 | F16: 86 | J16: =ROUND(F16*(N16),2) -> 207.26 | K16: =ROUND(F16*(O16),2) -> 0 | L16: =ROUND(F16*(G16),2) -> 0 | N16: 2.41 | Z16: 0
B17: 1/A 1 | C17: 174101001 | D17: Zásyp sypaninou so zhutnením jám, šachiet, rýh, zárezov alebo okolo objektov do 100 m3 | E17: m3 | F17: 19.35 | J17: =ROUND(F17*(N17),2) -> 48.96 | K17: =ROUND(F17*(O17),2) -> 0 | L17: =ROUND(F17*(G17),2) -> 0 | N17: 2.53 | Z17: 0
D18: ZEMNÉ PRÁCE | L18: =ROUND((SUM(L10:L17))/1,2) -> 0 | M18: =ROUND((SUM(M10:M17))/1,2) -> 0 | P18: =ROUND((SUM(P10:P17))/1,2) -> 0 | S18: =ROUND((SUM(S10:S17))/1,2) -> 97.29
D20: SPEVNENÉ PLOCHY
B21: 221/A 1 | C21: 573231111 | D21: Postrek asfaltový spojovací bez posypu kamenivom z cestnej emulzie v množstve od 0,50 do 0,80 kg/m2 | E21: m2 | F21: 537.5 | J21: =ROUND(F21*(N21),2) -> 118.25 | K21: =ROUND(F21*(O21),2) -> 0 | L21: =ROUND(F21*(G21),2) -> 0 | N21: 0.22 | P21: =ROUND(F21*(R21),3) -> 0.382 | R21: 0.00071 | Z21: 0
B22: 221/A 1 | C22: 577131211 | D22: Asfaltový betón stredozrný AC 11 - III obrus., STN EN 13108-1, po zhutnení hr. 40 mm | E22: m2 | F22: 537.5 | J22: =ROUND(F22*(N22),2) -> 3036.88 | K22: =ROUND(F22*(O22),2) -> 0 | L22: =ROUND(F22*(G22),2) -> 0 | N22: 5.65 | P22: =ROUND(F22*(R22),3) -> 55.76 | R22: 0.10374 | Z22: 0
D23: SPEVNENÉ PLOCHY | L23: =ROUND((SUM(L20:L22))/1,2) -> 0 | M23: =ROUND((SUM(M20:M22))/1,2) -> 0 | P23: =ROUND((SUM(P20:P22))/1,2) -> 56.14 | S23: =ROUND((SUM(S20:S22))/1,2) -> 0
D25: POTRUBNÉ ROZVODY
B26: 221/C 1 | C26: 899231111 | D26: Výšková úprava uličného vstupu alebo vpuste do 200 mm zvýšením mreže | E26: kus | F26: 5 | J26: =ROUND(F26*(N26),2) -> 274.85 | K26: =ROUND(F26*(O26),2) -> 0 | L26: =ROUND(F26*(G26),2) -> 0 | N26: 54.97 | P26: =ROUND(F26*(R26),3) -> 2.292 | R26: 0.4583713 | Z26: 0
D27: POTRUBNÉ ROZVODY | L27: =ROUND((SUM(L25:L26))/1,2) -> 0 | M27: =ROUND((SUM(M25:M26))/1,2) -> 0 | P27: =ROUND((SUM(P25:P26))/1,2) -> 2.29 | S27: =ROUND((SUM(S25:S26))/1,2) -> 0
D29: OSTATNÉ PRÁCE
B30: 1/A 1 | C30: 171209003 | D30: Poplatok za skládku z kategórie "N" - nebezpečný odpad | E30: t | F30: 97.2875 | J30: =ROUND(F30*(N30),2) -> 3990.73 | K30: =ROUND(F30*(O30),2) -> 0 | L30: =ROUND(F30*(G30),2) -> 0 | N30: 41.02 | Z30: 0
B31: 221/B 1 | C31: 979087213 | D31: Nakladanie na dopravné prostriedky pre vodorovnú dopravu vybúraných hmôt | E31: t | F31: 114.487 | J31: =ROUND(F31*(N31),2) -> 1790.58 | K31: =ROUND(F31*(O31),2) -> 0 | L31: =ROUND(F31*(G31),2) -> 0 | N31: 15.64 | Z31: 0
B32: 321/B 1 | C32: 979082319 | D32: Príplatok k cenám za každých ďalších aj začatých 1000 m | E32: t | F32: 1373.844 | J32: =ROUND(F32*(N32),2) -> 206.08 | K32: =ROUND(F32*(O32),2) -> 0 | L32: =ROUND(F32*(G32),2) -> 0 | N32: 0.15 | Z32: 0
B33: 321/B 1 | C33: 979082315 | D33: Vodorovná doprava sutiny a vybúraných hmôt bez naloženia ale so zložením do 3000 m | E33: t | F33: 114.487 | J33: =ROUND(F33*(N33),2) -> 340.03 | K33: =ROUND(F33*(O33),2) -> 0 | L33: =ROUND(F33*(G33),2) -> 0 | N33: 2.97 | Z33: 0
B34: 1/A 1 | C34: 171209002 | D34: Poplatok za skladovanie - ostatné | E34: t | F34: 17.2 | J34: =ROUND(F34*(N34),2) -> 195.91 | K34: =ROUND(F34*(O34),2) -> 0 | L34: =ROUND(F34*(G34),2) -> 0 | N34: 11.39 | Z34: 0
B35: 221/A 1 | C35: 916561111 | D35: Osadenie záhon. obrubníka betón., do lôžka z bet. pros. tr. C 10/12,5 s bočnou oporou | E35: m | F35: 430 | J35: =ROUND(F35*(N35),2) -> 1548 | K35: =ROUND(F35*(O35),2) -> 0 | L35: =ROUND(F35*(G35),2) -> 0 | N35: 3.6 | P35: =ROUND(F35*(R35),3) -> 45.416 | R35: 0.10561946 | Z35: 0
B36: P/P 1 | C36: 592029170010 | D36: PREMAC záhonový obrubník 100/20/5 cm farba sivá | E36: KUS | F36: 434.3 | J36: =ROUND(F36*(N36),2) -> 1037.98 | K36: =ROUND(F36*(O36),2) -> 0 | M36: =ROUND(F36*(H36),2) -> 0 | N36: 2.39 | Z36: 0
B37: 221/B 1 | C37: 919735112 | D37: Rezanie existujúceho asfaltového krytu alebo podkladu hľbky nad 50 do 100 mm | E37: m | F37: 5 | J37: =ROUND(F37*(N37),2) -> 26.55 | K37: =ROUND(F37*(O37),2) -> 0 | L37: =ROUND(F37*(G37),2) -> 0 | N37: 5.31 | P37: =ROUND(F37*(R37),3) -> 0 | R37: 3.36e-05 | Z37: 0
B38: 221/C 1 | C38: 938909311 | D38: Odstránenie blata, prachu alebo hlineného nánosu, z povrchu podkladu alebo krytu bet. alebo asfalt. | E38: m2 | F38: 537.5 | J38: =ROUND(F38*(N38),2) -> 10.75 | K38: =ROUND(F38*(O38),2) -> 0 | L38: =ROUND(F38*(G38),2) -> 0 | N38: 0.02 | Z38: 0
D39: OSTATNÉ PRÁCE | L39: =ROUND((SUM(L29:L38))/1,2) -> 0 | M39: =ROUND((SUM(M29:M38))/1,2) -> 0 | P39: =ROUND((SUM(P29:P38))/1,2) -> 45.42 | S39: =ROUND((SUM(S29:S38))/1,2) -> 0
D41: PRESUNY HMÔT
B42: 221/C 1 | C42: 998225311 | D42: Presun hmôt pre opravy a údržbu komunikácií a letísk s krytom asfaltovým alebo betónovým | E42: t | F42: 103.85027 | J42: =ROUND(F42*(N42),2) -> 81 | K42: =ROUND(F42*(O42),2) -> 0 | L42: =ROUND(F42*(G42),2) -> 0 | N42: 0.78 | Z42: 0
D43: PRESUNY HMÔT | L43: =ROUND((SUM(L41:L42))/1,2) -> 0 | M43: =ROUND((SUM(M41:M42))/1,2) -> 0 | P43: =ROUND((SUM(P41:P42))/1,2) -> 0 | S43: =ROUND((SUM(S41:S42))/1,2) -> 0
D45: Práce HSV | L45: =ROUND((SUM(L9:L44))/2,2) -> 0 | M45: =ROUND((SUM(M9:M44))/2,2) -> 0 | P45: =ROUND((SUM(P9:P44))/2,2) -> 103.85 | S45: =ROUND((SUM(S9:S44))/2,2) -> 97.29
B46: 12 - Oprava chodníka pri SOU, ul. Bernolákova | F46: Celkom | K46: =ROUND((SUM(K9:K45)),2) -> 0 | L46: =ROUND((SUM(L9:L45))/3,2) -> 0 | M46: =ROUND((SUM(M9:M45))/3,2) -> 0 | P46: =ROUND((SUM(P9:P45))/3,2) -> 103.85 | S46: =ROUND((SUM(S9:S45))/3,2) -> 97.29 | Z46: =(SUM(Z9:Z45)) -> 0
